



BEGIN:VCALENDAR
VERSION:2.0
PRODID:-//Temple Emanuel Beverly Hills - ECPv6.15.12.2//NONSGML v1.0//EN
CALSCALE:GREGORIAN
METHOD:PUBLISH
X-WR-CALNAME:Temple Emanuel Beverly Hills
X-ORIGINAL-URL:https://tebh.org
X-WR-CALDESC:Events for Temple Emanuel Beverly Hills
REFRESH-INTERVAL;VALUE=DURATION:PT1H
X-Robots-Tag:noindex
X-PUBLISHED-TTL:PT1H
BEGIN:VTIMEZONE
TZID:America/Los_Angeles
BEGIN:DAYLIGHT
TZOFFSETFROM:-0800
TZOFFSETTO:-0700
TZNAME:PDT
DTSTART:20240310T100000
END:DAYLIGHT
BEGIN:STANDARD
TZOFFSETFROM:-0700
TZOFFSETTO:-0800
TZNAME:PST
DTSTART:20241103T090000
END:STANDARD
BEGIN:DAYLIGHT
TZOFFSETFROM:-0800
TZOFFSETTO:-0700
TZNAME:PDT
DTSTART:20250309T100000
END:DAYLIGHT
BEGIN:STANDARD
TZOFFSETFROM:-0700
TZOFFSETTO:-0800
TZNAME:PST
DTSTART:20251102T090000
END:STANDARD
BEGIN:DAYLIGHT
TZOFFSETFROM:-0800
TZOFFSETTO:-0700
TZNAME:PDT
DTSTART:20260308T100000
END:DAYLIGHT
BEGIN:STANDARD
TZOFFSETFROM:-0700
TZOFFSETTO:-0800
TZNAME:PST
DTSTART:20261101T090000
END:STANDARD
END:VTIMEZONE
BEGIN:VEVENT
DTSTART;TZID=America/Los_Angeles:20250308T100000
DTEND;TZID=America/Los_Angeles:20250308T110000
DTSTAMP:20260423T042318
CREATED:20241212T011128Z
LAST-MODIFIED:20250308T014230Z
UID:10007325-1741428000-1741431600@tebh.org
SUMMARY:Bim Bam Family Fun
DESCRIPTION:
URL:https://tebh.org/event/bim-bam-family-fun-47/
CATEGORIES:Family Center
END:VEVENT
BEGIN:VEVENT
DTSTART;TZID=America/Los_Angeles:20250314T100000
DTEND;TZID=America/Los_Angeles:20250314T104500
DTSTAMP:20260423T042318
CREATED:20240811T194202Z
LAST-MODIFIED:20250314T021229Z
UID:10007105-1741946400-1741949100@tebh.org
SUMMARY:Tiny Tot Shabbat
DESCRIPTION:Reserve your spot at tebh.org/familycenter
URL:https://tebh.org/event/tiny-tot-shabbat-6/
CATEGORIES:Family Center
END:VEVENT
BEGIN:VEVENT
DTSTART;TZID=America/Los_Angeles:20250322T100000
DTEND;TZID=America/Los_Angeles:20250322T110000
DTSTAMP:20260423T042318
CREATED:20241212T011128Z
LAST-MODIFIED:20250322T032739Z
UID:10007326-1742637600-1742641200@tebh.org
SUMMARY:Bim Bam Family Fun
DESCRIPTION:
URL:https://tebh.org/event/bim-bam-family-fun-48/
CATEGORIES:Family Center
END:VEVENT
BEGIN:VEVENT
DTSTART;TZID=America/Los_Angeles:20250329T100000
DTEND;TZID=America/Los_Angeles:20250329T113000
DTSTAMP:20260423T042318
CREATED:20250108T025619Z
LAST-MODIFIED:20250329T041232Z
UID:10007413-1743242400-1743247800@tebh.org
SUMMARY:Shabbat in the Yard
DESCRIPTION:RSVP at tebh.org/shabbatintheyard
URL:https://tebh.org/event/shabbat-in-the-yard-3/
CATEGORIES:Family Center
END:VEVENT
END:VCALENDAR