



BEGIN:VCALENDAR
VERSION:2.0
PRODID:-//Temple Emanuel Beverly Hills - ECPv6.15.12.2//NONSGML v1.0//EN
CALSCALE:GREGORIAN
METHOD:PUBLISH
X-WR-CALNAME:Temple Emanuel Beverly Hills
X-ORIGINAL-URL:https://tebh.org
X-WR-CALDESC:Events for Temple Emanuel Beverly Hills
REFRESH-INTERVAL;VALUE=DURATION:PT1H
X-Robots-Tag:noindex
X-PUBLISHED-TTL:PT1H
BEGIN:VTIMEZONE
TZID:America/Los_Angeles
BEGIN:DAYLIGHT
TZOFFSETFROM:-0800
TZOFFSETTO:-0700
TZNAME:PDT
DTSTART:20250309T100000
END:DAYLIGHT
BEGIN:STANDARD
TZOFFSETFROM:-0700
TZOFFSETTO:-0800
TZNAME:PST
DTSTART:20251102T090000
END:STANDARD
BEGIN:DAYLIGHT
TZOFFSETFROM:-0800
TZOFFSETTO:-0700
TZNAME:PDT
DTSTART:20260308T100000
END:DAYLIGHT
BEGIN:STANDARD
TZOFFSETFROM:-0700
TZOFFSETTO:-0800
TZNAME:PST
DTSTART:20261101T090000
END:STANDARD
BEGIN:DAYLIGHT
TZOFFSETFROM:-0800
TZOFFSETTO:-0700
TZNAME:PDT
DTSTART:20270314T100000
END:DAYLIGHT
BEGIN:STANDARD
TZOFFSETFROM:-0700
TZOFFSETTO:-0800
TZNAME:PST
DTSTART:20271107T090000
END:STANDARD
END:VTIMEZONE
BEGIN:VEVENT
DTSTART;TZID=America/Los_Angeles:20260606T100000
DTEND;TZID=America/Los_Angeles:20260606T110000
DTSTAMP:20260422T040117
CREATED:20250812T061234Z
LAST-MODIFIED:20251112T181624Z
UID:10008049-1780740000-1780743600@tebh.org
SUMMARY:Bim Bam Family Fun
DESCRIPTION:Prepare for a unique educational adventure with Temple Emanuel’s Bim Bam Family Fun class. Taught on Saturdays at 10 a.m. by longtime ECC teacher Robin Platt\, BBFF provides a unique learning experience that gives children ages two and under the proper developmental skills that they need and keeps your child entertained and learning in a safe and enriching environment. As its name suggests\, Bim Bam Family Fun is an all-inclusive family class for you and your child\, so be prepared to dance\, sing\, and laugh together! Together\, you’ll embark on a journey of discovery\, unlocking the doors to their developing minds while creating cherished moments. \nREGISTER AT TEBH.ORG/BIMBAMFAMILYFUN
URL:https://tebh.org/event/bim-bam-family-fun-58/2026-06-06/
LOCATION:300 N Clark Dr\, Beverly Hills\, CA\, United States
CATEGORIES:Family Center
GEO:34.064958;-118.382979
END:VEVENT
BEGIN:VEVENT
DTSTART;TZID=America/Los_Angeles:20260610T091500
DTEND;TZID=America/Los_Angeles:20260610T103000
DTSTAMP:20260422T040117
CREATED:20260130T212646Z
LAST-MODIFIED:20260130T212656Z
UID:10015312-1781082900-1781087400@tebh.org
SUMMARY:Parent and Me
DESCRIPTION:Join us for a warm and supportive weekly class designed for parents and their toddlers (ages 12–24 months). Led by licensed marriage and family therapist Emily Glickman\, LMFT\, this program creates a nurturing space for families to explore child development and build meaningful connections with other parents. \nFor more information and RSVP\, Click Here. 
URL:https://tebh.org/event/parent-and-me/
CATEGORIES:Family Center
END:VEVENT
BEGIN:VEVENT
DTSTART;TZID=America/Los_Angeles:20260612T100000
DTEND;TZID=America/Los_Angeles:20260612T110000
DTSTAMP:20260422T040117
CREATED:20251010T183641Z
LAST-MODIFIED:20251231T210417Z
UID:10011305-1781258400-1781262000@tebh.org
SUMMARY:Tiny Tot Shabbat
DESCRIPTION:Join Temple Emanuel clergy on the second Friday of the month for a fun and interactive Shabbat experience\, filled with music and prayers.
URL:https://tebh.org/event/tiny-tot-shabbat-9/2026-06-12/
CATEGORIES:Family Center
END:VEVENT
BEGIN:VEVENT
DTSTART;TZID=America/Los_Angeles:20260613T100000
DTEND;TZID=America/Los_Angeles:20260613T110000
DTSTAMP:20260422T040117
CREATED:20250812T061234Z
LAST-MODIFIED:20251112T181624Z
UID:10008050-1781344800-1781348400@tebh.org
SUMMARY:Bim Bam Family Fun
DESCRIPTION:Prepare for a unique educational adventure with Temple Emanuel’s Bim Bam Family Fun class. Taught on Saturdays at 10 a.m. by longtime ECC teacher Robin Platt\, BBFF provides a unique learning experience that gives children ages two and under the proper developmental skills that they need and keeps your child entertained and learning in a safe and enriching environment. As its name suggests\, Bim Bam Family Fun is an all-inclusive family class for you and your child\, so be prepared to dance\, sing\, and laugh together! Together\, you’ll embark on a journey of discovery\, unlocking the doors to their developing minds while creating cherished moments. \nREGISTER AT TEBH.ORG/BIMBAMFAMILYFUN
URL:https://tebh.org/event/bim-bam-family-fun-58/2026-06-13/
LOCATION:300 N Clark Dr\, Beverly Hills\, CA\, United States
CATEGORIES:Family Center
GEO:34.064958;-118.382979
END:VEVENT
END:VCALENDAR