



BEGIN:VCALENDAR
VERSION:2.0
PRODID:-//Temple Emanuel Beverly Hills - ECPv6.15.12.2//NONSGML v1.0//EN
CALSCALE:GREGORIAN
METHOD:PUBLISH
X-ORIGINAL-URL:https://tebh.org
X-WR-CALDESC:Events for Temple Emanuel Beverly Hills
REFRESH-INTERVAL;VALUE=DURATION:PT1H
X-Robots-Tag:noindex
X-PUBLISHED-TTL:PT1H
BEGIN:VTIMEZONE
TZID:America/Los_Angeles
BEGIN:DAYLIGHT
TZOFFSETFROM:-0800
TZOFFSETTO:-0700
TZNAME:PDT
DTSTART:20230312T100000
END:DAYLIGHT
BEGIN:STANDARD
TZOFFSETFROM:-0700
TZOFFSETTO:-0800
TZNAME:PST
DTSTART:20231105T090000
END:STANDARD
BEGIN:DAYLIGHT
TZOFFSETFROM:-0800
TZOFFSETTO:-0700
TZNAME:PDT
DTSTART:20240310T100000
END:DAYLIGHT
BEGIN:STANDARD
TZOFFSETFROM:-0700
TZOFFSETTO:-0800
TZNAME:PST
DTSTART:20241103T090000
END:STANDARD
BEGIN:DAYLIGHT
TZOFFSETFROM:-0800
TZOFFSETTO:-0700
TZNAME:PDT
DTSTART:20250309T100000
END:DAYLIGHT
BEGIN:STANDARD
TZOFFSETFROM:-0700
TZOFFSETTO:-0800
TZNAME:PST
DTSTART:20251102T090000
END:STANDARD
BEGIN:DAYLIGHT
TZOFFSETFROM:-0800
TZOFFSETTO:-0700
TZNAME:PDT
DTSTART:20260308T100000
END:DAYLIGHT
BEGIN:STANDARD
TZOFFSETFROM:-0700
TZOFFSETTO:-0800
TZNAME:PST
DTSTART:20261101T090000
END:STANDARD
BEGIN:DAYLIGHT
TZOFFSETFROM:-0800
TZOFFSETTO:-0700
TZNAME:PDT
DTSTART:20270314T100000
END:DAYLIGHT
BEGIN:STANDARD
TZOFFSETFROM:-0700
TZOFFSETTO:-0800
TZNAME:PST
DTSTART:20271107T090000
END:STANDARD
END:VTIMEZONE
BEGIN:VEVENT
DTSTART;TZID=America/Los_Angeles:20260411T100000
DTEND;TZID=America/Los_Angeles:20260411T110000
DTSTAMP:20260422T035908
CREATED:20250812T061234Z
LAST-MODIFIED:20251112T181624Z
UID:10008046-1775901600-1775905200@tebh.org
SUMMARY:Bim Bam Family Fun
DESCRIPTION:Prepare for a unique educational adventure with Temple Emanuel’s Bim Bam Family Fun class. Taught on Saturdays at 10 a.m. by longtime ECC teacher Robin Platt\, BBFF provides a unique learning experience that gives children ages two and under the proper developmental skills that they need and keeps your child entertained and learning in a safe and enriching environment. As its name suggests\, Bim Bam Family Fun is an all-inclusive family class for you and your child\, so be prepared to dance\, sing\, and laugh together! Together\, you’ll embark on a journey of discovery\, unlocking the doors to their developing minds while creating cherished moments. \nREGISTER AT TEBH.ORG/BIMBAMFAMILYFUN
URL:https://tebh.org/event/bim-bam-family-fun-58/2026-04-11/
LOCATION:300 N Clark Dr\, Beverly Hills\, CA\, United States
CATEGORIES:Family Center
GEO:34.064958;-118.382979
END:VEVENT
BEGIN:VEVENT
DTSTART;TZID=America/Los_Angeles:20260313T100000
DTEND;TZID=America/Los_Angeles:20260313T110000
DTSTAMP:20260422T035908
CREATED:20251010T183641Z
LAST-MODIFIED:20251231T210417Z
UID:10011302-1773396000-1773399600@tebh.org
SUMMARY:Tiny Tot Shabbat
DESCRIPTION:Join Temple Emanuel clergy on the second Friday of the month for a fun and interactive Shabbat experience\, filled with music and prayers.
URL:https://tebh.org/event/tiny-tot-shabbat-9/2026-03-13/
CATEGORIES:Family Center
END:VEVENT
BEGIN:VEVENT
DTSTART;TZID=America/Los_Angeles:20260307T100000
DTEND;TZID=America/Los_Angeles:20260307T113000
DTSTAMP:20260422T035908
CREATED:20250812T063137Z
LAST-MODIFIED:20250812T063137Z
UID:10008054-1772877600-1772883000@tebh.org
SUMMARY:Shabbat in the Yard
DESCRIPTION:Temple Emanuel clergy and special guest Jason Mesches look forward to welcoming you to Shabbat in the Yard which blends Shabbat with story and music to create a fun-filled and enriching experience for families \nREGISTER AT TEBH.ORG/SHABBATINTHEYARD\n 
URL:https://tebh.org/event/shabbat-in-the-yard-5/2026-03-07/
CATEGORIES:Early Childhood Center,Family Center,Shabbat Services
END:VEVENT
BEGIN:VEVENT
DTSTART;TZID=America/Los_Angeles:20251002T130000
DTEND;TZID=America/Los_Angeles:20251002T153000
DTSTAMP:20260422T035908
CREATED:20251012T173443Z
LAST-MODIFIED:20251012T173822Z
UID:10011319-1759410000-1759419000@tebh.org
SUMMARY:TEMTY's Fall Program
DESCRIPTION:
URL:https://tebh.org/event/temtys-fall-program/
CATEGORIES:Family Center
END:VEVENT
BEGIN:VEVENT
DTSTART;TZID=America/Los_Angeles:20250531T100000
DTEND;TZID=America/Los_Angeles:20250531T110000
DTSTAMP:20260422T035908
CREATED:20250307T011232Z
LAST-MODIFIED:20250508T052730Z
UID:10007533-1748685600-1748689200@tebh.org
SUMMARY:Bim Bam Family Fun
DESCRIPTION:
URL:https://tebh.org/event/bim-bam-family-fun-54/
CATEGORIES:Family Center
END:VEVENT
BEGIN:VEVENT
DTSTART;TZID=America/Los_Angeles:20250517T100000
DTEND;TZID=America/Los_Angeles:20250517T113000
DTSTAMP:20260422T035908
CREATED:20250205T035631Z
LAST-MODIFIED:20250519T194407Z
UID:10007474-1747476000-1747481400@tebh.org
SUMMARY:Shabbat in the Yard
DESCRIPTION:
URL:https://tebh.org/event/shabbat-in-the-yard-4/
CATEGORIES:Family Center
END:VEVENT
BEGIN:VEVENT
DTSTART;TZID=America/Los_Angeles:20250509T100000
DTEND;TZID=America/Los_Angeles:20250509T104500
DTSTAMP:20260422T035908
CREATED:20240811T194203Z
LAST-MODIFIED:20250508T052730Z
UID:10007107-1746784800-1746787500@tebh.org
SUMMARY:Tiny Tot Shabbat
DESCRIPTION:Reserve your spot at tebh.org/familycenter
URL:https://tebh.org/event/tiny-tot-shabbat-8/
CATEGORIES:Family Center
END:VEVENT
BEGIN:VEVENT
DTSTART;TZID=America/Los_Angeles:20250503T100000
DTEND;TZID=America/Los_Angeles:20250503T110000
DTSTAMP:20260422T035908
CREATED:20241212T011128Z
LAST-MODIFIED:20250503T051229Z
UID:10007329-1746266400-1746270000@tebh.org
SUMMARY:Bim Bam Family Fun
DESCRIPTION:https://tebh.org/bim-bam-family-fun/
URL:https://tebh.org/event/bim-bam-family-fun-51/
CATEGORIES:Family Center
END:VEVENT
BEGIN:VEVENT
DTSTART;TZID=America/Los_Angeles:20250419T100000
DTEND;TZID=America/Los_Angeles:20250419T110000
DTSTAMP:20260422T035908
CREATED:20241212T011128Z
LAST-MODIFIED:20250419T045740Z
UID:10007328-1745056800-1745060400@tebh.org
SUMMARY:Bim Bam Family Fun
DESCRIPTION:
URL:https://tebh.org/event/bim-bam-family-fun-50/
CATEGORIES:Family Center
END:VEVENT
BEGIN:VEVENT
DTSTART;TZID=America/Los_Angeles:20250411T100000
DTEND;TZID=America/Los_Angeles:20250411T104500
DTSTAMP:20260422T035908
CREATED:20240811T194203Z
LAST-MODIFIED:20250411T045732Z
UID:10007106-1744365600-1744368300@tebh.org
SUMMARY:Tiny Tot Shabbat
DESCRIPTION:Reserve your spot at tebh.org/familycenter
URL:https://tebh.org/event/tiny-tot-shabbat-7/
CATEGORIES:Family Center
END:VEVENT
BEGIN:VEVENT
DTSTART;TZID=America/Los_Angeles:20250405T100000
DTEND;TZID=America/Los_Angeles:20250405T110000
DTSTAMP:20260422T035908
CREATED:20241212T011128Z
LAST-MODIFIED:20250405T042732Z
UID:10007327-1743847200-1743850800@tebh.org
SUMMARY:Bim Bam Family Fun
DESCRIPTION:
URL:https://tebh.org/event/bim-bam-family-fun-49/
CATEGORIES:Family Center
END:VEVENT
BEGIN:VEVENT
DTSTART;TZID=America/Los_Angeles:20250329T100000
DTEND;TZID=America/Los_Angeles:20250329T113000
DTSTAMP:20260422T035908
CREATED:20250108T025619Z
LAST-MODIFIED:20250329T041232Z
UID:10007413-1743242400-1743247800@tebh.org
SUMMARY:Shabbat in the Yard
DESCRIPTION:RSVP at tebh.org/shabbatintheyard
URL:https://tebh.org/event/shabbat-in-the-yard-3/
CATEGORIES:Family Center
END:VEVENT
BEGIN:VEVENT
DTSTART;TZID=America/Los_Angeles:20250322T100000
DTEND;TZID=America/Los_Angeles:20250322T110000
DTSTAMP:20260422T035908
CREATED:20241212T011128Z
LAST-MODIFIED:20250322T032739Z
UID:10007326-1742637600-1742641200@tebh.org
SUMMARY:Bim Bam Family Fun
DESCRIPTION:
URL:https://tebh.org/event/bim-bam-family-fun-48/
CATEGORIES:Family Center
END:VEVENT
BEGIN:VEVENT
DTSTART;TZID=America/Los_Angeles:20250314T100000
DTEND;TZID=America/Los_Angeles:20250314T104500
DTSTAMP:20260422T035908
CREATED:20240811T194202Z
LAST-MODIFIED:20250314T021229Z
UID:10007105-1741946400-1741949100@tebh.org
SUMMARY:Tiny Tot Shabbat
DESCRIPTION:Reserve your spot at tebh.org/familycenter
URL:https://tebh.org/event/tiny-tot-shabbat-6/
CATEGORIES:Family Center
END:VEVENT
BEGIN:VEVENT
DTSTART;TZID=America/Los_Angeles:20250308T100000
DTEND;TZID=America/Los_Angeles:20250308T110000
DTSTAMP:20260422T035908
CREATED:20241212T011128Z
LAST-MODIFIED:20250308T014230Z
UID:10007325-1741428000-1741431600@tebh.org
SUMMARY:Bim Bam Family Fun
DESCRIPTION:
URL:https://tebh.org/event/bim-bam-family-fun-47/
CATEGORIES:Family Center
END:VEVENT
BEGIN:VEVENT
DTSTART;TZID=America/Los_Angeles:20250222T100000
DTEND;TZID=America/Los_Angeles:20250222T110000
DTSTAMP:20260422T035908
CREATED:20241212T011128Z
LAST-MODIFIED:20250222T042631Z
UID:10007324-1740218400-1740222000@tebh.org
SUMMARY:Bim Bam Family Fun
DESCRIPTION:
URL:https://tebh.org/event/bim-bam-family-fun-46/
CATEGORIES:Family Center
END:VEVENT
BEGIN:VEVENT
DTSTART;TZID=America/Los_Angeles:20250214T100000
DTEND;TZID=America/Los_Angeles:20250214T104500
DTSTAMP:20260422T035908
CREATED:20240811T194202Z
LAST-MODIFIED:20250214T041143Z
UID:10007104-1739527200-1739529900@tebh.org
SUMMARY:Tiny Tot Shabbat
DESCRIPTION:Reserve your spot at tebh.org/familycenter
URL:https://tebh.org/event/tiny-tot-shabbat-5/
CATEGORIES:Family Center
END:VEVENT
BEGIN:VEVENT
DTSTART;TZID=America/Los_Angeles:20250208T100000
DTEND;TZID=America/Los_Angeles:20250208T110000
DTSTAMP:20260422T035908
CREATED:20241212T011127Z
LAST-MODIFIED:20250208T041120Z
UID:10007323-1739008800-1739012400@tebh.org
SUMMARY:Bim Bam Family Fun
DESCRIPTION:
URL:https://tebh.org/event/bim-bam-family-fun-45/
CATEGORIES:Family Center
END:VEVENT
BEGIN:VEVENT
DTSTART;TZID=America/Los_Angeles:20250201T100000
DTEND;TZID=America/Los_Angeles:20250201T113000
DTSTAMP:20260422T035908
CREATED:20241113T231141Z
LAST-MODIFIED:20250201T035627Z
UID:10007263-1738404000-1738409400@tebh.org
SUMMARY:Shabbat in the Yard
DESCRIPTION:Join us for a fun and musical morning with Jason Mesches and Rabbi Liora Alban. \nRSVP at tebh.org/shabbatintheyard
URL:https://tebh.org/event/shabbat-in-the-yard-2/
CATEGORIES:Family Center
END:VEVENT
BEGIN:VEVENT
DTSTART;TZID=America/Los_Angeles:20250125T100000
DTEND;TZID=America/Los_Angeles:20250125T110000
DTSTAMP:20260422T035908
CREATED:20250108T025619Z
LAST-MODIFIED:20250125T034124Z
UID:10007412-1737799200-1737802800@tebh.org
SUMMARY:Bim Bam Family Fun
DESCRIPTION:RSVP at tebh.org/bimbamfamilyfun
URL:https://tebh.org/event/bim-bam-family-fun-53/
CATEGORIES:Family Center
END:VEVENT
BEGIN:VEVENT
DTSTART;TZID=America/Los_Angeles:20250110T100000
DTEND;TZID=America/Los_Angeles:20250110T104500
DTSTAMP:20260422T035908
CREATED:20240811T194202Z
LAST-MODIFIED:20250110T031140Z
UID:10007103-1736503200-1736505900@tebh.org
SUMMARY:Tiny Tot Shabbat
DESCRIPTION:Reserve your spot at tebh.org/familycenter
URL:https://tebh.org/event/tiny-tot-shabbat-4/
CATEGORIES:Family Center
END:VEVENT
BEGIN:VEVENT
DTSTART;TZID=America/Los_Angeles:20241214T100000
DTEND;TZID=America/Los_Angeles:20241214T113000
DTSTAMP:20260422T035908
CREATED:20241113T231141Z
LAST-MODIFIED:20241214T011124Z
UID:10007262-1734170400-1734175800@tebh.org
SUMMARY:Shabbat in the Yard
DESCRIPTION:Rabbi Alban and Jason Mesches are excited to welcome you on December 14 for a lively morning of Shabbat stories and music. Join us for this fun-filled and enriching experience for families. Meet us in Belle Chapel before heading to our ECC Yard.\nRSVP @tebh.org/shabbatintheyard
URL:https://tebh.org/event/shabbat-in-the-yard/
CATEGORIES:Family Center
END:VEVENT
BEGIN:VEVENT
DTSTART;TZID=America/Los_Angeles:20241213T100000
DTEND;TZID=America/Los_Angeles:20241213T104500
DTSTAMP:20260422T035908
CREATED:20240811T194202Z
LAST-MODIFIED:20241213T011123Z
UID:10007102-1734084000-1734086700@tebh.org
SUMMARY:Tiny Tot Shabbat
DESCRIPTION:Reserve your spot at tebh.org/familycenter
URL:https://tebh.org/event/tiny-tot-shabbat-3/
CATEGORIES:Family Center
END:VEVENT
BEGIN:VEVENT
DTSTART;TZID=America/Los_Angeles:20241207T100000
DTEND;TZID=America/Los_Angeles:20241207T110000
DTSTAMP:20260422T035908
CREATED:20240918T205739Z
LAST-MODIFIED:20241207T005627Z
UID:10007113-1733565600-1733569200@tebh.org
SUMMARY:Bim Bam Family Fun
DESCRIPTION:
URL:https://tebh.org/event/bim-bam-family-fun-44/
CATEGORIES:Family Center
END:VEVENT
BEGIN:VEVENT
DTSTART;TZID=America/Los_Angeles:20241123T100000
DTEND;TZID=America/Los_Angeles:20241123T110000
DTSTAMP:20260422T035908
CREATED:20240918T205739Z
LAST-MODIFIED:20241123T001123Z
UID:10007112-1732356000-1732359600@tebh.org
SUMMARY:Bim Bam Family Fun
DESCRIPTION:
URL:https://tebh.org/event/bim-bam-family-fun-43/
CATEGORIES:Family Center
END:VEVENT
BEGIN:VEVENT
DTSTART;TZID=America/Los_Angeles:20241116T100000
DTEND;TZID=America/Los_Angeles:20241116T110000
DTSTAMP:20260422T035908
CREATED:20240918T205739Z
LAST-MODIFIED:20241115T232629Z
UID:10007111-1731751200-1731754800@tebh.org
SUMMARY:Bim Bam Family Fun
DESCRIPTION:
URL:https://tebh.org/event/bim-bam-family-fun-42/
CATEGORIES:Family Center
END:VEVENT
BEGIN:VEVENT
DTSTART;TZID=America/Los_Angeles:20241109T100000
DTEND;TZID=America/Los_Angeles:20241109T110000
DTSTAMP:20260422T035908
CREATED:20240918T205739Z
LAST-MODIFIED:20241106T231125Z
UID:10007110-1731146400-1731150000@tebh.org
SUMMARY:Bim Bam Family Fun
DESCRIPTION:
URL:https://tebh.org/event/bim-bam-family-fun-41/
CATEGORIES:Family Center
END:VEVENT
BEGIN:VEVENT
DTSTART;TZID=America/Los_Angeles:20241108T100000
DTEND;TZID=America/Los_Angeles:20241108T104500
DTSTAMP:20260422T035908
CREATED:20240811T194202Z
LAST-MODIFIED:20241106T231124Z
UID:10007101-1731060000-1731062700@tebh.org
SUMMARY:Tiny Tot Shabbat
DESCRIPTION:Reserve your spot at tebh.org/familycenter
URL:https://tebh.org/event/tiny-tot-shabbat-2/
CATEGORIES:Family Center
END:VEVENT
BEGIN:VEVENT
DTSTART;TZID=America/Los_Angeles:20241026T100000
DTEND;TZID=America/Los_Angeles:20241026T110000
DTSTAMP:20260422T035908
CREATED:20240918T205738Z
LAST-MODIFIED:20241025T222654Z
UID:10007109-1729936800-1729940400@tebh.org
SUMMARY:Bim Bam Family Fun
DESCRIPTION:
URL:https://tebh.org/event/bim-bam-family-fun-40/
CATEGORIES:Family Center
END:VEVENT
BEGIN:VEVENT
DTSTART;TZID=America/Los_Angeles:20240913T100000
DTEND;TZID=America/Los_Angeles:20240913T104500
DTSTAMP:20260422T035908
CREATED:20240811T194202Z
LAST-MODIFIED:20240912T205630Z
UID:10007100-1726221600-1726224300@tebh.org
SUMMARY:Tiny Tot Shabbat
DESCRIPTION:Reserve your spot at tebh.org/familycenter
URL:https://tebh.org/event/tiny-tot-shabbat/
CATEGORIES:Family Center
END:VEVENT
END:VCALENDAR