



BEGIN:VCALENDAR
VERSION:2.0
PRODID:-//Temple Emanuel Beverly Hills - ECPv6.15.12.2//NONSGML v1.0//EN
CALSCALE:GREGORIAN
METHOD:PUBLISH
X-ORIGINAL-URL:https://tebh.org
X-WR-CALDESC:Events for Temple Emanuel Beverly Hills
REFRESH-INTERVAL;VALUE=DURATION:PT1H
X-Robots-Tag:noindex
X-PUBLISHED-TTL:PT1H
BEGIN:VTIMEZONE
TZID:America/Los_Angeles
BEGIN:DAYLIGHT
TZOFFSETFROM:-0800
TZOFFSETTO:-0700
TZNAME:PDT
DTSTART:20220313T100000
END:DAYLIGHT
BEGIN:STANDARD
TZOFFSETFROM:-0700
TZOFFSETTO:-0800
TZNAME:PST
DTSTART:20221106T090000
END:STANDARD
BEGIN:DAYLIGHT
TZOFFSETFROM:-0800
TZOFFSETTO:-0700
TZNAME:PDT
DTSTART:20230312T100000
END:DAYLIGHT
BEGIN:STANDARD
TZOFFSETFROM:-0700
TZOFFSETTO:-0800
TZNAME:PST
DTSTART:20231105T090000
END:STANDARD
BEGIN:DAYLIGHT
TZOFFSETFROM:-0800
TZOFFSETTO:-0700
TZNAME:PDT
DTSTART:20240310T100000
END:DAYLIGHT
BEGIN:STANDARD
TZOFFSETFROM:-0700
TZOFFSETTO:-0800
TZNAME:PST
DTSTART:20241103T090000
END:STANDARD
BEGIN:DAYLIGHT
TZOFFSETFROM:-0800
TZOFFSETTO:-0700
TZNAME:PDT
DTSTART:20250309T100000
END:DAYLIGHT
BEGIN:STANDARD
TZOFFSETFROM:-0700
TZOFFSETTO:-0800
TZNAME:PST
DTSTART:20251102T090000
END:STANDARD
BEGIN:DAYLIGHT
TZOFFSETFROM:-0800
TZOFFSETTO:-0700
TZNAME:PDT
DTSTART:20260308T100000
END:DAYLIGHT
BEGIN:STANDARD
TZOFFSETFROM:-0700
TZOFFSETTO:-0800
TZNAME:PST
DTSTART:20261101T090000
END:STANDARD
END:VTIMEZONE
BEGIN:VEVENT
DTSTART;TZID=America/Los_Angeles:20250110T100000
DTEND;TZID=America/Los_Angeles:20250110T104500
DTSTAMP:20260424T044305
CREATED:20240811T194202Z
LAST-MODIFIED:20250110T031140Z
UID:10007103-1736503200-1736505900@tebh.org
SUMMARY:Tiny Tot Shabbat
DESCRIPTION:Reserve your spot at tebh.org/familycenter
URL:https://tebh.org/event/tiny-tot-shabbat-4/
LOCATION:CA
CATEGORIES:Family Center
END:VEVENT
BEGIN:VEVENT
DTSTART;TZID=America/Los_Angeles:20241214T100000
DTEND;TZID=America/Los_Angeles:20241214T113000
DTSTAMP:20260424T044305
CREATED:20241113T231141Z
LAST-MODIFIED:20241214T011124Z
UID:10007262-1734170400-1734175800@tebh.org
SUMMARY:Shabbat in the Yard
DESCRIPTION:Rabbi Alban and Jason Mesches are excited to welcome you on December 14 for a lively morning of Shabbat stories and music. Join us for this fun-filled and enriching experience for families. Meet us in Belle Chapel before heading to our ECC Yard.\nRSVP @tebh.org/shabbatintheyard
URL:https://tebh.org/event/shabbat-in-the-yard/
LOCATION:CA
CATEGORIES:Family Center
END:VEVENT
BEGIN:VEVENT
DTSTART;TZID=America/Los_Angeles:20241213T100000
DTEND;TZID=America/Los_Angeles:20241213T104500
DTSTAMP:20260424T044305
CREATED:20240811T194202Z
LAST-MODIFIED:20241213T011123Z
UID:10007102-1734084000-1734086700@tebh.org
SUMMARY:Tiny Tot Shabbat
DESCRIPTION:Reserve your spot at tebh.org/familycenter
URL:https://tebh.org/event/tiny-tot-shabbat-3/
LOCATION:CA
CATEGORIES:Family Center
END:VEVENT
BEGIN:VEVENT
DTSTART;TZID=America/Los_Angeles:20241207T100000
DTEND;TZID=America/Los_Angeles:20241207T110000
DTSTAMP:20260424T044305
CREATED:20240918T205739Z
LAST-MODIFIED:20241207T005627Z
UID:10007113-1733565600-1733569200@tebh.org
SUMMARY:Bim Bam Family Fun
DESCRIPTION:
URL:https://tebh.org/event/bim-bam-family-fun-44/
LOCATION:CA
CATEGORIES:Family Center
END:VEVENT
BEGIN:VEVENT
DTSTART;TZID=America/Los_Angeles:20241123T100000
DTEND;TZID=America/Los_Angeles:20241123T110000
DTSTAMP:20260424T044305
CREATED:20240918T205739Z
LAST-MODIFIED:20241123T001123Z
UID:10007112-1732356000-1732359600@tebh.org
SUMMARY:Bim Bam Family Fun
DESCRIPTION:
URL:https://tebh.org/event/bim-bam-family-fun-43/
LOCATION:CA
CATEGORIES:Family Center
END:VEVENT
BEGIN:VEVENT
DTSTART;TZID=America/Los_Angeles:20241116T100000
DTEND;TZID=America/Los_Angeles:20241116T110000
DTSTAMP:20260424T044305
CREATED:20240918T205739Z
LAST-MODIFIED:20241115T232629Z
UID:10007111-1731751200-1731754800@tebh.org
SUMMARY:Bim Bam Family Fun
DESCRIPTION:
URL:https://tebh.org/event/bim-bam-family-fun-42/
LOCATION:CA
CATEGORIES:Family Center
END:VEVENT
BEGIN:VEVENT
DTSTART;TZID=America/Los_Angeles:20241109T100000
DTEND;TZID=America/Los_Angeles:20241109T110000
DTSTAMP:20260424T044305
CREATED:20240918T205739Z
LAST-MODIFIED:20241106T231125Z
UID:10007110-1731146400-1731150000@tebh.org
SUMMARY:Bim Bam Family Fun
DESCRIPTION:
URL:https://tebh.org/event/bim-bam-family-fun-41/
LOCATION:CA
CATEGORIES:Family Center
END:VEVENT
BEGIN:VEVENT
DTSTART;TZID=America/Los_Angeles:20241108T100000
DTEND;TZID=America/Los_Angeles:20241108T104500
DTSTAMP:20260424T044305
CREATED:20240811T194202Z
LAST-MODIFIED:20241106T231124Z
UID:10007101-1731060000-1731062700@tebh.org
SUMMARY:Tiny Tot Shabbat
DESCRIPTION:Reserve your spot at tebh.org/familycenter
URL:https://tebh.org/event/tiny-tot-shabbat-2/
LOCATION:CA
CATEGORIES:Family Center
END:VEVENT
BEGIN:VEVENT
DTSTART;TZID=America/Los_Angeles:20241026T100000
DTEND;TZID=America/Los_Angeles:20241026T110000
DTSTAMP:20260424T044305
CREATED:20240918T205738Z
LAST-MODIFIED:20241025T222654Z
UID:10007109-1729936800-1729940400@tebh.org
SUMMARY:Bim Bam Family Fun
DESCRIPTION:
URL:https://tebh.org/event/bim-bam-family-fun-40/
LOCATION:CA
CATEGORIES:Family Center
END:VEVENT
BEGIN:VEVENT
DTSTART;TZID=America/Los_Angeles:20240913T100000
DTEND;TZID=America/Los_Angeles:20240913T104500
DTSTAMP:20260424T044305
CREATED:20240811T194202Z
LAST-MODIFIED:20240912T205630Z
UID:10007100-1726221600-1726224300@tebh.org
SUMMARY:Tiny Tot Shabbat
DESCRIPTION:Reserve your spot at tebh.org/familycenter
URL:https://tebh.org/event/tiny-tot-shabbat/
LOCATION:CA
CATEGORIES:Family Center
END:VEVENT
BEGIN:VEVENT
DTSTART;TZID=America/Los_Angeles:20240601T100000
DTEND;TZID=America/Los_Angeles:20240601T110000
DTSTAMP:20260424T044305
CREATED:20240521T225338Z
LAST-MODIFIED:20240603T174134Z
UID:10005124-1717236000-1717239600@tebh.org
SUMMARY:Bim Bam Family Fun
DESCRIPTION:Learn about this class for toddlers 2 and under and sign up at tebh.org/familycenter.
URL:https://tebh.org/event/bim-bam-family-fun-37/
LOCATION:CA
CATEGORIES:Family Center
END:VEVENT
BEGIN:VEVENT
DTSTART;TZID=America/Los_Angeles:20240518T100000
DTEND;TZID=America/Los_Angeles:20240518T110000
DTSTAMP:20260424T044305
CREATED:20240406T023420Z
LAST-MODIFIED:20240410T030423Z
UID:10006224-1716026400-1716030000@tebh.org
SUMMARY:Bim Bam Family Fun
DESCRIPTION:RSVP at tebh.org/familycenter
URL:https://tebh.org/event/bim-bam-family-fun-36/
LOCATION:CA
CATEGORIES:Family Center
END:VEVENT
BEGIN:VEVENT
DTSTART;TZID=America/Los_Angeles:20240427T100000
DTEND;TZID=America/Los_Angeles:20240427T110000
DTSTAMP:20260424T044305
CREATED:20240402T021841Z
LAST-MODIFIED:20240410T030423Z
UID:10006218-1714212000-1714215600@tebh.org
SUMMARY:Bim Bam Family Fun
DESCRIPTION:Register at tebh.org/familycenter
URL:https://tebh.org/event/bim-bam-family-fun-35/
LOCATION:CA
CATEGORIES:Family Center
END:VEVENT
BEGIN:VEVENT
DTSTART;TZID=America/Los_Angeles:20240413T100000
DTEND;TZID=America/Los_Angeles:20240413T110000
DTSTAMP:20260424T044305
CREATED:20240322T020335Z
LAST-MODIFIED:20240410T030423Z
UID:10006207-1713002400-1713006000@tebh.org
SUMMARY:Bim Bam Family Fun
DESCRIPTION:Register for the program at tebh.org/familycenter
URL:https://tebh.org/event/bim-bam-family-fun-33/
LOCATION:CA
CATEGORIES:Family Center
END:VEVENT
BEGIN:VEVENT
DTSTART;TZID=America/Los_Angeles:20240316T100000
DTEND;TZID=America/Los_Angeles:20240316T110000
DTSTAMP:20260424T044305
CREATED:20240214T230340Z
LAST-MODIFIED:20240315T011841Z
UID:10006177-1710583200-1710586800@tebh.org
SUMMARY:Bim Bam Family Fun
DESCRIPTION:RSVP at tebh.org/familycenter
URL:https://tebh.org/event/bim-bam-family-fun-32/
LOCATION:CA
CATEGORIES:Family Center
END:VEVENT
BEGIN:VEVENT
DTSTART;TZID=America/Los_Angeles:20240309T100000
DTEND;TZID=America/Los_Angeles:20240309T113000
DTSTAMP:20260424T044305
CREATED:20240201T210913Z
LAST-MODIFIED:20240309T004840Z
UID:10005024-1709978400-1709983800@tebh.org
SUMMARY:Shabbat in the Yard with Jason Mesches
DESCRIPTION:Shabbat in the Yard\, our quarterly program for families with children 0 to 6\, begins at 10 a.m.Join your temple clergy and celebrated children’s musician\, Jason Mesches at the temple! RSVP at tebh.org/shabbatintheyard.
URL:https://tebh.org/event/shabbat-in-the-yard-with-jason-mesches-3/
LOCATION:CA
CATEGORIES:Family Center
ATTACH;FMTTYPE=image/png:https://tebh.org/wp-content/uploads/2024/02/March-9-2024_Shabbat-In-The-Yard.png
END:VEVENT
BEGIN:VEVENT
DTSTART;TZID=America/Los_Angeles:20240302T100000
DTEND;TZID=America/Los_Angeles:20240302T110000
DTSTAMP:20260424T044305
CREATED:20240214T230340Z
LAST-MODIFIED:20240302T000338Z
UID:10006176-1709373600-1709377200@tebh.org
SUMMARY:Bim Bam Family Fun
DESCRIPTION:RSVP at tebh.org/familycenter
URL:https://tebh.org/event/bim-bam-family-fun-31/
LOCATION:CA
CATEGORIES:Family Center
END:VEVENT
BEGIN:VEVENT
DTSTART;TZID=America/Los_Angeles:20240224T100000
DTEND;TZID=America/Los_Angeles:20240224T110000
DTSTAMP:20260424T044305
CREATED:20231227T231936Z
LAST-MODIFIED:20240224T000338Z
UID:10005010-1708768800-1708772400@tebh.org
SUMMARY:Bim Bam Family Fun
DESCRIPTION:Join Temple Emanuel for Bim Bam Family Fun. RSVP here
URL:https://tebh.org/event/bim-bam-family-fun-30/
LOCATION:CA
CATEGORIES:Family Center
END:VEVENT
BEGIN:VEVENT
DTSTART;TZID=America/Los_Angeles:20240210T100000
DTEND;TZID=America/Los_Angeles:20240210T110000
DTSTAMP:20260424T044305
CREATED:20231227T231936Z
LAST-MODIFIED:20240209T223342Z
UID:10005009-1707559200-1707562800@tebh.org
SUMMARY:Bim Bam Family Fun
DESCRIPTION:Join Temple Emanuel for Bim Bam Family Fun. RSVP here
URL:https://tebh.org/event/bim-bam-family-fun-29/
LOCATION:CA
CATEGORIES:Family Center
END:VEVENT
BEGIN:VEVENT
DTSTART;TZID=America/Los_Angeles:20240127T100000
DTEND;TZID=America/Los_Angeles:20240127T113000
DTSTAMP:20260424T044305
CREATED:20231213T214308Z
LAST-MODIFIED:20240127T011904Z
UID:10006138-1706349600-1706355000@tebh.org
SUMMARY:Shabbat in the Yard with Jason Mesches
DESCRIPTION:Join Rabbi Liora Alban and Jason Mesches for Shabbat in the Yard at 10 a.m. This event is for families with children 0-5. RSVP at tebh.org/shabbatintheyard
URL:https://tebh.org/event/shabbat-in-the-yard-with-jason-mesches-2/
LOCATION:CA
CATEGORIES:Family Center
END:VEVENT
BEGIN:VEVENT
DTSTART;TZID=America/Los_Angeles:20240120T100000
DTEND;TZID=America/Los_Angeles:20240120T110000
DTSTAMP:20260424T044305
CREATED:20231130T183429Z
LAST-MODIFIED:20240120T004840Z
UID:10004971-1705744800-1705748400@tebh.org
SUMMARY:Bim Bam Family Fun
DESCRIPTION:Join families with children with 0-2 for an hour of songs and playtime at Temple Emanuel’s ECC.
URL:https://tebh.org/event/bim-bam-family-fun-27/
LOCATION:CA
CATEGORIES:Family Center
END:VEVENT
BEGIN:VEVENT
DTSTART;TZID=America/Los_Angeles:20240106T100000
DTEND;TZID=America/Los_Angeles:20240106T110000
DTSTAMP:20260424T044305
CREATED:20231213T214308Z
LAST-MODIFIED:20240106T001935Z
UID:10006137-1704535200-1704538800@tebh.org
SUMMARY:Bim Bam Family Fun
DESCRIPTION:Join us at 10 a.m. This program is for young children ages 0-2. RSVP at tebh.org/familycenter
URL:https://tebh.org/event/bim-bam-family-fun-28/
LOCATION:CA
CATEGORIES:Family Center
END:VEVENT
BEGIN:VEVENT
DTSTART;TZID=America/Los_Angeles:20231209T100000
DTEND;TZID=America/Los_Angeles:20231209T110000
DTSTAMP:20260424T044305
CREATED:20230905T200145Z
LAST-MODIFIED:20231208T190420Z
UID:10006005-1702116000-1702119600@tebh.org
SUMMARY:Bim Bam Family Fun
DESCRIPTION:Parents and families with children up to two years of age have a new Shabbat experience just for them with Bim Bam Shabbat! \nMeet fellow parents and kick off Shabbat in a whole new way select Saturdays each month from 10 to 11 a.m. Non-members are welcome to participate. \nRSVP at tebh.org/familycenter
URL:https://tebh.org/event/bim-bam-family-fun-26/
LOCATION:CA
CATEGORIES:Family Center
END:VEVENT
BEGIN:VEVENT
DTSTART;TZID=America/Los_Angeles:20231202T100000
DTEND;TZID=America/Los_Angeles:20231202T110000
DTSTAMP:20260424T044305
CREATED:20230905T200145Z
LAST-MODIFIED:20231202T183701Z
UID:10006004-1701511200-1701514800@tebh.org
SUMMARY:Bim Bam Family Fun
DESCRIPTION:Parents and families with children up to two years of age have a new Shabbat experience just for them with Bim Bam Shabbat! \nMeet fellow parents and kick off Shabbat in a whole new way select Saturdays each month from 10 to 11 a.m. Non-members are welcome to participate. \nRSVP at tebh.org/familycenter
URL:https://tebh.org/event/bim-bam-family-fun-25/
LOCATION:CA
CATEGORIES:Family Center
END:VEVENT
BEGIN:VEVENT
DTSTART;TZID=America/Los_Angeles:20231118T100000
DTEND;TZID=America/Los_Angeles:20231118T110000
DTSTAMP:20260424T044305
CREATED:20230905T200144Z
LAST-MODIFIED:20231118T171927Z
UID:10006003-1700301600-1700305200@tebh.org
SUMMARY:Bim Bam Family Fun
DESCRIPTION:Parents and families with children up to two years of age have a new Shabbat experience just for them with Bim Bam Shabbat! \nMeet fellow parents and kick off Shabbat in a whole new way select Saturdays each month from 10 to 11 a.m. Non-members are welcome to participate. \nRSVP at tebh.org/familycenter
URL:https://tebh.org/event/bim-bam-family-fun-23/
LOCATION:CA
CATEGORIES:Family Center
END:VEVENT
BEGIN:VEVENT
DTSTART;TZID=America/Los_Angeles:20231028T100000
DTEND;TZID=America/Los_Angeles:20231028T110000
DTSTAMP:20260424T044305
CREATED:20230905T200144Z
LAST-MODIFIED:20231028T153503Z
UID:10006002-1698487200-1698490800@tebh.org
SUMMARY:Bim Bam Family Fun
DESCRIPTION:Parents and families with children up to two years of age have a new Shabbat experience just for them with Bim Bam Shabbat! \nMeet fellow parents and kick off Shabbat in a whole new way select Saturdays each month from 10 to 11 a.m. Non-members are welcome to participate. \nRSVP at tebh.org/familycenter
URL:https://tebh.org/event/bim-bam-family-fun-20/
LOCATION:CA
CATEGORIES:Family Center
END:VEVENT
BEGIN:VEVENT
DTSTART;TZID=America/Los_Angeles:20231014T100000
DTEND;TZID=America/Los_Angeles:20231014T110000
DTSTAMP:20260424T044305
CREATED:20230905T200144Z
LAST-MODIFIED:20231014T143420Z
UID:10006001-1697277600-1697281200@tebh.org
SUMMARY:Bim Bam Family Fun
DESCRIPTION:Parents and families with children up to two years of age have a new Shabbat experience just for them with Bim Bam Shabbat! \nMeet fellow parents and kick off Shabbat in a whole new way select Saturdays each month from 10 to 11 a.m. Non-members are welcome to participate. \nRSVP at tebh.org/familycenter
URL:https://tebh.org/event/bim-bam-family-fun-18/
LOCATION:CA
CATEGORIES:Family Center
END:VEVENT
BEGIN:VEVENT
DTSTART;TZID=America/Los_Angeles:20231007T100000
DTEND;TZID=America/Los_Angeles:20231007T110000
DTSTAMP:20260424T044305
CREATED:20230905T200144Z
LAST-MODIFIED:20231007T143343Z
UID:10006000-1696672800-1696676400@tebh.org
SUMMARY:Bim Bam Family Fun
DESCRIPTION:Parents and families with children up to two years of age have a new Shabbat experience just for them with Bim Bam Shabbat! \nMeet fellow parents and kick off Shabbat in a whole new way select Saturdays each month from 10 to 11 a.m. Non-members are welcome to participate. \nRSVP at tebh.org/familycenter
URL:https://tebh.org/event/bim-bam-family-fun-17/
LOCATION:CA
CATEGORIES:Family Center
END:VEVENT
BEGIN:VEVENT
DTSTART;TZID=America/Los_Angeles:20230930T100000
DTEND;TZID=America/Los_Angeles:20230930T110000
DTSTAMP:20260424T044305
CREATED:20230905T200143Z
LAST-MODIFIED:20230930T133407Z
UID:10005999-1696068000-1696071600@tebh.org
SUMMARY:Bim Bam Family Fun
DESCRIPTION:Parents and families with children up to two years of age have a new Shabbat experience just for them with Bim Bam Shabbat! \nMeet fellow parents and kick off Shabbat in a whole new way select Saturdays each month from 10 to 11 a.m. Non-members are welcome to participate. \nRSVP at tebh.org/familycenter
URL:https://tebh.org/event/bim-bam-family-fun-16/
LOCATION:CA
CATEGORIES:Family Center
END:VEVENT
BEGIN:VEVENT
DTSTART;TZID=America/Los_Angeles:20230925T103000
DTEND;TZID=America/Los_Angeles:20230925T113000
DTSTAMP:20260424T044305
CREATED:20230905T200143Z
LAST-MODIFIED:20230925T123359Z
UID:10005998-1695637800-1695641400@tebh.org
SUMMARY:Spark in the Park Ages 5-8
DESCRIPTION:Let us know you’ll attend by registering at tebh.org/familycenter.
URL:https://tebh.org/event/spark-in-the-park-ages-5-8-2/
LOCATION:Beverly Cañon Gardens\, 241 N Canon Dr\, Beverly Hills\, CA 90210\, USA
CATEGORIES:Family Center
END:VEVENT
END:VCALENDAR