



BEGIN:VCALENDAR
VERSION:2.0
PRODID:-//Temple Emanuel Beverly Hills - ECPv6.15.12.2//NONSGML v1.0//EN
CALSCALE:GREGORIAN
METHOD:PUBLISH
X-ORIGINAL-URL:https://tebh.org
X-WR-CALDESC:Events for Temple Emanuel Beverly Hills
REFRESH-INTERVAL;VALUE=DURATION:PT1H
X-Robots-Tag:noindex
X-PUBLISHED-TTL:PT1H
BEGIN:VTIMEZONE
TZID:America/Los_Angeles
BEGIN:DAYLIGHT
TZOFFSETFROM:-0800
TZOFFSETTO:-0700
TZNAME:PDT
DTSTART:20190310T100000
END:DAYLIGHT
BEGIN:STANDARD
TZOFFSETFROM:-0700
TZOFFSETTO:-0800
TZNAME:PST
DTSTART:20191103T090000
END:STANDARD
BEGIN:DAYLIGHT
TZOFFSETFROM:-0800
TZOFFSETTO:-0700
TZNAME:PDT
DTSTART:20200308T100000
END:DAYLIGHT
BEGIN:STANDARD
TZOFFSETFROM:-0700
TZOFFSETTO:-0800
TZNAME:PST
DTSTART:20201101T090000
END:STANDARD
BEGIN:DAYLIGHT
TZOFFSETFROM:-0800
TZOFFSETTO:-0700
TZNAME:PDT
DTSTART:20210314T100000
END:DAYLIGHT
BEGIN:STANDARD
TZOFFSETFROM:-0700
TZOFFSETTO:-0800
TZNAME:PST
DTSTART:20211107T090000
END:STANDARD
END:VTIMEZONE
BEGIN:VEVENT
DTSTART;TZID=America/Los_Angeles:20200515T181500
DTEND;TZID=America/Los_Angeles:20200515T193000
DTSTAMP:20260421T155837
CREATED:20200421T200901Z
LAST-MODIFIED:20200515T024838Z
UID:10003882-1589566500-1589571000@tebh.org
SUMMARY:Virtual Simply Shabbat
DESCRIPTION:Click here to watch on Facebook \nClick here to watch on Vimeo
URL:https://tebh.org/event/virtual-simply-shabbat-13/
CATEGORIES:Homepage,Shabbat Services
END:VEVENT
BEGIN:VEVENT
DTSTART;TZID=America/Los_Angeles:20200522T181500
DTEND;TZID=America/Los_Angeles:20200522T193000
DTSTAMP:20260421T155837
CREATED:20200421T200901Z
LAST-MODIFIED:20200522T034839Z
UID:10003886-1590171300-1590175800@tebh.org
SUMMARY:Memorial Day Shabbat Spark  & Teen Recognition Service
DESCRIPTION:Click here to watch on YouTube \nClick here to watch on Facebook \nClick here to watch on Vimeo
URL:https://tebh.org/event/virtual-simply-shabbat-14/
CATEGORIES:Homepage,Shabbat Services
END:VEVENT
END:VCALENDAR