



BEGIN:VCALENDAR
VERSION:2.0
PRODID:-//Temple Emanuel Beverly Hills - ECPv6.15.12.2//NONSGML v1.0//EN
CALSCALE:GREGORIAN
METHOD:PUBLISH
X-ORIGINAL-URL:https://tebh.org
X-WR-CALDESC:Events for Temple Emanuel Beverly Hills
REFRESH-INTERVAL;VALUE=DURATION:PT1H
X-Robots-Tag:noindex
X-PUBLISHED-TTL:PT1H
BEGIN:VTIMEZONE
TZID:America/Los_Angeles
BEGIN:DAYLIGHT
TZOFFSETFROM:-0800
TZOFFSETTO:-0700
TZNAME:PDT
DTSTART:20210314T100000
END:DAYLIGHT
BEGIN:STANDARD
TZOFFSETFROM:-0700
TZOFFSETTO:-0800
TZNAME:PST
DTSTART:20211107T090000
END:STANDARD
BEGIN:DAYLIGHT
TZOFFSETFROM:-0800
TZOFFSETTO:-0700
TZNAME:PDT
DTSTART:20220313T100000
END:DAYLIGHT
BEGIN:STANDARD
TZOFFSETFROM:-0700
TZOFFSETTO:-0800
TZNAME:PST
DTSTART:20221106T090000
END:STANDARD
BEGIN:DAYLIGHT
TZOFFSETFROM:-0800
TZOFFSETTO:-0700
TZNAME:PDT
DTSTART:20230312T100000
END:DAYLIGHT
BEGIN:STANDARD
TZOFFSETFROM:-0700
TZOFFSETTO:-0800
TZNAME:PST
DTSTART:20231105T090000
END:STANDARD
END:VTIMEZONE
BEGIN:VEVENT
DTSTART;TZID=America/Los_Angeles:20221204T090000
DTEND;TZID=America/Los_Angeles:20221204T121500
DTSTAMP:20260420T164605
CREATED:20220426T034854Z
LAST-MODIFIED:20221203T220437Z
UID:10004425-1670144400-1670156100@tebh.org
SUMMARY:Religious School
DESCRIPTION:
URL:https://tebh.org/event/religious-school-59/
CATEGORIES:Religious School
END:VEVENT
BEGIN:VEVENT
DTSTART;TZID=America/Los_Angeles:20221203T100000
DTEND;TZID=America/Los_Angeles:20221203T110000
DTSTAMP:20260420T164605
CREATED:20220823T213507Z
LAST-MODIFIED:20221202T213332Z
UID:10005602-1670061600-1670065200@tebh.org
SUMMARY:Bim Bam Family Fun Time
DESCRIPTION:Join other families with children age 2 and under for our Saturday morning program. Come for stories\, crafts\, music and more led by Robin Platt from our ECC. Your little one will have the opportunity to dance to live music with Miles\, listen to story time\, and let their imagination run wild with weekly craft projects.   \nRegister here
URL:https://tebh.org/event/bim-bam-family-fun-time-11/
LOCATION:300 N Clark Drive-1-ECC Playground (50)\, 300 N Clark Drive-1-Basketball Court (20)
CATEGORIES:Family Center,Religious School
END:VEVENT
BEGIN:VEVENT
DTSTART;TZID=America/Los_Angeles:20221113T090000
DTEND;TZID=America/Los_Angeles:20221113T121500
DTSTAMP:20260420T164605
CREATED:20220426T034854Z
LAST-MODIFIED:20221112T201915Z
UID:10004422-1668330000-1668341700@tebh.org
SUMMARY:Religious School
DESCRIPTION:
URL:https://tebh.org/event/religious-school-58/
CATEGORIES:Religious School
END:VEVENT
BEGIN:VEVENT
DTSTART;TZID=America/Los_Angeles:20221112T100000
DTEND;TZID=America/Los_Angeles:20221112T110000
DTSTAMP:20260420T164605
CREATED:20220823T213507Z
LAST-MODIFIED:20221111T210432Z
UID:10005601-1668247200-1668250800@tebh.org
SUMMARY:Bim Bam Family Fun Time
DESCRIPTION:
URL:https://tebh.org/event/bim-bam-family-fun-time-9/
LOCATION:300 N Clark Drive-1-ECC Playground (50)\, 300 N Clark Drive-1-Basketball Court (20)
CATEGORIES:Family Center,Religious School
END:VEVENT
BEGIN:VEVENT
DTSTART;TZID=America/Los_Angeles:20221106T113000
DTEND;TZID=America/Los_Angeles:20221106T130000
DTSTAMP:20260420T164605
CREATED:20221102T193400Z
LAST-MODIFIED:20221106T195008Z
UID:10004579-1667734200-1667739600@tebh.org
SUMMARY:Passport
DESCRIPTION:
URL:https://tebh.org/event/passport-2/
CATEGORIES:Religious School
END:VEVENT
BEGIN:VEVENT
DTSTART;TZID=America/Los_Angeles:20221106T090000
DTEND;TZID=America/Los_Angeles:20221106T121500
DTSTAMP:20260420T164605
CREATED:20220426T034854Z
LAST-MODIFIED:20221106T195008Z
UID:10004421-1667725200-1667736900@tebh.org
SUMMARY:Religious School
DESCRIPTION:
URL:https://tebh.org/event/religious-school-57/
CATEGORIES:Religious School
END:VEVENT
BEGIN:VEVENT
DTSTART;TZID=America/Los_Angeles:20221030T090000
DTEND;TZID=America/Los_Angeles:20221030T121500
DTSTAMP:20260420T164605
CREATED:20220426T034854Z
LAST-MODIFIED:20221031T162646Z
UID:10004420-1667120400-1667132100@tebh.org
SUMMARY:Religious School
DESCRIPTION:
URL:https://tebh.org/event/religious-school-56/
CATEGORIES:Religious School
END:VEVENT
BEGIN:VEVENT
DTSTART;TZID=America/Los_Angeles:20221029T100000
DTEND;TZID=America/Los_Angeles:20221029T110000
DTSTAMP:20260420T164605
CREATED:20220823T213506Z
LAST-MODIFIED:20221029T135225Z
UID:10005594-1667037600-1667041200@tebh.org
SUMMARY:Bim Bam Family Fun Time
DESCRIPTION:
URL:https://tebh.org/event/bim-bam-family-fun-time-7/
LOCATION:300 N Clark Drive-1-ECC Playground (50)\, 300 N Clark Drive-1-Basketball Court (20)
CATEGORIES:Family Center,Religious School
END:VEVENT
BEGIN:VEVENT
DTSTART;TZID=America/Los_Angeles:20221023T090000
DTEND;TZID=America/Los_Angeles:20221023T121500
DTSTAMP:20260420T164605
CREATED:20220426T034854Z
LAST-MODIFIED:20221022T234911Z
UID:10004419-1666515600-1666527300@tebh.org
SUMMARY:Religious School
DESCRIPTION:
URL:https://tebh.org/event/religious-school-55/
CATEGORIES:Religious School
END:VEVENT
BEGIN:VEVENT
DTSTART;TZID=America/Los_Angeles:20221016T090000
DTEND;TZID=America/Los_Angeles:20221016T121500
DTSTAMP:20260420T164605
CREATED:20220426T034854Z
LAST-MODIFIED:20221015T224917Z
UID:10004418-1665910800-1665922500@tebh.org
SUMMARY:Religious School
DESCRIPTION:
URL:https://tebh.org/event/religious-school-40/
CATEGORIES:Religious School
END:VEVENT
BEGIN:VEVENT
DTSTART;TZID=America/Los_Angeles:20221015T100000
DTEND;TZID=America/Los_Angeles:20221015T110000
DTSTAMP:20260420T164605
CREATED:20220823T213506Z
LAST-MODIFIED:20221014T223357Z
UID:10005591-1665828000-1665831600@tebh.org
SUMMARY:Bim Bam Family Fun Time
DESCRIPTION:
URL:https://tebh.org/event/bim-bam-family-fun-time-6/
LOCATION:300 N Clark Drive-1-ECC Playground (50)\, 300 N Clark Drive-1-Basketball Court (20)
CATEGORIES:Family Center,Religious School
END:VEVENT
BEGIN:VEVENT
DTSTART;TZID=America/Los_Angeles:20221009T090000
DTEND;TZID=America/Los_Angeles:20221009T121500
DTSTAMP:20260420T164605
CREATED:20220426T034854Z
LAST-MODIFIED:20221008T211855Z
UID:10004417-1665306000-1665317700@tebh.org
SUMMARY:Religious School
DESCRIPTION:
URL:https://tebh.org/event/religious-school-3/
CATEGORIES:Religious School
END:VEVENT
BEGIN:VEVENT
DTSTART;TZID=America/Los_Angeles:20221008T100000
DTEND;TZID=America/Los_Angeles:20221008T110000
DTSTAMP:20260420T164605
CREATED:20220823T213506Z
LAST-MODIFIED:20221007T212208Z
UID:10005590-1665223200-1665226800@tebh.org
SUMMARY:Bim Bam Family Fun Time
DESCRIPTION:
URL:https://tebh.org/event/bim-bam-family-fun-time-5/
LOCATION:300 N Clark Drive-1-ECC Playground (50)\, 300 N Clark Drive-1-Basketball Court (20)
CATEGORIES:Family Center,Religious School
END:VEVENT
BEGIN:VEVENT
DTSTART;TZID=America/Los_Angeles:20220918T090000
DTEND;TZID=America/Los_Angeles:20220918T121500
DTSTAMP:20260420T164605
CREATED:20220426T034854Z
LAST-MODIFIED:20220918T081928Z
UID:10004416-1663491600-1663503300@tebh.org
SUMMARY:Religious School
DESCRIPTION:
URL:https://tebh.org/event/religious-school-2/
CATEGORIES:Religious School
END:VEVENT
BEGIN:VEVENT
DTSTART;TZID=America/Los_Angeles:20220911T090000
DTEND;TZID=America/Los_Angeles:20220911T121500
DTSTAMP:20260420T164605
CREATED:20220426T034854Z
LAST-MODIFIED:20220831T214834Z
UID:10004414-1662886800-1662898500@tebh.org
SUMMARY:Religious School
DESCRIPTION:
URL:https://tebh.org/event/religious-school/
CATEGORIES:Religious School
END:VEVENT
BEGIN:VEVENT
DTSTART;TZID=America/Los_Angeles:20220522T090000
DTEND;TZID=America/Los_Angeles:20220522T121500
DTSTAMP:20260420T164605
CREATED:20211201T220424Z
LAST-MODIFIED:20220522T044950Z
UID:10004280-1653210000-1653221700@tebh.org
SUMMARY:Religious School
DESCRIPTION:
URL:https://tebh.org/event/religious-school-54/
CATEGORIES:Religious School
END:VEVENT
BEGIN:VEVENT
DTSTART;TZID=America/Los_Angeles:20220518T160000
DTEND;TZID=America/Los_Angeles:20220518T170000
DTSTAMP:20260420T164605
CREATED:20220126T033340Z
LAST-MODIFIED:20220518T044953Z
UID:10004322-1652889600-1652893200@tebh.org
SUMMARY:Hebrew Club
DESCRIPTION:
URL:https://tebh.org/event/hebrew-club-66/
LOCATION:Virtual
CATEGORIES:Religious School
END:VEVENT
BEGIN:VEVENT
DTSTART;TZID=America/Los_Angeles:20220515T090000
DTEND;TZID=America/Los_Angeles:20220515T121500
DTSTAMP:20260420T164605
CREATED:20211201T220424Z
LAST-MODIFIED:20220515T044841Z
UID:10004279-1652605200-1652616900@tebh.org
SUMMARY:Religious School
DESCRIPTION:
URL:https://tebh.org/event/religious-school-53/
CATEGORIES:Religious School
END:VEVENT
BEGIN:VEVENT
DTSTART;TZID=America/Los_Angeles:20220511T160000
DTEND;TZID=America/Los_Angeles:20220511T170000
DTSTAMP:20260420T164605
CREATED:20220126T033340Z
LAST-MODIFIED:20220511T043411Z
UID:10004321-1652284800-1652288400@tebh.org
SUMMARY:Hebrew Club
DESCRIPTION:
URL:https://tebh.org/event/hebrew-club-65/
LOCATION:Virtual
CATEGORIES:Religious School
END:VEVENT
BEGIN:VEVENT
DTSTART;TZID=America/Los_Angeles:20220501T090000
DTEND;TZID=America/Los_Angeles:20220501T121500
DTSTAMP:20260420T164605
CREATED:20211201T220424Z
LAST-MODIFIED:20220501T041839Z
UID:10004278-1651395600-1651407300@tebh.org
SUMMARY:Religious School
DESCRIPTION:
URL:https://tebh.org/event/religious-school-52/
CATEGORIES:Religious School
END:VEVENT
BEGIN:VEVENT
DTSTART;TZID=America/Los_Angeles:20220427T160000
DTEND;TZID=America/Los_Angeles:20220427T170000
DTSTAMP:20260420T164605
CREATED:20220126T033339Z
LAST-MODIFIED:20220427T035014Z
UID:10004320-1651075200-1651078800@tebh.org
SUMMARY:Hebrew Club
DESCRIPTION:
URL:https://tebh.org/event/hebrew-club-64/
LOCATION:Virtual
CATEGORIES:Religious School
END:VEVENT
BEGIN:VEVENT
DTSTART;TZID=America/Los_Angeles:20220424T090000
DTEND;TZID=America/Los_Angeles:20220424T121500
DTSTAMP:20260420T164605
CREATED:20211201T220424Z
LAST-MODIFIED:20220424T033357Z
UID:10004277-1650790800-1650802500@tebh.org
SUMMARY:Religious School
DESCRIPTION:
URL:https://tebh.org/event/religious-school-51/
CATEGORIES:Religious School
END:VEVENT
BEGIN:VEVENT
DTSTART;TZID=America/Los_Angeles:20220406T160000
DTEND;TZID=America/Los_Angeles:20220406T170000
DTSTAMP:20260420T164605
CREATED:20211216T230515Z
LAST-MODIFIED:20220406T021949Z
UID:10005144-1649260800-1649264400@tebh.org
SUMMARY:Hebrew Club
DESCRIPTION:
URL:https://tebh.org/event/hebrew-club-63/
CATEGORIES:Religious School
END:VEVENT
BEGIN:VEVENT
DTSTART;TZID=America/Los_Angeles:20220403T090000
DTEND;TZID=America/Los_Angeles:20220403T121500
DTSTAMP:20260420T164605
CREATED:20211201T220424Z
LAST-MODIFIED:20220403T020342Z
UID:10004276-1648976400-1648988100@tebh.org
SUMMARY:Religious School
DESCRIPTION:
URL:https://tebh.org/event/religious-school-50/
CATEGORIES:Religious School
END:VEVENT
BEGIN:VEVENT
DTSTART;TZID=America/Los_Angeles:20220330T160000
DTEND;TZID=America/Los_Angeles:20220330T170000
DTSTAMP:20260420T164605
CREATED:20211216T230514Z
LAST-MODIFIED:20220330T020445Z
UID:10005143-1648656000-1648659600@tebh.org
SUMMARY:Hebrew Club
DESCRIPTION:
URL:https://tebh.org/event/hebrew-club-62/
CATEGORIES:Religious School
END:VEVENT
BEGIN:VEVENT
DTSTART;TZID=America/Los_Angeles:20220327T090000
DTEND;TZID=America/Los_Angeles:20220327T121500
DTSTAMP:20260420T164605
CREATED:20211201T220424Z
LAST-MODIFIED:20220327T014934Z
UID:10004274-1648371600-1648383300@tebh.org
SUMMARY:Religious School
DESCRIPTION:
URL:https://tebh.org/event/religious-school-49/
CATEGORIES:Religious School
END:VEVENT
BEGIN:VEVENT
DTSTART;TZID=America/Los_Angeles:20220323T160000
DTEND;TZID=America/Los_Angeles:20220323T170000
DTSTAMP:20260420T164605
CREATED:20211216T230514Z
LAST-MODIFIED:20220323T013433Z
UID:10005142-1648051200-1648054800@tebh.org
SUMMARY:Hebrew Club
DESCRIPTION:
URL:https://tebh.org/event/hebrew-club-61/
CATEGORIES:Religious School
END:VEVENT
BEGIN:VEVENT
DTSTART;TZID=America/Los_Angeles:20220320T090000
DTEND;TZID=America/Los_Angeles:20220320T121500
DTSTAMP:20260420T164605
CREATED:20211201T220423Z
LAST-MODIFIED:20220320T013430Z
UID:10004273-1647766800-1647778500@tebh.org
SUMMARY:Religious School
DESCRIPTION:
URL:https://tebh.org/event/religious-school-48/
CATEGORIES:Religious School
END:VEVENT
BEGIN:VEVENT
DTSTART;TZID=America/Los_Angeles:20220316T160000
DTEND;TZID=America/Los_Angeles:20220316T170000
DTSTAMP:20260420T164605
CREATED:20211216T230514Z
LAST-MODIFIED:20220316T012038Z
UID:10004303-1647446400-1647450000@tebh.org
SUMMARY:Hebrew Club
DESCRIPTION:
URL:https://tebh.org/event/hebrew-club-60/
CATEGORIES:Religious School
END:VEVENT
BEGIN:VEVENT
DTSTART;TZID=America/Los_Angeles:20220313T090000
DTEND;TZID=America/Los_Angeles:20220313T121500
DTSTAMP:20260420T164605
CREATED:20211201T220423Z
LAST-MODIFIED:20220313T011934Z
UID:10004270-1647162000-1647173700@tebh.org
SUMMARY:Religious School
DESCRIPTION:
URL:https://tebh.org/event/religious-school-47/
CATEGORIES:Religious School
END:VEVENT
END:VCALENDAR