



BEGIN:VCALENDAR
VERSION:2.0
PRODID:-//Temple Emanuel Beverly Hills - ECPv6.15.12.2//NONSGML v1.0//EN
CALSCALE:GREGORIAN
METHOD:PUBLISH
X-ORIGINAL-URL:https://tebh.org
X-WR-CALDESC:Events for Temple Emanuel Beverly Hills
REFRESH-INTERVAL;VALUE=DURATION:PT1H
X-Robots-Tag:noindex
X-PUBLISHED-TTL:PT1H
BEGIN:VTIMEZONE
TZID:America/Los_Angeles
BEGIN:DAYLIGHT
TZOFFSETFROM:-0800
TZOFFSETTO:-0700
TZNAME:PDT
DTSTART:20220313T100000
END:DAYLIGHT
BEGIN:STANDARD
TZOFFSETFROM:-0700
TZOFFSETTO:-0800
TZNAME:PST
DTSTART:20221106T090000
END:STANDARD
BEGIN:DAYLIGHT
TZOFFSETFROM:-0800
TZOFFSETTO:-0700
TZNAME:PDT
DTSTART:20230312T100000
END:DAYLIGHT
BEGIN:STANDARD
TZOFFSETFROM:-0700
TZOFFSETTO:-0800
TZNAME:PST
DTSTART:20231105T090000
END:STANDARD
BEGIN:DAYLIGHT
TZOFFSETFROM:-0800
TZOFFSETTO:-0700
TZNAME:PDT
DTSTART:20240310T100000
END:DAYLIGHT
BEGIN:STANDARD
TZOFFSETFROM:-0700
TZOFFSETTO:-0800
TZNAME:PST
DTSTART:20241103T090000
END:STANDARD
BEGIN:DAYLIGHT
TZOFFSETFROM:-0800
TZOFFSETTO:-0700
TZNAME:PDT
DTSTART:20250309T100000
END:DAYLIGHT
BEGIN:STANDARD
TZOFFSETFROM:-0700
TZOFFSETTO:-0800
TZNAME:PST
DTSTART:20251102T090000
END:STANDARD
END:VTIMEZONE
BEGIN:VEVENT
DTSTART;TZID=America/Los_Angeles:20240130T170000
DTEND;TZID=America/Los_Angeles:20240130T180000
DTSTAMP:20260420T063149
CREATED:20230905T135215Z
LAST-MODIFIED:20240130T020346Z
UID:10004855-1706634000-1706637600@tebh.org
SUMMARY:Hebrew U For You
DESCRIPTION:Email Karen@tebh.org for more information.
URL:https://tebh.org/event/hebrew-u-for-you-33/
LOCATION:Zoom
CATEGORIES:Religious School
END:VEVENT
BEGIN:VEVENT
DTSTART;TZID=America/Los_Angeles:20240128T090000
DTEND;TZID=America/Los_Angeles:20240128T121500
DTSTAMP:20260420T063149
CREATED:20230512T193750Z
LAST-MODIFIED:20240128T013442Z
UID:10005883-1706432400-1706444100@tebh.org
SUMMARY:Religious School
DESCRIPTION:
URL:https://tebh.org/event/religious-school-86/
CATEGORIES:Religious School
END:VEVENT
BEGIN:VEVENT
DTSTART;TZID=America/Los_Angeles:20240123T170000
DTEND;TZID=America/Los_Angeles:20240123T180000
DTSTAMP:20260420T063149
CREATED:20230905T135215Z
LAST-MODIFIED:20240124T012120Z
UID:10004854-1706029200-1706032800@tebh.org
SUMMARY:Hebrew U For You
DESCRIPTION:Email Karen@tebh.org for more information.
URL:https://tebh.org/event/hebrew-u-for-you-32/
LOCATION:Zoom
CATEGORIES:Religious School
END:VEVENT
BEGIN:VEVENT
DTSTART;TZID=America/Los_Angeles:20240121T090000
DTEND;TZID=America/Los_Angeles:20240121T121500
DTSTAMP:20260420T063149
CREATED:20230512T193750Z
LAST-MODIFIED:20240121T011859Z
UID:10005882-1705827600-1705839300@tebh.org
SUMMARY:Religious School
DESCRIPTION:
URL:https://tebh.org/event/religious-school-85/
CATEGORIES:Religious School
END:VEVENT
BEGIN:VEVENT
DTSTART;TZID=America/Los_Angeles:20240116T170000
DTEND;TZID=America/Los_Angeles:20240116T180000
DTSTAMP:20260420T063149
CREATED:20230905T135214Z
LAST-MODIFIED:20240117T011902Z
UID:10004853-1705424400-1705428000@tebh.org
SUMMARY:Hebrew U For You
DESCRIPTION:Email Karen@tebh.org for more information.
URL:https://tebh.org/event/hebrew-u-for-you-31/
LOCATION:Zoom
CATEGORIES:Religious School
END:VEVENT
BEGIN:VEVENT
DTSTART;TZID=America/Los_Angeles:20240109T170000
DTEND;TZID=America/Los_Angeles:20240109T180000
DTSTAMP:20260420T063149
CREATED:20230905T135214Z
LAST-MODIFIED:20240110T010340Z
UID:10004852-1704819600-1704823200@tebh.org
SUMMARY:Hebrew U For You
DESCRIPTION:Email Karen@tebh.org for more information.
URL:https://tebh.org/event/hebrew-u-for-you-30/
LOCATION:Zoom
CATEGORIES:Religious School
END:VEVENT
BEGIN:VEVENT
DTSTART;TZID=America/Los_Angeles:20240107T090000
DTEND;TZID=America/Los_Angeles:20240107T121500
DTSTAMP:20260420T063149
CREATED:20230512T193749Z
LAST-MODIFIED:20240107T004931Z
UID:10005881-1704618000-1704629700@tebh.org
SUMMARY:Religious School
DESCRIPTION:
URL:https://tebh.org/event/religious-school-84/
CATEGORIES:Religious School
END:VEVENT
BEGIN:VEVENT
DTSTART;TZID=America/Los_Angeles:20231212T170000
DTEND;TZID=America/Los_Angeles:20231212T180000
DTSTAMP:20260420T063149
CREATED:20230905T135214Z
LAST-MODIFIED:20231212T193339Z
UID:10004850-1702400400-1702404000@tebh.org
SUMMARY:Hebrew U For You
DESCRIPTION:Email Karen@tebh.org for more information.
URL:https://tebh.org/event/hebrew-u-for-you-29/
LOCATION:Zoom
CATEGORIES:Religious School
END:VEVENT
BEGIN:VEVENT
DTSTART;TZID=America/Los_Angeles:20231210T090000
DTEND;TZID=America/Los_Angeles:20231210T121500
DTSTAMP:20260420T063149
CREATED:20230512T193749Z
LAST-MODIFIED:20231210T193418Z
UID:10005880-1702198800-1702210500@tebh.org
SUMMARY:Religious School
DESCRIPTION:
URL:https://tebh.org/event/religious-school-83/
CATEGORIES:Religious School
END:VEVENT
BEGIN:VEVENT
DTSTART;TZID=America/Los_Angeles:20231205T170000
DTEND;TZID=America/Los_Angeles:20231205T180000
DTSTAMP:20260420T063149
CREATED:20230905T135214Z
LAST-MODIFIED:20231205T193340Z
UID:10004848-1701795600-1701799200@tebh.org
SUMMARY:Hebrew U For You
DESCRIPTION:Email Karen@tebh.org for more information.
URL:https://tebh.org/event/hebrew-u-for-you-28/
LOCATION:Zoom
CATEGORIES:Religious School
END:VEVENT
BEGIN:VEVENT
DTSTART;TZID=America/Los_Angeles:20231203T090000
DTEND;TZID=America/Los_Angeles:20231203T121500
DTSTAMP:20260420T063149
CREATED:20230512T193749Z
LAST-MODIFIED:20231203T192059Z
UID:10005879-1701594000-1701605700@tebh.org
SUMMARY:Religious School
DESCRIPTION:
URL:https://tebh.org/event/religious-school-82/
CATEGORIES:Religious School
END:VEVENT
BEGIN:VEVENT
DTSTART;TZID=America/Los_Angeles:20231128T170000
DTEND;TZID=America/Los_Angeles:20231128T180000
DTSTAMP:20260420T063149
CREATED:20230905T135214Z
LAST-MODIFIED:20231128T184917Z
UID:10004846-1701190800-1701194400@tebh.org
SUMMARY:Hebrew U For You
DESCRIPTION:Email Karen@tebh.org for more information.
URL:https://tebh.org/event/hebrew-u-for-you-27/
LOCATION:Zoom
CATEGORIES:Religious School
END:VEVENT
BEGIN:VEVENT
DTSTART;TZID=America/Los_Angeles:20231114T170000
DTEND;TZID=America/Los_Angeles:20231114T180000
DTSTAMP:20260420T063149
CREATED:20230905T135213Z
LAST-MODIFIED:20231114T180342Z
UID:10005987-1699981200-1699984800@tebh.org
SUMMARY:Hebrew U For You
DESCRIPTION:Email Karen@tebh.org for more information.
URL:https://tebh.org/event/hebrew-u-for-you-26/
LOCATION:Zoom
CATEGORIES:Religious School
END:VEVENT
BEGIN:VEVENT
DTSTART;TZID=America/Los_Angeles:20231112T090000
DTEND;TZID=America/Los_Angeles:20231112T121500
DTSTAMP:20260420T063149
CREATED:20230512T193748Z
LAST-MODIFIED:20231112T173412Z
UID:10005878-1699779600-1699791300@tebh.org
SUMMARY:Religious School
DESCRIPTION:
URL:https://tebh.org/event/religious-school-81/
CATEGORIES:Religious School
END:VEVENT
BEGIN:VEVENT
DTSTART;TZID=America/Los_Angeles:20231107T170000
DTEND;TZID=America/Los_Angeles:20231107T180000
DTSTAMP:20260420T063149
CREATED:20230905T135213Z
LAST-MODIFIED:20231107T170440Z
UID:10005986-1699376400-1699380000@tebh.org
SUMMARY:Hebrew U For You
DESCRIPTION:Email Karen@tebh.org for more information.
URL:https://tebh.org/event/hebrew-u-for-you-25/
LOCATION:Zoom
CATEGORIES:Religious School
END:VEVENT
BEGIN:VEVENT
DTSTART;TZID=America/Los_Angeles:20231105T090000
DTEND;TZID=America/Los_Angeles:20231105T121500
DTSTAMP:20260420T063149
CREATED:20230512T193748Z
LAST-MODIFIED:20231105T170349Z
UID:10005877-1699174800-1699186500@tebh.org
SUMMARY:Religious School
DESCRIPTION:
URL:https://tebh.org/event/religious-school-80/
CATEGORIES:Religious School
END:VEVENT
BEGIN:VEVENT
DTSTART;TZID=America/Los_Angeles:20231029T090000
DTEND;TZID=America/Los_Angeles:20231029T121500
DTSTAMP:20260420T063149
CREATED:20230512T193747Z
LAST-MODIFIED:20231029T154900Z
UID:10005876-1698570000-1698581700@tebh.org
SUMMARY:Religious School
DESCRIPTION:
URL:https://tebh.org/event/religious-school-79/
CATEGORIES:Religious School
END:VEVENT
BEGIN:VEVENT
DTSTART;TZID=America/Los_Angeles:20231024T170000
DTEND;TZID=America/Los_Angeles:20231024T180000
DTSTAMP:20260420T063149
CREATED:20230905T135213Z
LAST-MODIFIED:20231024T150356Z
UID:10005985-1698166800-1698170400@tebh.org
SUMMARY:Hebrew U For You
DESCRIPTION:Email Karen@tebh.org for more information.
URL:https://tebh.org/event/hebrew-u-for-you-24/
LOCATION:Zoom
CATEGORIES:Religious School
END:VEVENT
BEGIN:VEVENT
DTSTART;TZID=America/Los_Angeles:20231022T090000
DTEND;TZID=America/Los_Angeles:20231022T121500
DTSTAMP:20260420T063149
CREATED:20230512T193747Z
LAST-MODIFIED:20231022T144848Z
UID:10005875-1697965200-1697976900@tebh.org
SUMMARY:Religious School
DESCRIPTION:
URL:https://tebh.org/event/religious-school-78/
CATEGORIES:Religious School
END:VEVENT
BEGIN:VEVENT
DTSTART;TZID=America/Los_Angeles:20231017T170000
DTEND;TZID=America/Los_Angeles:20231017T180000
DTSTAMP:20260420T063149
CREATED:20230905T135213Z
LAST-MODIFIED:20231017T140355Z
UID:10005984-1697562000-1697565600@tebh.org
SUMMARY:Hebrew U For You
DESCRIPTION:Email Karen@tebh.org for more information.
URL:https://tebh.org/event/hebrew-u-for-you-23/
LOCATION:Zoom
CATEGORIES:Religious School
END:VEVENT
BEGIN:VEVENT
DTSTART;TZID=America/Los_Angeles:20231015T090000
DTEND;TZID=America/Los_Angeles:20231015T121500
DTSTAMP:20260420T063149
CREATED:20230512T193747Z
LAST-MODIFIED:20231015T140352Z
UID:10005874-1697360400-1697372100@tebh.org
SUMMARY:Religious School
DESCRIPTION:
URL:https://tebh.org/event/religious-school-77/
CATEGORIES:Religious School
END:VEVENT
BEGIN:VEVENT
DTSTART;TZID=America/Los_Angeles:20230910T090000
DTEND;TZID=America/Los_Angeles:20230910T121500
DTSTAMP:20260420T063149
CREATED:20230512T193747Z
LAST-MODIFIED:20230910T150400Z
UID:10005873-1694336400-1694348100@tebh.org
SUMMARY:Religious School Welcome Back
DESCRIPTION:
URL:https://tebh.org/event/religious-school-welcome-back/
CATEGORIES:Religious School
END:VEVENT
BEGIN:VEVENT
DTSTART;TZID=America/Los_Angeles:20230610T100000
DTEND;TZID=America/Los_Angeles:20230610T110000
DTSTAMP:20260420T063149
CREATED:20221209T220519Z
LAST-MODIFIED:20230610T010425Z
UID:10004631-1686391200-1686394800@tebh.org
SUMMARY:Bim Bam Family Fun Time
DESCRIPTION:Join other families with children age 2 and under for our Saturday morning program. Come for stories\, crafts\, music and more led by Robin Platt from our ECC. Your little one will have the opportunity to dance music\, listen to story time\, and let their imagination run wild with weekly craft projects.   \nRegister here
URL:https://tebh.org/event/bim-bam-family-fun-time-28/
LOCATION:300 N Clark Drive-1-Basketball Court (20)\, 300 N Clark Drive-1-ECC Playground (50)
CATEGORIES:Family Center,Religious School
END:VEVENT
BEGIN:VEVENT
DTSTART;TZID=America/Los_Angeles:20230603T090000
DTEND;TZID=America/Los_Angeles:20230603T100000
DTSTAMP:20260420T063149
CREATED:20221209T220519Z
LAST-MODIFIED:20230602T204853Z
UID:10004630-1685782800-1685786400@tebh.org
SUMMARY:Bim Bam Family Fun Time
DESCRIPTION:Join other families with children age 2 and under for our Saturday morning program. Come for stories\, crafts\, music and more led by Robin Platt from our ECC. Your little one will have the opportunity to dance music\, listen to story time\, and let their imagination run wild with weekly craft projects.   \nRegister here
URL:https://tebh.org/event/bim-bam-family-fun-time-27/
LOCATION:300 N Clark Drive-1-Basketball Court (20)\, 300 N Clark Drive-1-ECC Playground (50)
CATEGORIES:Family Center,Religious School
END:VEVENT
BEGIN:VEVENT
DTSTART;TZID=America/Los_Angeles:20230521T090000
DTEND;TZID=America/Los_Angeles:20230521T121500
DTSTAMP:20260420T063149
CREATED:20220426T034856Z
LAST-MODIFIED:20230520T210400Z
UID:10005389-1684659600-1684671300@tebh.org
SUMMARY:Religious School
DESCRIPTION:
URL:https://tebh.org/event/religious-school-74/
CATEGORIES:Religious School
END:VEVENT
BEGIN:VEVENT
DTSTART;TZID=America/Los_Angeles:20230520T100000
DTEND;TZID=America/Los_Angeles:20230520T110000
DTSTAMP:20260420T063149
CREATED:20221209T220518Z
LAST-MODIFIED:20230519T201846Z
UID:10004629-1684576800-1684580400@tebh.org
SUMMARY:Bim Bam Family Fun Time
DESCRIPTION:Join other families with children age 2 and under for our Saturday morning program. Come for stories\, crafts\, music and more led by Robin Platt from our ECC. Your little one will have the opportunity to dance music\, listen to story time\, and let their imagination run wild with weekly craft projects.   \nRegister here
URL:https://tebh.org/event/bim-bam-family-fun-time-26/
LOCATION:300 N Clark Drive-1-Basketball Court (20)\, 300 N Clark Drive-1-ECC Playground (50)
CATEGORIES:Family Center,Religious School
END:VEVENT
BEGIN:VEVENT
DTSTART;TZID=America/Los_Angeles:20230507T090000
DTEND;TZID=America/Los_Angeles:20230507T121500
DTSTAMP:20260420T063149
CREATED:20221102T193402Z
LAST-MODIFIED:20230506T092129Z
UID:10004588-1683450000-1683461700@tebh.org
SUMMARY:Religious School
DESCRIPTION:
URL:https://tebh.org/event/religious-school-75/
CATEGORIES:Religious School
END:VEVENT
BEGIN:VEVENT
DTSTART;TZID=America/Los_Angeles:20230506T100000
DTEND;TZID=America/Los_Angeles:20230506T110000
DTSTAMP:20260420T063149
CREATED:20221209T220518Z
LAST-MODIFIED:20230506T073443Z
UID:10004628-1683367200-1683370800@tebh.org
SUMMARY:Bim Bam Family Fun Time
DESCRIPTION:Join other families with children age 2 and under for our Saturday morning program. Come for stories\, crafts\, music and more led by Robin Platt from our ECC. Your little one will have the opportunity to dance music\, listen to story time\, and let their imagination run wild with weekly craft projects.   \nRegister here
URL:https://tebh.org/event/bim-bam-family-fun-time-25/
LOCATION:300 N Clark Drive-1-Basketball Court (20)\, 300 N Clark Drive-1-ECC Playground (50)
CATEGORIES:Religious School
END:VEVENT
BEGIN:VEVENT
DTSTART;TZID=America/Los_Angeles:20230430T090000
DTEND;TZID=America/Los_Angeles:20230430T121500
DTSTAMP:20260420T063149
CREATED:20230428T081935Z
LAST-MODIFIED:20230430T083408Z
UID:10005851-1682845200-1682856900@tebh.org
SUMMARY:Religious School
DESCRIPTION:
URL:https://tebh.org/event/religious-school-76/
CATEGORIES:Religious School
END:VEVENT
BEGIN:VEVENT
DTSTART;TZID=America/Los_Angeles:20230429T100000
DTEND;TZID=America/Los_Angeles:20230429T110000
DTSTAMP:20260420T063149
CREATED:20221209T220518Z
LAST-MODIFIED:20230429T063530Z
UID:10004626-1682762400-1682766000@tebh.org
SUMMARY:Bim Bam Family Fun Time
DESCRIPTION:Join other families with children age 2 and under for our Saturday morning program. Come for stories\, crafts\, music and more led by Robin Platt from our ECC. Your little one will have the opportunity to dance music\, listen to story time\, and let their imagination run wild with weekly craft projects.   \nRegister here
URL:https://tebh.org/event/bim-bam-family-fun-time-24/
LOCATION:300 N Clark Drive-1-Basketball Court (20)\, 300 N Clark Drive-1-ECC Playground (50)
CATEGORIES:Religious School
END:VEVENT
END:VCALENDAR