



BEGIN:VCALENDAR
VERSION:2.0
PRODID:-//Temple Emanuel Beverly Hills - ECPv6.15.12.2//NONSGML v1.0//EN
CALSCALE:GREGORIAN
METHOD:PUBLISH
X-ORIGINAL-URL:https://tebh.org
X-WR-CALDESC:Events for Temple Emanuel Beverly Hills
REFRESH-INTERVAL;VALUE=DURATION:PT1H
X-Robots-Tag:noindex
X-PUBLISHED-TTL:PT1H
BEGIN:VTIMEZONE
TZID:America/Los_Angeles
BEGIN:DAYLIGHT
TZOFFSETFROM:-0800
TZOFFSETTO:-0700
TZNAME:PDT
DTSTART:20210314T100000
END:DAYLIGHT
BEGIN:STANDARD
TZOFFSETFROM:-0700
TZOFFSETTO:-0800
TZNAME:PST
DTSTART:20211107T090000
END:STANDARD
BEGIN:DAYLIGHT
TZOFFSETFROM:-0800
TZOFFSETTO:-0700
TZNAME:PDT
DTSTART:20220313T100000
END:DAYLIGHT
BEGIN:STANDARD
TZOFFSETFROM:-0700
TZOFFSETTO:-0800
TZNAME:PST
DTSTART:20221106T090000
END:STANDARD
BEGIN:DAYLIGHT
TZOFFSETFROM:-0800
TZOFFSETTO:-0700
TZNAME:PDT
DTSTART:20230312T100000
END:DAYLIGHT
BEGIN:STANDARD
TZOFFSETFROM:-0700
TZOFFSETTO:-0800
TZNAME:PST
DTSTART:20231105T090000
END:STANDARD
BEGIN:DAYLIGHT
TZOFFSETFROM:-0800
TZOFFSETTO:-0700
TZNAME:PDT
DTSTART:20240310T100000
END:DAYLIGHT
BEGIN:STANDARD
TZOFFSETFROM:-0700
TZOFFSETTO:-0800
TZNAME:PST
DTSTART:20241103T090000
END:STANDARD
END:VTIMEZONE
BEGIN:VEVENT
DTSTART;TZID=America/Los_Angeles:20230423T113000
DTEND;TZID=America/Los_Angeles:20230423T130000
DTSTAMP:20260420T114313
CREATED:20221102T193402Z
LAST-MODIFIED:20230423T075107Z
UID:10004587-1682249400-1682254800@tebh.org
SUMMARY:Passport
DESCRIPTION:
URL:https://tebh.org/event/passport-7/
CATEGORIES:Religious School
END:VEVENT
BEGIN:VEVENT
DTSTART;TZID=America/Los_Angeles:20230423T090000
DTEND;TZID=America/Los_Angeles:20230423T121500
DTSTAMP:20260420T114313
CREATED:20220426T034856Z
LAST-MODIFIED:20230423T075107Z
UID:10005388-1682240400-1682252100@tebh.org
SUMMARY:Religious School
DESCRIPTION:
URL:https://tebh.org/event/religious-school-72/
CATEGORIES:Religious School
END:VEVENT
BEGIN:VEVENT
DTSTART;TZID=America/Los_Angeles:20230416T090000
DTEND;TZID=America/Los_Angeles:20230416T121500
DTSTAMP:20260420T114313
CREATED:20220426T034856Z
LAST-MODIFIED:20230416T071836Z
UID:10005387-1681635600-1681647300@tebh.org
SUMMARY:Religious School
DESCRIPTION:
URL:https://tebh.org/event/religious-school-71/
CATEGORIES:Religious School
END:VEVENT
BEGIN:VEVENT
DTSTART;TZID=America/Los_Angeles:20230415T100000
DTEND;TZID=America/Los_Angeles:20230415T110000
DTSTAMP:20260420T114313
CREATED:20221209T220518Z
LAST-MODIFIED:20230415T051947Z
UID:10004625-1681552800-1681556400@tebh.org
SUMMARY:Bim Bam Family Fun Time
DESCRIPTION:Join other families with children age 2 and under for our Saturday morning program. Come for stories\, crafts\, music and more led by Robin Platt from our ECC. Your little one will have the opportunity to dance music\, listen to story time\, and let their imagination run wild with weekly craft projects.   \nRegister here
URL:https://tebh.org/event/bim-bam-family-fun-time-23/
LOCATION:300 N Clark Drive-1-Basketball Court (20)\, 300 N Clark Drive-1-ECC Playground (50)
CATEGORIES:Religious School
END:VEVENT
BEGIN:VEVENT
DTSTART;TZID=America/Los_Angeles:20230401T100000
DTEND;TZID=America/Los_Angeles:20230401T110000
DTSTAMP:20260420T114313
CREATED:20221209T220518Z
LAST-MODIFIED:20230401T043349Z
UID:10004622-1680343200-1680346800@tebh.org
SUMMARY:Bim Bam Family Fun Time
DESCRIPTION:Join other families with children age 2 and under for our Saturday morning program. Come for stories\, crafts\, music and more led by Robin Platt from our ECC. Your little one will have the opportunity to dance music\, listen to story time\, and let their imagination run wild with weekly craft projects.   \nRegister here
URL:https://tebh.org/event/bim-bam-family-fun-time-22/
LOCATION:300 N Clark Drive-1-Basketball Court (20)\, 300 N Clark Drive-1-ECC Playground (50)
CATEGORIES:Religious School
END:VEVENT
BEGIN:VEVENT
DTSTART;TZID=America/Los_Angeles:20230326T090000
DTEND;TZID=America/Los_Angeles:20230326T121500
DTSTAMP:20260420T114313
CREATED:20220426T034856Z
LAST-MODIFIED:20230326T060604Z
UID:10005386-1679821200-1679832900@tebh.org
SUMMARY:Religious School
DESCRIPTION:
URL:https://tebh.org/event/religious-school-70/
CATEGORIES:Religious School
END:VEVENT
BEGIN:VEVENT
DTSTART;TZID=America/Los_Angeles:20230325T100000
DTEND;TZID=America/Los_Angeles:20230325T110000
DTSTAMP:20260420T114313
CREATED:20221209T220518Z
LAST-MODIFIED:20230325T041919Z
UID:10004621-1679738400-1679742000@tebh.org
SUMMARY:Bim Bam Family Fun Time
DESCRIPTION:Join other families with children age 2 and under for our Saturday morning program. Come for stories\, crafts\, music and more led by Robin Platt from our ECC. Your little one will have the opportunity to dance music\, listen to story time\, and let their imagination run wild with weekly craft projects.   \nRegister here
URL:https://tebh.org/event/bim-bam-family-fun-time-21/
LOCATION:300 N Clark Drive-1-Basketball Court (20)\, 300 N Clark Drive-1-ECC Playground (50)
CATEGORIES:Religious School
END:VEVENT
BEGIN:VEVENT
DTSTART;TZID=America/Los_Angeles:20230319T090000
DTEND;TZID=America/Los_Angeles:20230319T121500
DTSTAMP:20260420T114313
CREATED:20220426T034856Z
LAST-MODIFIED:20230319T053643Z
UID:10005385-1679216400-1679228100@tebh.org
SUMMARY:Religious School
DESCRIPTION:
URL:https://tebh.org/event/religious-school-69/
CATEGORIES:Religious School
END:VEVENT
BEGIN:VEVENT
DTSTART;TZID=America/Los_Angeles:20230318T100000
DTEND;TZID=America/Los_Angeles:20230318T110000
DTSTAMP:20260420T114313
CREATED:20221209T220518Z
LAST-MODIFIED:20230318T040353Z
UID:10004618-1679133600-1679137200@tebh.org
SUMMARY:Bim Bam Family Fun Time
DESCRIPTION:Join other families with children age 2 and under for our Saturday morning program. Come for stories\, crafts\, music and more led by Robin Platt from our ECC. Your little one will have the opportunity to dance music\, listen to story time\, and let their imagination run wild with weekly craft projects.   \nRegister here
URL:https://tebh.org/event/bim-bam-family-fun-time-20/
LOCATION:300 N Clark Drive-1-Basketball Court (20)\, 300 N Clark Drive-1-ECC Playground (50)
CATEGORIES:Religious School
END:VEVENT
BEGIN:VEVENT
DTSTART;TZID=America/Los_Angeles:20230312T113000
DTEND;TZID=America/Los_Angeles:20230312T130000
DTSTAMP:20260420T114313
CREATED:20221102T193401Z
LAST-MODIFIED:20230312T044838Z
UID:10004586-1678620600-1678626000@tebh.org
SUMMARY:Passport
DESCRIPTION:
URL:https://tebh.org/event/passport-6/
CATEGORIES:Religious School
END:VEVENT
BEGIN:VEVENT
DTSTART;TZID=America/Los_Angeles:20230312T090000
DTEND;TZID=America/Los_Angeles:20230312T121500
DTSTAMP:20260420T114313
CREATED:20220426T034856Z
LAST-MODIFIED:20230312T044838Z
UID:10005384-1678611600-1678623300@tebh.org
SUMMARY:Religious School
DESCRIPTION:
URL:https://tebh.org/event/religious-school-68/
CATEGORIES:Religious School
END:VEVENT
BEGIN:VEVENT
DTSTART;TZID=America/Los_Angeles:20230311T100000
DTEND;TZID=America/Los_Angeles:20230311T110000
DTSTAMP:20260420T114313
CREATED:20221209T220517Z
LAST-MODIFIED:20230311T034921Z
UID:10005760-1678528800-1678532400@tebh.org
SUMMARY:Bim Bam Family Fun Time
DESCRIPTION:Join other families with children age 2 and under for our Saturday morning program. Come for stories\, crafts\, music and more led by Robin Platt from our ECC. Your little one will have the opportunity to dance music\, listen to story time\, and let their imagination run wild with weekly craft projects.   \nRegister here
URL:https://tebh.org/event/bim-bam-family-fun-time-19/
LOCATION:300 N Clark Drive-1-Basketball Court (20)\, 300 N Clark Drive-1-ECC Playground (50)
CATEGORIES:Religious School
END:VEVENT
BEGIN:VEVENT
DTSTART;TZID=America/Los_Angeles:20230305T090000
DTEND;TZID=America/Los_Angeles:20230305T121500
DTSTAMP:20260420T114313
CREATED:20220426T034855Z
LAST-MODIFIED:20230305T043829Z
UID:10005383-1678006800-1678018500@tebh.org
SUMMARY:Religious School
DESCRIPTION:
URL:https://tebh.org/event/religious-school-67/
CATEGORIES:Religious School
END:VEVENT
BEGIN:VEVENT
DTSTART;TZID=America/Los_Angeles:20230304T100000
DTEND;TZID=America/Los_Angeles:20230304T110000
DTSTAMP:20260420T114313
CREATED:20221209T220517Z
LAST-MODIFIED:20230304T031953Z
UID:10005759-1677924000-1677927600@tebh.org
SUMMARY:Bim Bam Family Fun Time
DESCRIPTION:Join other families with children age 2 and under for our Saturday morning program. Come for stories\, crafts\, music and more led by Robin Platt from our ECC. Your little one will have the opportunity to dance music\, listen to story time\, and let their imagination run wild with weekly craft projects.   \nRegister here
URL:https://tebh.org/event/bim-bam-family-fun-time-18/
LOCATION:300 N Clark Drive-1-Basketball Court (20)\, 300 N Clark Drive-1-ECC Playground (50)
CATEGORIES:Religious School
END:VEVENT
BEGIN:VEVENT
DTSTART;TZID=America/Los_Angeles:20230226T090000
DTEND;TZID=America/Los_Angeles:20230226T121500
DTSTAMP:20260420T114313
CREATED:20220426T034855Z
LAST-MODIFIED:20230226T040644Z
UID:10005382-1677402000-1677413700@tebh.org
SUMMARY:Religious School
DESCRIPTION:
URL:https://tebh.org/event/religious-school-66/
CATEGORIES:Religious School
END:VEVENT
BEGIN:VEVENT
DTSTART;TZID=America/Los_Angeles:20230212T113000
DTEND;TZID=America/Los_Angeles:20230212T130000
DTSTAMP:20260420T114313
CREATED:20221102T193401Z
LAST-MODIFIED:20230212T031929Z
UID:10004585-1676201400-1676206800@tebh.org
SUMMARY:Passport
DESCRIPTION:
URL:https://tebh.org/event/passport-5/
CATEGORIES:Religious School
END:VEVENT
BEGIN:VEVENT
DTSTART;TZID=America/Los_Angeles:20230212T090000
DTEND;TZID=America/Los_Angeles:20230212T121500
DTSTAMP:20260420T114313
CREATED:20220426T034855Z
LAST-MODIFIED:20230212T031929Z
UID:10005380-1676192400-1676204100@tebh.org
SUMMARY:Religious School
DESCRIPTION:
URL:https://tebh.org/event/religious-school-65/
CATEGORIES:Religious School
END:VEVENT
BEGIN:VEVENT
DTSTART;TZID=America/Los_Angeles:20230211T100000
DTEND;TZID=America/Los_Angeles:20230211T110000
DTSTAMP:20260420T114313
CREATED:20221209T220517Z
LAST-MODIFIED:20230211T020539Z
UID:10005758-1676109600-1676113200@tebh.org
SUMMARY:Bim Bam Family Fun Time
DESCRIPTION:Join other families with children age 2 and under for our Saturday morning program. Come for stories\, crafts\, music and more led by Robin Platt from our ECC. Your little one will have the opportunity to dance music\, listen to story time\, and let their imagination run wild with weekly craft projects.   \nRegister here
URL:https://tebh.org/event/bim-bam-family-fun-time-17/
LOCATION:300 N Clark Drive-1-Basketball Court (20)\, 300 N Clark Drive-1-ECC Playground (50)
CATEGORIES:Religious School
END:VEVENT
BEGIN:VEVENT
DTSTART;TZID=America/Los_Angeles:20230205T090000
DTEND;TZID=America/Los_Angeles:20230205T121500
DTSTAMP:20260420T114313
CREATED:20220426T034855Z
LAST-MODIFIED:20230205T024955Z
UID:10005379-1675587600-1675599300@tebh.org
SUMMARY:Religious School
DESCRIPTION:
URL:https://tebh.org/event/religious-school-64/
CATEGORIES:Religious School
END:VEVENT
BEGIN:VEVENT
DTSTART;TZID=America/Los_Angeles:20230204T100000
DTEND;TZID=America/Los_Angeles:20230204T110000
DTSTAMP:20260420T114313
CREATED:20221209T220517Z
LAST-MODIFIED:20230204T020355Z
UID:10005757-1675504800-1675508400@tebh.org
SUMMARY:Bim Bam Family Fun Time
DESCRIPTION:Join other families with children age 2 and under for our Saturday morning program. Come for stories\, crafts\, music and more led by Robin Platt from our ECC. Your little one will have the opportunity to dance music\, listen to story time\, and let their imagination run wild with weekly craft projects.   \nRegister here
URL:https://tebh.org/event/bim-bam-family-fun-time-16/
LOCATION:300 N Clark Drive-1-Basketball Court (20)\, 300 N Clark Drive-1-ECC Playground (50)
CATEGORIES:Religious School
END:VEVENT
BEGIN:VEVENT
DTSTART;TZID=America/Los_Angeles:20230129T090000
DTEND;TZID=America/Los_Angeles:20230129T121500
DTSTAMP:20260420T114313
CREATED:20220426T034855Z
LAST-MODIFIED:20230129T020504Z
UID:10005376-1674982800-1674994500@tebh.org
SUMMARY:Religious School
DESCRIPTION:
URL:https://tebh.org/event/religious-school-63/
CATEGORIES:Religious School
END:VEVENT
BEGIN:VEVENT
DTSTART;TZID=America/Los_Angeles:20230128T100000
DTEND;TZID=America/Los_Angeles:20230128T110000
DTSTAMP:20260420T114313
CREATED:20221209T220517Z
LAST-MODIFIED:20230128T013507Z
UID:10005756-1674900000-1674903600@tebh.org
SUMMARY:Bim Bam Family Fun Time
DESCRIPTION:Join other families with children age 2 and under for our Saturday morning program. Come for stories\, crafts\, music and more led by Robin Platt from our ECC. Your little one will have the opportunity to dance music\, listen to story time\, and let their imagination run wild with weekly craft projects.   \nRegister here
URL:https://tebh.org/event/bim-bam-family-fun-time-15/
LOCATION:300 N Clark Drive-1-Basketball Court (20)\, 300 N Clark Drive-1-ECC Playground (50)
CATEGORIES:Religious School
END:VEVENT
BEGIN:VEVENT
DTSTART;TZID=America/Los_Angeles:20230122T113000
DTEND;TZID=America/Los_Angeles:20230122T130000
DTSTAMP:20260420T114313
CREATED:20221102T193401Z
LAST-MODIFIED:20230122T011901Z
UID:10004583-1674387000-1674392400@tebh.org
SUMMARY:Passport
DESCRIPTION:
URL:https://tebh.org/event/passport-4/
CATEGORIES:Religious School
END:VEVENT
BEGIN:VEVENT
DTSTART;TZID=America/Los_Angeles:20230122T090000
DTEND;TZID=America/Los_Angeles:20230122T121500
DTSTAMP:20260420T114313
CREATED:20220426T034855Z
LAST-MODIFIED:20230122T011901Z
UID:10005369-1674378000-1674389700@tebh.org
SUMMARY:Religious School
DESCRIPTION:
URL:https://tebh.org/event/religious-school-62/
CATEGORIES:Religious School
END:VEVENT
BEGIN:VEVENT
DTSTART;TZID=America/Los_Angeles:20230121T100000
DTEND;TZID=America/Los_Angeles:20230121T110000
DTSTAMP:20260420T114313
CREATED:20221209T220517Z
LAST-MODIFIED:20230121T013355Z
UID:10005755-1674295200-1674298800@tebh.org
SUMMARY:Bim Bam Family Fun Time
DESCRIPTION:Join other families with children age 2 and under for our Saturday morning program. Come for stories\, crafts\, music and more led by Robin Platt from our ECC. Your little one will have the opportunity to dance music\, listen to story time\, and let their imagination run wild with weekly craft projects.   \nRegister here
URL:https://tebh.org/event/bim-bam-family-fun-time-14/
LOCATION:300 N Clark Drive-1-Basketball Court (20)\, 300 N Clark Drive-1-ECC Playground (50)
CATEGORIES:Religious School
END:VEVENT
BEGIN:VEVENT
DTSTART;TZID=America/Los_Angeles:20230108T090000
DTEND;TZID=America/Los_Angeles:20230108T121500
DTSTAMP:20260420T114313
CREATED:20220426T034855Z
LAST-MODIFIED:20230108T003609Z
UID:10005367-1673168400-1673180100@tebh.org
SUMMARY:Religious School
DESCRIPTION:
URL:https://tebh.org/event/religious-school-61/
CATEGORIES:Religious School
END:VEVENT
BEGIN:VEVENT
DTSTART;TZID=America/Los_Angeles:20230107T100000
DTEND;TZID=America/Los_Angeles:20230107T110000
DTSTAMP:20260420T114313
CREATED:20221209T220517Z
LAST-MODIFIED:20230107T010457Z
UID:10005754-1673085600-1673089200@tebh.org
SUMMARY:Bim Bam Family Fun Time
DESCRIPTION:Join other families with children age 2 and under for our Saturday morning program. Come for stories\, crafts\, music and more led by Robin Platt from our ECC. Your little one will have the opportunity to dance music\, listen to story time\, and let their imagination run wild with weekly craft projects.   \nRegister here
URL:https://tebh.org/event/bim-bam-family-fun-time-13/
LOCATION:300 N Clark Drive-1-Basketball Court (20)\, 300 N Clark Drive-1-ECC Playground (50)
CATEGORIES:Religious School
END:VEVENT
BEGIN:VEVENT
DTSTART;TZID=America/Los_Angeles:20221211T090000
DTEND;TZID=America/Los_Angeles:20221211T121500
DTSTAMP:20260420T114313
CREATED:20220426T034854Z
LAST-MODIFIED:20221210T224902Z
UID:10004426-1670749200-1670760900@tebh.org
SUMMARY:Religious School
DESCRIPTION:
URL:https://tebh.org/event/religious-school-60/
CATEGORIES:Religious School
END:VEVENT
BEGIN:VEVENT
DTSTART;TZID=America/Los_Angeles:20221210T100000
DTEND;TZID=America/Los_Angeles:20221210T110000
DTSTAMP:20260420T114313
CREATED:20220823T213507Z
LAST-MODIFIED:20221209T220516Z
UID:10005604-1670666400-1670670000@tebh.org
SUMMARY:Bim Bam Family Fun Time
DESCRIPTION:Join other families with children age 2 and under for our Saturday morning program. Come for stories\, crafts\, music and more led by Robin Platt from our ECC. Your little one will have the opportunity to dance to live music with Miles\, listen to story time\, and let their imagination run wild with weekly craft projects.   \nRegister here
URL:https://tebh.org/event/bim-bam-family-fun-time-12/
LOCATION:300 N Clark Drive-1-ECC Playground (50)\, 300 N Clark Drive-1-Basketball Court (20)
CATEGORIES:Family Center,Religious School
END:VEVENT
BEGIN:VEVENT
DTSTART;TZID=America/Los_Angeles:20221204T113000
DTEND;TZID=America/Los_Angeles:20221204T130000
DTSTAMP:20260420T114313
CREATED:20221102T193400Z
LAST-MODIFIED:20221203T220437Z
UID:10004582-1670153400-1670158800@tebh.org
SUMMARY:Passport
DESCRIPTION:
URL:https://tebh.org/event/passport-3/
CATEGORIES:Religious School
END:VEVENT
END:VCALENDAR