



BEGIN:VCALENDAR
VERSION:2.0
PRODID:-//Temple Emanuel Beverly Hills - ECPv6.15.12.2//NONSGML v1.0//EN
CALSCALE:GREGORIAN
METHOD:PUBLISH
X-ORIGINAL-URL:https://tebh.org
X-WR-CALDESC:Events for Temple Emanuel Beverly Hills
REFRESH-INTERVAL;VALUE=DURATION:PT1H
X-Robots-Tag:noindex
X-PUBLISHED-TTL:PT1H
BEGIN:VTIMEZONE
TZID:America/Los_Angeles
BEGIN:DAYLIGHT
TZOFFSETFROM:-0800
TZOFFSETTO:-0700
TZNAME:PDT
DTSTART:20220313T100000
END:DAYLIGHT
BEGIN:STANDARD
TZOFFSETFROM:-0700
TZOFFSETTO:-0800
TZNAME:PST
DTSTART:20221106T090000
END:STANDARD
BEGIN:DAYLIGHT
TZOFFSETFROM:-0800
TZOFFSETTO:-0700
TZNAME:PDT
DTSTART:20230312T100000
END:DAYLIGHT
BEGIN:STANDARD
TZOFFSETFROM:-0700
TZOFFSETTO:-0800
TZNAME:PST
DTSTART:20231105T090000
END:STANDARD
BEGIN:DAYLIGHT
TZOFFSETFROM:-0800
TZOFFSETTO:-0700
TZNAME:PDT
DTSTART:20240310T100000
END:DAYLIGHT
BEGIN:STANDARD
TZOFFSETFROM:-0700
TZOFFSETTO:-0800
TZNAME:PST
DTSTART:20241103T090000
END:STANDARD
END:VTIMEZONE
BEGIN:VEVENT
DTSTART;TZID=America/Los_Angeles:20230422T120000
DTEND;TZID=America/Los_Angeles:20230422T130000
DTSTAMP:20260423T105757
CREATED:20220714T023427Z
LAST-MODIFIED:20230422T053341Z
UID:10004494-1682164800-1682168400@tebh.org
SUMMARY:Shabbat Minyan Lunch
DESCRIPTION:
URL:https://tebh.org/event/shabbat-minyan-lunch-113/
LOCATION:300 N Clark Drive-1-Courtyard (120)
CATEGORIES:Temple Events
END:VEVENT
BEGIN:VEVENT
DTSTART;TZID=America/Los_Angeles:20230423T090000
DTEND;TZID=America/Los_Angeles:20230423T121500
DTSTAMP:20260423T105757
CREATED:20220426T034856Z
LAST-MODIFIED:20230423T075107Z
UID:10005388-1682240400-1682252100@tebh.org
SUMMARY:Religious School
DESCRIPTION:
URL:https://tebh.org/event/religious-school-72/
CATEGORIES:Religious School
END:VEVENT
BEGIN:VEVENT
DTSTART;TZID=America/Los_Angeles:20230423T113000
DTEND;TZID=America/Los_Angeles:20230423T130000
DTSTAMP:20260423T105757
CREATED:20221102T193402Z
LAST-MODIFIED:20230423T075107Z
UID:10004587-1682249400-1682254800@tebh.org
SUMMARY:Passport
DESCRIPTION:
URL:https://tebh.org/event/passport-7/
CATEGORIES:Religious School
END:VEVENT
BEGIN:VEVENT
DTSTART;TZID=America/Los_Angeles:20230426T160000
DTEND;TZID=America/Los_Angeles:20230426T170000
DTSTAMP:20260423T105757
CREATED:20221228T220528Z
LAST-MODIFIED:20230426T055103Z
UID:10005784-1682524800-1682528400@tebh.org
SUMMARY:Hebrew Club
DESCRIPTION:Email Karen@tebh.org for more information.
URL:https://tebh.org/event/hebrew-club-80/
LOCATION:Zoom
CATEGORIES:Temple Events
END:VEVENT
BEGIN:VEVENT
DTSTART;TZID=America/Los_Angeles:20230427T120000
DTEND;TZID=America/Los_Angeles:20230427T130000
DTSTAMP:20260423T105757
CREATED:20230103T223423Z
LAST-MODIFIED:20230427T054956Z
UID:10005801-1682596800-1682600400@tebh.org
SUMMARY:Tune in Torah
DESCRIPTION:For more information about this class\, please click here or go to tebh.org/tuneinThis class meets via Zoom. Email Jenny@tebh.org for the Zoom link. 
URL:https://tebh.org/event/tune-in-torah-43/
CATEGORIES:Temple Events
END:VEVENT
BEGIN:VEVENT
DTSTART;TZID=America/Los_Angeles:20230428T181500
DTEND;TZID=America/Los_Angeles:20230428T191500
DTSTAMP:20260423T105757
CREATED:20230314T213356Z
LAST-MODIFIED:20230429T004856Z
UID:10005840-1682705700-1682709300@tebh.org
SUMMARY:Simply Shabbat
DESCRIPTION:Join us tonight in the sanctuary for Simply Shabbat.
URL:https://tebh.org/event/simply-shabbat-83/
LOCATION:300 N Clark Drive-1-Corwin Family Sanctuary (299)
CATEGORIES:Shabbat Services
END:VEVENT
BEGIN:VEVENT
DTSTART;TZID=America/Los_Angeles:20230429T090000
DTEND;TZID=America/Los_Angeles:20230429T100000
DTSTAMP:20260423T105757
CREATED:20230415T045132Z
LAST-MODIFIED:20230429T060508Z
UID:10005848-1682758800-1682762400@tebh.org
SUMMARY:Torah Study
DESCRIPTION:Join the clergy in Belle Chapel for Torah study prior to the Shabbat morning service.
URL:https://tebh.org/event/torah-study-3/
LOCATION:300 N Clark Drive-1-Belle Chapel (99)
CATEGORIES:Temple Events
END:VEVENT
BEGIN:VEVENT
DTSTART;TZID=America/Los_Angeles:20230429T100000
DTEND;TZID=America/Los_Angeles:20230429T110000
DTSTAMP:20260423T105757
CREATED:20221209T220518Z
LAST-MODIFIED:20230429T063530Z
UID:10004626-1682762400-1682766000@tebh.org
SUMMARY:Bim Bam Family Fun Time
DESCRIPTION:Join other families with children age 2 and under for our Saturday morning program. Come for stories\, crafts\, music and more led by Robin Platt from our ECC. Your little one will have the opportunity to dance music\, listen to story time\, and let their imagination run wild with weekly craft projects.   \nRegister here
URL:https://tebh.org/event/bim-bam-family-fun-time-24/
LOCATION:300 N Clark Drive-1-Basketball Court (20)\, 300 N Clark Drive-1-ECC Playground (50)
CATEGORIES:Religious School
END:VEVENT
BEGIN:VEVENT
DTSTART;TZID=America/Los_Angeles:20230429T100000
DTEND;TZID=America/Los_Angeles:20230429T113000
DTSTAMP:20260423T105757
CREATED:20230106T165024Z
LAST-MODIFIED:20230429T004857Z
UID:10004671-1682762400-1682767800@tebh.org
SUMMARY:Shabbat Morning @Emanuel
DESCRIPTION:
URL:https://tebh.org/event/shabbat-morning-emanuel-212/
LOCATION:300 N Clark Drive-1-Corwin Family Sanctuary (299)
CATEGORIES:Shabbat Services
END:VEVENT
BEGIN:VEVENT
DTSTART;TZID=America/Los_Angeles:20230429T120000
DTEND;TZID=America/Los_Angeles:20230429T130000
DTSTAMP:20260423T105757
CREATED:20220714T023427Z
LAST-MODIFIED:20230429T060508Z
UID:10004497-1682769600-1682773200@tebh.org
SUMMARY:Shabbat Minyan Lunch
DESCRIPTION:
URL:https://tebh.org/event/shabbat-minyan-lunch-114/
LOCATION:300 N Clark Drive-1-Courtyard (120)
CATEGORIES:Temple Events
END:VEVENT
BEGIN:VEVENT
DTSTART;TZID=America/Los_Angeles:20230430T090000
DTEND;TZID=America/Los_Angeles:20230430T121500
DTSTAMP:20260423T105757
CREATED:20230428T081935Z
LAST-MODIFIED:20230430T083408Z
UID:10005851-1682845200-1682856900@tebh.org
SUMMARY:Religious School
DESCRIPTION:
URL:https://tebh.org/event/religious-school-76/
CATEGORIES:Religious School
END:VEVENT
BEGIN:VEVENT
DTSTART;TZID=America/Los_Angeles:20230503T160000
DTEND;TZID=America/Los_Angeles:20230503T170000
DTSTAMP:20260423T105757
CREATED:20221228T220528Z
LAST-MODIFIED:20230502T063724Z
UID:10005787-1683129600-1683133200@tebh.org
SUMMARY:Hebrew Club
DESCRIPTION:Email Karen@tebh.org for more information.
URL:https://tebh.org/event/hebrew-club-81/
LOCATION:Zoom
CATEGORIES:Temple Events
END:VEVENT
BEGIN:VEVENT
DTSTART;TZID=America/Los_Angeles:20230504T120000
DTEND;TZID=America/Los_Angeles:20230504T130000
DTSTAMP:20260423T105757
CREATED:20230103T223423Z
LAST-MODIFIED:20230504T070503Z
UID:10005803-1683201600-1683205200@tebh.org
SUMMARY:Tune in Torah
DESCRIPTION:For more information about this class\, please click here or go to tebh.org/tuneinThis class meets via Zoom. Email Jenny@tebh.org for the Zoom link. 
URL:https://tebh.org/event/tune-in-torah-44/
CATEGORIES:Temple Events
END:VEVENT
BEGIN:VEVENT
DTSTART;TZID=America/Los_Angeles:20230505T181500
DTEND;TZID=America/Los_Angeles:20230505T194500
DTSTAMP:20260423T105757
CREATED:20220916T071852Z
LAST-MODIFIED:20230505T023723Z
UID:10004560-1683310500-1683315900@tebh.org
SUMMARY:Shabbat Unplugged
DESCRIPTION:Join us in Corwin Family Sanctuary for Shabbat Unplugged.
URL:https://tebh.org/event/shabbat-unplugged-17/
CATEGORIES:Shabbat Services
END:VEVENT
BEGIN:VEVENT
DTSTART;TZID=America/Los_Angeles:20230506T090000
DTEND;TZID=America/Los_Angeles:20230506T100000
DTSTAMP:20260423T105757
CREATED:20230415T045132Z
LAST-MODIFIED:20230506T070508Z
UID:10005849-1683363600-1683367200@tebh.org
SUMMARY:Torah Study
DESCRIPTION:Join the clergy in Belle Chapel for Torah study prior to the Shabbat morning service.
URL:https://tebh.org/event/torah-study-4/
LOCATION:300 N Clark Drive-1-Belle Chapel (99)
CATEGORIES:Temple Events
END:VEVENT
BEGIN:VEVENT
DTSTART;TZID=America/Los_Angeles:20230506T100000
DTEND;TZID=America/Los_Angeles:20230506T110000
DTSTAMP:20260423T105757
CREATED:20221209T220518Z
LAST-MODIFIED:20230506T073443Z
UID:10004628-1683367200-1683370800@tebh.org
SUMMARY:Bim Bam Family Fun Time
DESCRIPTION:Join other families with children age 2 and under for our Saturday morning program. Come for stories\, crafts\, music and more led by Robin Platt from our ECC. Your little one will have the opportunity to dance music\, listen to story time\, and let their imagination run wild with weekly craft projects.   \nRegister here
URL:https://tebh.org/event/bim-bam-family-fun-time-25/
LOCATION:300 N Clark Drive-1-Basketball Court (20)\, 300 N Clark Drive-1-ECC Playground (50)
CATEGORIES:Religious School
END:VEVENT
BEGIN:VEVENT
DTSTART;TZID=America/Los_Angeles:20230506T100000
DTEND;TZID=America/Los_Angeles:20230506T113000
DTSTAMP:20260423T105757
CREATED:20230214T201839Z
LAST-MODIFIED:20230505T023723Z
UID:10004683-1683367200-1683372600@tebh.org
SUMMARY:Shabbat Morning @Emanuel and Ashton Kamjoo Bar Mitzvah
DESCRIPTION:
URL:https://tebh.org/event/shabbat-morning-emanuel-and-ashton-kamjoo-bar-mitzvah/
LOCATION:300 N Clark Drive-1-Corwin Family Sanctuary (299)
CATEGORIES:Shabbat Services
END:VEVENT
BEGIN:VEVENT
DTSTART;TZID=America/Los_Angeles:20230506T120000
DTEND;TZID=America/Los_Angeles:20230506T130000
DTSTAMP:20260423T105757
CREATED:20220714T023427Z
LAST-MODIFIED:20230506T070508Z
UID:10004498-1683374400-1683378000@tebh.org
SUMMARY:Shabbat Minyan Lunch
DESCRIPTION:
URL:https://tebh.org/event/shabbat-minyan-lunch-115/
LOCATION:300 N Clark Drive-1-Courtyard (120)
CATEGORIES:Temple Events
END:VEVENT
BEGIN:VEVENT
DTSTART;TZID=America/Los_Angeles:20230507T090000
DTEND;TZID=America/Los_Angeles:20230507T121500
DTSTAMP:20260423T105757
CREATED:20221102T193402Z
LAST-MODIFIED:20230506T092129Z
UID:10004588-1683450000-1683461700@tebh.org
SUMMARY:Religious School
DESCRIPTION:
URL:https://tebh.org/event/religious-school-75/
CATEGORIES:Religious School
END:VEVENT
BEGIN:VEVENT
DTSTART;TZID=America/Los_Angeles:20230507T150000
DTEND;TZID=America/Los_Angeles:20230507T173000
DTSTAMP:20260423T105757
CREATED:20230424T054839Z
LAST-MODIFIED:20230506T070508Z
UID:10005850-1683471600-1683480600@tebh.org
SUMMARY:Honoring the Inspirational Women in Our Lives
DESCRIPTION:
URL:https://tebh.org/event/honoring-the-inspirational-women-in-our-lives/
LOCATION:300 N Clark Drive-1-Corwin Family Sanctuary (299)
CATEGORIES:Temple Events
END:VEVENT
BEGIN:VEVENT
DTSTART;TZID=America/Los_Angeles:20230511T120000
DTEND;TZID=America/Los_Angeles:20230511T130000
DTSTAMP:20260423T105757
CREATED:20230106T224908Z
LAST-MODIFIED:20230511T191638Z
UID:10004672-1683806400-1683810000@tebh.org
SUMMARY:Tune in Torah
DESCRIPTION:For more information about this class\, please click here or go to tebh.org/tuneinThis class meets via Zoom. Email Jenny@tebh.org for the Zoom link. 
URL:https://tebh.org/event/tune-in-torah-47/
CATEGORIES:Temple Events
END:VEVENT
BEGIN:VEVENT
DTSTART;TZID=America/Los_Angeles:20230512T181500
DTEND;TZID=America/Los_Angeles:20230512T194500
DTSTAMP:20260423T105757
CREATED:20230314T213357Z
LAST-MODIFIED:20230512T194010Z
UID:10005842-1683915300-1683920700@tebh.org
SUMMARY:Simply Shabbat
DESCRIPTION:Join us in the sanctuary tonight for Simply Shabbat.
URL:https://tebh.org/event/simply-shabbat-84/
LOCATION:300 N Clark Drive-1-Corwin Family Sanctuary (299)
CATEGORIES:Shabbat Services
END:VEVENT
BEGIN:VEVENT
DTSTART;TZID=America/Los_Angeles:20230513T100000
DTEND;TZID=America/Los_Angeles:20230513T113000
DTSTAMP:20260423T105757
CREATED:20221110T201902Z
LAST-MODIFIED:20230512T194010Z
UID:10005715-1683972000-1683977400@tebh.org
SUMMARY:Shabbat Morning @Emanuel
DESCRIPTION:
URL:https://tebh.org/event/shabbat-morning-emanuel-celebrating-adult-bnai-mitzvah-2/
LOCATION:300 N Clark Drive-1-Corwin Family Sanctuary (299)
CATEGORIES:Shabbat Services
END:VEVENT
BEGIN:VEVENT
DTSTART;TZID=America/Los_Angeles:20230513T120000
DTEND;TZID=America/Los_Angeles:20230513T130000
DTSTAMP:20260423T105757
CREATED:20220714T023428Z
LAST-MODIFIED:20230513T194909Z
UID:10004500-1683979200-1683982800@tebh.org
SUMMARY:Shabbat Minyan Lunch
DESCRIPTION:
URL:https://tebh.org/event/shabbat-minyan-lunch-116/
LOCATION:300 N Clark Drive-1-Courtyard (120)
CATEGORIES:Temple Events
END:VEVENT
BEGIN:VEVENT
DTSTART;TZID=America/Los_Angeles:20230514T000000
DTEND;TZID=America/Los_Angeles:20230514T235900
DTSTAMP:20260423T105757
CREATED:20220629T003344Z
LAST-MODIFIED:20220629T003344Z
UID:10004461-1684022400-1684108740@tebh.org
SUMMARY:Mother's Day
DESCRIPTION:
URL:https://tebh.org/event/mothers-day-9/
CATEGORIES:Temple Events
END:VEVENT
BEGIN:VEVENT
DTSTART;VALUE=DATE:20230514
DTEND;VALUE=DATE:20230515
DTSTAMP:20260423T105757
CREATED:20210811T191627Z
LAST-MODIFIED:20230514T194855Z
UID:10004136-1684022400-1684108799@tebh.org
SUMMARY:Mother's Day
DESCRIPTION:
URL:https://tebh.org/event/mothers-day-5/
CATEGORIES:Temple Events
END:VEVENT
BEGIN:VEVENT
DTSTART;TZID=America/Los_Angeles:20230514T093000
DTEND;TZID=America/Los_Angeles:20230514T110000
DTSTAMP:20260423T105757
CREATED:20230512T194027Z
LAST-MODIFIED:20230513T194910Z
UID:10005896-1684056600-1684062000@tebh.org
SUMMARY:Rashi Spring 2023
DESCRIPTION:To register for the class\, email Kelley@tebh.org. \nTo pay for the class\, click here.
URL:https://tebh.org/event/rashi-spring-2023/
CATEGORIES:Temple Events
END:VEVENT
BEGIN:VEVENT
DTSTART;TZID=America/Los_Angeles:20230517T140000
DTEND;TZID=America/Los_Angeles:20230517T163000
DTSTAMP:20260423T105757
CREATED:20230511T191638Z
LAST-MODIFIED:20230517T194852Z
UID:10005858-1684332000-1684341000@tebh.org
SUMMARY:Sages of All Ages
DESCRIPTION:
URL:https://tebh.org/event/sages-of-all-ages/
LOCATION:300 N Clark Drive-1-Belle Chapel (99)
CATEGORIES:Temple Events
END:VEVENT
BEGIN:VEVENT
DTSTART;TZID=America/Los_Angeles:20230518T120000
DTEND;TZID=America/Los_Angeles:20230518T130000
DTSTAMP:20260423T105757
CREATED:20230112T231917Z
LAST-MODIFIED:20230518T194911Z
UID:10004673-1684411200-1684414800@tebh.org
SUMMARY:Tune in Torah
DESCRIPTION:For more information about this class\, please click here or go to tebh.org/tuneinThis class meets via Zoom. Email Jenny@tebh.org for the Zoom link. 
URL:https://tebh.org/event/tune-in-torah-48/
CATEGORIES:Temple Events
END:VEVENT
BEGIN:VEVENT
DTSTART;TZID=America/Los_Angeles:20230519T181500
DTEND;TZID=America/Los_Angeles:20230519T183000
DTSTAMP:20260423T105757
CREATED:20230320T220521Z
LAST-MODIFIED:20230519T211859Z
UID:10004701-1684520100-1684521000@tebh.org
SUMMARY:Table Blessings
DESCRIPTION:Join us on Zoom at tebh.org/tableblessings.
URL:https://tebh.org/event/table-blessings-9/
LOCATION:Zoom
CATEGORIES:Shabbat Services
END:VEVENT
END:VCALENDAR