



BEGIN:VCALENDAR
VERSION:2.0
PRODID:-//Temple Emanuel Beverly Hills - ECPv6.15.12.2//NONSGML v1.0//EN
CALSCALE:GREGORIAN
METHOD:PUBLISH
X-ORIGINAL-URL:https://tebh.org
X-WR-CALDESC:Events for Temple Emanuel Beverly Hills
REFRESH-INTERVAL;VALUE=DURATION:PT1H
X-Robots-Tag:noindex
X-PUBLISHED-TTL:PT1H
BEGIN:VTIMEZONE
TZID:America/Los_Angeles
BEGIN:DAYLIGHT
TZOFFSETFROM:-0800
TZOFFSETTO:-0700
TZNAME:PDT
DTSTART:20220313T100000
END:DAYLIGHT
BEGIN:STANDARD
TZOFFSETFROM:-0700
TZOFFSETTO:-0800
TZNAME:PST
DTSTART:20221106T090000
END:STANDARD
BEGIN:DAYLIGHT
TZOFFSETFROM:-0800
TZOFFSETTO:-0700
TZNAME:PDT
DTSTART:20230312T100000
END:DAYLIGHT
BEGIN:STANDARD
TZOFFSETFROM:-0700
TZOFFSETTO:-0800
TZNAME:PST
DTSTART:20231105T090000
END:STANDARD
BEGIN:DAYLIGHT
TZOFFSETFROM:-0800
TZOFFSETTO:-0700
TZNAME:PDT
DTSTART:20240310T100000
END:DAYLIGHT
BEGIN:STANDARD
TZOFFSETFROM:-0700
TZOFFSETTO:-0800
TZNAME:PST
DTSTART:20241103T090000
END:STANDARD
END:VTIMEZONE
BEGIN:VEVENT
DTSTART;TZID=America/Los_Angeles:20230519T200000
DTEND;TZID=America/Los_Angeles:20230519T213000
DTSTAMP:20260423T154631
CREATED:20221201T220358Z
LAST-MODIFIED:20230519T211859Z
UID:10005752-1684526400-1684531800@tebh.org
SUMMARY:LA Oneg Shabbat
DESCRIPTION:Join Cantor Lizzie Weiss\, Dr. Lorry Black\, Jenni Asher\, Noam Israeli\, and Daniel Raijman for a nostalgic musical experience. Come and see what happens when familiar melodies grow up.  \n8 p.m. Oneg8:30 p.m. Shabbat
URL:https://tebh.org/event/la-oneg-shabbat-8/
CATEGORIES:Shabbat Services
END:VEVENT
BEGIN:VEVENT
DTSTART;TZID=America/Los_Angeles:20230520T100000
DTEND;TZID=America/Los_Angeles:20230520T110000
DTSTAMP:20260423T154631
CREATED:20221209T220518Z
LAST-MODIFIED:20230519T201846Z
UID:10004629-1684576800-1684580400@tebh.org
SUMMARY:Bim Bam Family Fun Time
DESCRIPTION:Join other families with children age 2 and under for our Saturday morning program. Come for stories\, crafts\, music and more led by Robin Platt from our ECC. Your little one will have the opportunity to dance music\, listen to story time\, and let their imagination run wild with weekly craft projects.   \nRegister here
URL:https://tebh.org/event/bim-bam-family-fun-time-26/
LOCATION:300 N Clark Drive-1-Basketball Court (20)\, 300 N Clark Drive-1-ECC Playground (50)
CATEGORIES:Family Center,Religious School
END:VEVENT
BEGIN:VEVENT
DTSTART;TZID=America/Los_Angeles:20230520T100000
DTEND;TZID=America/Los_Angeles:20230520T113000
DTSTAMP:20260423T154631
CREATED:20221110T201902Z
LAST-MODIFIED:20230519T211859Z
UID:10005718-1684576800-1684582200@tebh.org
SUMMARY:Shabbat Morning @Emanuel
DESCRIPTION:
URL:https://tebh.org/event/shabbat-morning-emanuel-celebrating-adult-bnai-mitzvah-3/
LOCATION:300 N Clark Drive-1-Corwin Family Sanctuary (299)
CATEGORIES:Shabbat Services
END:VEVENT
BEGIN:VEVENT
DTSTART;TZID=America/Los_Angeles:20230520T120000
DTEND;TZID=America/Los_Angeles:20230520T130000
DTSTAMP:20260423T154631
CREATED:20220717T030352Z
LAST-MODIFIED:20230520T194910Z
UID:10004501-1684584000-1684587600@tebh.org
SUMMARY:Shabbat Minyan Lunch
DESCRIPTION:
URL:https://tebh.org/event/shabbat-minyan-lunch-117/
LOCATION:300 N Clark Drive-1-Courtyard (120)
CATEGORIES:Temple Events
END:VEVENT
BEGIN:VEVENT
DTSTART;TZID=America/Los_Angeles:20230521T090000
DTEND;TZID=America/Los_Angeles:20230521T121500
DTSTAMP:20260423T154631
CREATED:20220426T034856Z
LAST-MODIFIED:20230520T210400Z
UID:10005389-1684659600-1684671300@tebh.org
SUMMARY:Religious School
DESCRIPTION:
URL:https://tebh.org/event/religious-school-74/
CATEGORIES:Religious School
END:VEVENT
BEGIN:VEVENT
DTSTART;TZID=America/Los_Angeles:20230521T093000
DTEND;TZID=America/Los_Angeles:20230521T110000
DTSTAMP:20260423T154631
CREATED:20230512T194028Z
LAST-MODIFIED:20230520T194910Z
UID:10005897-1684661400-1684666800@tebh.org
SUMMARY:Rashi Spring 2023
DESCRIPTION:To register for the class\, email Kelley@tebh.org. \nTo pay for the class\, click here.
URL:https://tebh.org/event/rashi-spring-2023-2/
CATEGORIES:Temple Events
END:VEVENT
BEGIN:VEVENT
DTSTART;TZID=America/Los_Angeles:20230521T170000
DTEND;TZID=America/Los_Angeles:20230521T183000
DTSTAMP:20260423T154631
CREATED:20230309T025011Z
LAST-MODIFIED:20230521T194941Z
UID:10005834-1684688400-1684693800@tebh.org
SUMMARY:Bird Goldstein Songs of Freedom Concert
DESCRIPTION:Please join us for a night of beautiful music celebrating our stories of freedom. Temple Emanuel will be joined by the St. Brigid’s Catholic Church Choir. \nRSVP at tebh.org/freedom.
URL:https://tebh.org/event/bird-goldstein-songs-of-freedom-concert-2/
LOCATION:300 N Clark Drive-1-Corwin Family Sanctuary (299)
CATEGORIES:Temple Events
END:VEVENT
BEGIN:VEVENT
DTSTART;TZID=America/Los_Angeles:20230523T170000
DTEND;TZID=America/Los_Angeles:20230523T180000
DTSTAMP:20260423T154631
CREATED:20230520T194901Z
LAST-MODIFIED:20230523T195118Z
UID:10005916-1684861200-1684864800@tebh.org
SUMMARY:Tech Tutorial
DESCRIPTION:Join Leo\, a 13-year-old along with his older brother Sam\, for a tech tutorial. Leo is working on a Mitzvah Project for his Bar Mitzvah helping older adults improve their technology skills. They can help you set up accounts\, recover passwords\, organize photos on your phone\, send photos from your phone and more! Please register for May 23\, even if you are only coming on May 30\, \nhttps://chaivillagela.org/content.aspx?page_id=4002&club_id=599592&item_id=1981622&event_date_id=223378
URL:https://tebh.org/event/tech-tutorial/
LOCATION:Temple Isaiah\, 10345 W Pico Blvd\, Los Angeles\, CA 90064\, USA
CATEGORIES:Temple Events
END:VEVENT
BEGIN:VEVENT
DTSTART;TZID=America/Los_Angeles:20230524T190000
DTEND;TZID=America/Los_Angeles:20230524T200000
DTSTAMP:20260423T154631
CREATED:20230516T194952Z
LAST-MODIFIED:20230524T194838Z
UID:10005902-1684954800-1684958400@tebh.org
SUMMARY:Discussion & Dessert: Planning the Jewish Future
DESCRIPTION:Via Zoom \nRabbi Jonathan Aaron\, Senior Rabbi of Temple Emanuel\, and Rabbi Dara Frimmer\, Senior Rabbi of Temple Isaiah\, will be discussing the future of our two congregations and the larger Jewish community \nhttps://chaivillagela.org/content.aspx?page_id=4002&club_id=599592&item_id=1759700
URL:https://tebh.org/event/discussion-dessert-planning-the-jewish-future/
CATEGORIES:Temple Events
END:VEVENT
BEGIN:VEVENT
DTSTART;TZID=America/Los_Angeles:20230525T120000
DTEND;TZID=America/Los_Angeles:20230525T130000
DTSTAMP:20260423T154631
CREATED:20230113T231934Z
LAST-MODIFIED:20230525T194842Z
UID:10005802-1685016000-1685019600@tebh.org
SUMMARY:Tune in Torah
DESCRIPTION:For more information about this class\, please click here or go to tebh.org/tuneinThis class meets via Zoom. Email Jenny@tebh.org for the Zoom link. 
URL:https://tebh.org/event/tune-in-torah-50/
CATEGORIES:Temple Events
END:VEVENT
BEGIN:VEVENT
DTSTART;TZID=America/Los_Angeles:20230525T190000
DTEND;TZID=America/Los_Angeles:20230525T230000
DTSTAMP:20260423T154631
CREATED:20230511T191639Z
LAST-MODIFIED:20230525T194842Z
UID:10005859-1685041200-1685055600@tebh.org
SUMMARY:Torah Lishma: Torah For Its Own Sake (and Ours) (Tikkun Leil Shavuot)
DESCRIPTION:Join Temple Emanuel\, Temple Beth Am\, and others for a night of learning to celebrate Shavuot . \nMinha and Ma’ariv and lite dinner at 7 p.m.RSVP here for dinner tbala.org/shavuot \nRabbi Aaron will lead a session at 9:30 p.m.\, A Courtroom Debate on the Two Creation Stories.
URL:https://tebh.org/event/torah-lishma-torah-for-its-own-sake-and-ours-tikkun-leil-shavuot/
LOCATION:Temple Beth Am\, 1039 S La Cienega Blvd\, Los Angeles\, CA 90035\, USA
CATEGORIES:Temple Events
END:VEVENT
BEGIN:VEVENT
DTSTART;TZID=America/Los_Angeles:20230526T100000
DTEND;TZID=America/Los_Angeles:20230526T120000
DTSTAMP:20260423T154631
CREATED:20230519T211859Z
LAST-MODIFIED:20230525T220533Z
UID:10005914-1685095200-1685102400@tebh.org
SUMMARY:Shavuot Festival Service with Yizkor
DESCRIPTION:Join your Temple Emanuel clergy in the chapel for services at 10 a.m. to celebrate Shavuot.
URL:https://tebh.org/event/shavuot-festival-service-with-yizkor/
CATEGORIES:Shabbat Services
END:VEVENT
BEGIN:VEVENT
DTSTART;TZID=America/Los_Angeles:20230526T171500
DTEND;TZID=America/Los_Angeles:20230526T194500
DTSTAMP:20260423T154632
CREATED:20230320T220522Z
LAST-MODIFIED:20230526T221909Z
UID:10004704-1685121300-1685130300@tebh.org
SUMMARY:Memorial Day Shabbat Spark & BBQ
DESCRIPTION:Join us for our annual Memorial Day weekend Spark service and barbecue! This year\, Shavuot falls around the same time and we’ll be celebrating that too! Join us! \nReservations open May 1. Click here to RSVP 
URL:https://tebh.org/event/memorial-day-shabbat-spark-bbq/
LOCATION:300 N Clark Drive-1-Corwin Family Sanctuary (299)
CATEGORIES:Shabbat Services
END:VEVENT
BEGIN:VEVENT
DTSTART;TZID=America/Los_Angeles:20230527T100000
DTEND;TZID=America/Los_Angeles:20230527T113000
DTSTAMP:20260423T154632
CREATED:20221110T201902Z
LAST-MODIFIED:20230526T221909Z
UID:10005719-1685181600-1685187000@tebh.org
SUMMARY:Shabbat Morning @Emanuel
DESCRIPTION:
URL:https://tebh.org/event/shabbat-morning-emanuel-celebrating-adult-bnai-mitzvah-4/
LOCATION:300 N Clark Drive-1-Corwin Family Sanctuary (299)
CATEGORIES:Shabbat Services
END:VEVENT
BEGIN:VEVENT
DTSTART;TZID=America/Los_Angeles:20230527T120000
DTEND;TZID=America/Los_Angeles:20230527T130000
DTSTAMP:20260423T154632
CREATED:20220720T030353Z
LAST-MODIFIED:20230527T194907Z
UID:10004502-1685188800-1685192400@tebh.org
SUMMARY:Shabbat Minyan Lunch
DESCRIPTION:
URL:https://tebh.org/event/shabbat-minyan-lunch-118/
LOCATION:300 N Clark Drive-1-Courtyard (120)
CATEGORIES:Temple Events
END:VEVENT
BEGIN:VEVENT
DTSTART;TZID=America/Los_Angeles:20230528T093000
DTEND;TZID=America/Los_Angeles:20230528T110000
DTSTAMP:20260423T154632
CREATED:20230512T194028Z
LAST-MODIFIED:20230530T204851Z
UID:10005898-1685266200-1685271600@tebh.org
SUMMARY:Rashi Spring 2023
DESCRIPTION:To register for the class\, email Kelley@tebh.org. \nTo pay for the class\, click here.
URL:https://tebh.org/event/rashi-spring-2023-3/
LOCATION:Zoom
CATEGORIES:Temple Events
END:VEVENT
BEGIN:VEVENT
DTSTART;VALUE=DATE:20230529
DTEND;VALUE=DATE:20230530
DTSTAMP:20260423T154632
CREATED:20210811T191627Z
LAST-MODIFIED:20230529T194841Z
UID:10004139-1685318400-1685404799@tebh.org
SUMMARY:Temple Offices Closed
DESCRIPTION:
URL:https://tebh.org/event/memorial-day-4/
CATEGORIES:Temple Events
END:VEVENT
BEGIN:VEVENT
DTSTART;TZID=America/Los_Angeles:20230530T170000
DTEND;TZID=America/Los_Angeles:20230530T180000
DTSTAMP:20260423T154632
CREATED:20230520T194902Z
LAST-MODIFIED:20230529T194841Z
UID:10005917-1685466000-1685469600@tebh.org
SUMMARY:Tech Tutorial
DESCRIPTION:Join Leo\, a 13-year-old along with his older brother Sam\, for a tech tutorial. Leo is working on a Mitzvah Project for his Bar Mitzvah helping older adults improve their technology skills. They can help you set up accounts\, recover passwords\, organize photos on your phone\, send photos from your phone and more! Please register for May 23\, even if you are only coming on May 30. \nhttps://chaivillagela.org/content.aspx?page_id=4002&club_id=599592&item_id=1981622&event_date_id=223378
URL:https://tebh.org/event/tech-tutorial-2/
LOCATION:Temple Isaiah\, 10345 W Pico Blvd\, Los Angeles\, CA 90064\, USA
CATEGORIES:Temple Events
END:VEVENT
BEGIN:VEVENT
DTSTART;TZID=America/Los_Angeles:20230601T103000
DTEND;TZID=America/Los_Angeles:20230601T150000
DTSTAMP:20260423T154632
CREATED:20230516T194953Z
LAST-MODIFIED:20230601T200510Z
UID:10005903-1685615400-1685631600@tebh.org
SUMMARY:Reagan Library\, Auschwitz Exhibit
DESCRIPTION:RSVP at the link below \nhttps://chaivillagela.org/content.aspx?page_id=4002&club_id=599592&item_id=1902892
URL:https://tebh.org/event/reagan-library-auschwitz-exhibit/
LOCATION:40 Presidential Dr\, Simi Valley\, CA 93065\, USA
CATEGORIES:Temple Events
END:VEVENT
BEGIN:VEVENT
DTSTART;TZID=America/Los_Angeles:20230601T120000
DTEND;TZID=America/Los_Angeles:20230601T130000
DTSTAMP:20260423T154632
CREATED:20230117T231850Z
LAST-MODIFIED:20230531T200401Z
UID:10005804-1685620800-1685624400@tebh.org
SUMMARY:Tune in Torah
DESCRIPTION:For more information about this class\, please click here or go to tebh.org/tuneinThis class meets via Zoom. Email Jenny@tebh.org for the Zoom link. 
URL:https://tebh.org/event/tune-in-torah-54/
CATEGORIES:Temple Events
END:VEVENT
BEGIN:VEVENT
DTSTART;TZID=America/Los_Angeles:20230602T181500
DTEND;TZID=America/Los_Angeles:20230602T194500
DTSTAMP:20260423T154632
CREATED:20220916T071852Z
LAST-MODIFIED:20230602T224859Z
UID:10004561-1685729700-1685735100@tebh.org
SUMMARY:Shabbat Unplugged
DESCRIPTION:Join us in Corwin Family Sanctuary for Shabbat Unplugged.
URL:https://tebh.org/event/shabbat-unplugged-18/
CATEGORIES:Shabbat Services
END:VEVENT
BEGIN:VEVENT
DTSTART;TZID=America/Los_Angeles:20230603T090000
DTEND;TZID=America/Los_Angeles:20230603T100000
DTSTAMP:20260423T154632
CREATED:20221209T220519Z
LAST-MODIFIED:20230602T204853Z
UID:10004630-1685782800-1685786400@tebh.org
SUMMARY:Bim Bam Family Fun Time
DESCRIPTION:Join other families with children age 2 and under for our Saturday morning program. Come for stories\, crafts\, music and more led by Robin Platt from our ECC. Your little one will have the opportunity to dance music\, listen to story time\, and let their imagination run wild with weekly craft projects.   \nRegister here
URL:https://tebh.org/event/bim-bam-family-fun-time-27/
LOCATION:300 N Clark Drive-1-Basketball Court (20)\, 300 N Clark Drive-1-ECC Playground (50)
CATEGORIES:Family Center,Religious School
END:VEVENT
BEGIN:VEVENT
DTSTART;TZID=America/Los_Angeles:20230603T100000
DTEND;TZID=America/Los_Angeles:20230603T113000
DTSTAMP:20260423T154632
CREATED:20221110T201902Z
LAST-MODIFIED:20230602T224859Z
UID:10005722-1685786400-1685791800@tebh.org
SUMMARY:Shabbat Morning @Emanuel Celebrating Adult B'nai Mitzvah
DESCRIPTION:
URL:https://tebh.org/event/shabbat-morning-emanuel-celebrating-adult-bnai-mitzvah-5/
LOCATION:300 N Clark Drive-1-Corwin Family Sanctuary (299)
CATEGORIES:Shabbat Services
END:VEVENT
BEGIN:VEVENT
DTSTART;TZID=America/Los_Angeles:20230603T120000
DTEND;TZID=America/Los_Angeles:20230603T130000
DTSTAMP:20260423T154632
CREATED:20220724T031934Z
LAST-MODIFIED:20230602T201843Z
UID:10004503-1685793600-1685797200@tebh.org
SUMMARY:Shabbat Luncheon Celebrating Adult B'nai Mitzvah
DESCRIPTION:
URL:https://tebh.org/event/shabbat-minyan-lunch-119/
LOCATION:300 N Clark Drive-1-Courtyard (120)
CATEGORIES:Temple Events
END:VEVENT
BEGIN:VEVENT
DTSTART;TZID=America/Los_Angeles:20230604T093000
DTEND;TZID=America/Los_Angeles:20230604T110000
DTSTAMP:20260423T154632
CREATED:20230512T194029Z
LAST-MODIFIED:20230603T201908Z
UID:10005899-1685871000-1685876400@tebh.org
SUMMARY:Rashi Spring 2023
DESCRIPTION:To register for the class\, email Kelley@tebh.org. \nTo pay for the class\, click here.
URL:https://tebh.org/event/rashi-spring-2023-4/
CATEGORIES:Temple Events
END:VEVENT
BEGIN:VEVENT
DTSTART;TZID=America/Los_Angeles:20230608T101500
DTEND;TZID=America/Los_Angeles:20230608T131500
DTSTAMP:20260423T154632
CREATED:20230605T203709Z
LAST-MODIFIED:20230608T003339Z
UID:10005923-1686219300-1686230100@tebh.org
SUMMARY:Anselm Kiefer at the Gagosian Gallery
DESCRIPTION:RSVP at the link below\nhttps://chaivillagela.org/content.aspx?page_id=4002&club_id=599592&item_id=1944731
URL:https://tebh.org/event/anselm-kiefer-at-the-gagosian-gallery/
CATEGORIES:Temple Events
END:VEVENT
BEGIN:VEVENT
DTSTART;TZID=America/Los_Angeles:20230608T120000
DTEND;TZID=America/Los_Angeles:20230608T130000
DTSTAMP:20260423T154632
CREATED:20230117T231850Z
LAST-MODIFIED:20230117T231850Z
UID:10005805-1686225600-1686229200@tebh.org
SUMMARY:Tune in Torah
DESCRIPTION:For more information about this class\, please click here or go to tebh.org/tuneinThis class meets via Zoom. Email Jenny@tebh.org for the Zoom link. 
URL:https://tebh.org/event/tune-in-torah-55/
CATEGORIES:Temple Events
END:VEVENT
BEGIN:VEVENT
DTSTART;TZID=America/Los_Angeles:20230609T103000
DTEND;TZID=America/Los_Angeles:20230609T114500
DTSTAMP:20260423T154632
CREATED:20230608T000541Z
LAST-MODIFIED:20230609T000531Z
UID:10005926-1686306600-1686311100@tebh.org
SUMMARY:Short Story Discussion
DESCRIPTION: (stories to be determined) \nvia Zoom \nhttps://chaivillagela.org/content.aspx?page_id=4002&club_id=599592&item_id=1848762
URL:https://tebh.org/event/short-story-discussion-3/
LOCATION:Zoom
CATEGORIES:ChaiVillage
END:VEVENT
BEGIN:VEVENT
DTSTART;TZID=America/Los_Angeles:20230609T181500
DTEND;TZID=America/Los_Angeles:20230609T191500
DTSTAMP:20260423T154632
CREATED:20230320T220522Z
LAST-MODIFIED:20230610T012045Z
UID:10004705-1686334500-1686338100@tebh.org
SUMMARY:Simply Shabbat
DESCRIPTION:Every June\, members of the LGBTQIA+ community and their allies come together to celebrate identity\, acceptance\, and\, well\, pride! We hope to see you at Simply Shabbat Celebrating Pride!
URL:https://tebh.org/event/pride-shabbat-2/
LOCATION:300 N Clark Drive-1-Corwin Family Sanctuary (299)
CATEGORIES:Shabbat Services
END:VEVENT
BEGIN:VEVENT
DTSTART;TZID=America/Los_Angeles:20230610T100000
DTEND;TZID=America/Los_Angeles:20230610T110000
DTSTAMP:20260423T154632
CREATED:20221209T220519Z
LAST-MODIFIED:20230610T010425Z
UID:10004631-1686391200-1686394800@tebh.org
SUMMARY:Bim Bam Family Fun Time
DESCRIPTION:Join other families with children age 2 and under for our Saturday morning program. Come for stories\, crafts\, music and more led by Robin Platt from our ECC. Your little one will have the opportunity to dance music\, listen to story time\, and let their imagination run wild with weekly craft projects.   \nRegister here
URL:https://tebh.org/event/bim-bam-family-fun-time-28/
LOCATION:300 N Clark Drive-1-Basketball Court (20)\, 300 N Clark Drive-1-ECC Playground (50)
CATEGORIES:Family Center,Religious School
END:VEVENT
END:VCALENDAR