



BEGIN:VCALENDAR
VERSION:2.0
PRODID:-//Temple Emanuel Beverly Hills - ECPv6.15.12.2//NONSGML v1.0//EN
CALSCALE:GREGORIAN
METHOD:PUBLISH
X-WR-CALNAME:Temple Emanuel Beverly Hills
X-ORIGINAL-URL:https://tebh.org
X-WR-CALDESC:Events for Temple Emanuel Beverly Hills
REFRESH-INTERVAL;VALUE=DURATION:PT1H
X-Robots-Tag:noindex
X-PUBLISHED-TTL:PT1H
BEGIN:VTIMEZONE
TZID:America/Los_Angeles
BEGIN:DAYLIGHT
TZOFFSETFROM:-0800
TZOFFSETTO:-0700
TZNAME:PDT
DTSTART:20230312T100000
END:DAYLIGHT
BEGIN:STANDARD
TZOFFSETFROM:-0700
TZOFFSETTO:-0800
TZNAME:PST
DTSTART:20231105T090000
END:STANDARD
BEGIN:DAYLIGHT
TZOFFSETFROM:-0800
TZOFFSETTO:-0700
TZNAME:PDT
DTSTART:20240310T100000
END:DAYLIGHT
BEGIN:STANDARD
TZOFFSETFROM:-0700
TZOFFSETTO:-0800
TZNAME:PST
DTSTART:20241103T090000
END:STANDARD
BEGIN:DAYLIGHT
TZOFFSETFROM:-0800
TZOFFSETTO:-0700
TZNAME:PDT
DTSTART:20250309T100000
END:DAYLIGHT
BEGIN:STANDARD
TZOFFSETFROM:-0700
TZOFFSETTO:-0800
TZNAME:PST
DTSTART:20251102T090000
END:STANDARD
END:VTIMEZONE
BEGIN:VEVENT
DTSTART;TZID=America/Los_Angeles:20240801T123000
DTEND;TZID=America/Los_Angeles:20240801T133000
DTSTAMP:20260424T072440
CREATED:20240605T184631Z
LAST-MODIFIED:20240801T195658Z
UID:10006919-1722515400-1722519000@tebh.org
SUMMARY:Tune in Torah
DESCRIPTION:Explore the Torah every Thursday with Rabbi Jonathan Aaron via Zoom. https://us02web.zoom.us/j/81075361741?pwd=kkaZrPx7IOohPid6S9aJZ7bwiedfPS.1 \nGo to tebh.org/tunein for more information.
URL:https://tebh.org/event/tune-in-torah-129/
CATEGORIES:Temple Events
END:VEVENT
BEGIN:VEVENT
DTSTART;TZID=America/Los_Angeles:20240802T080000
DTEND;TZID=America/Los_Angeles:20240802T090000
DTSTAMP:20260424T072440
CREATED:20240619T172651Z
LAST-MODIFIED:20240801T195658Z
UID:10006976-1722585600-1722589200@tebh.org
SUMMARY:Yoga: Gentle Practice
DESCRIPTION:RSVP at tebh.org/yoga. If you've previously attended yoga  at Temple Emanuel\, you can RSVP for additional classes at tebh.org/class.
URL:https://tebh.org/event/yoga-gentle-practice-70/
CATEGORIES:Temple Events
END:VEVENT
BEGIN:VEVENT
DTSTART;TZID=America/Los_Angeles:20240802T093000
DTEND;TZID=America/Los_Angeles:20240802T103000
DTSTAMP:20260424T072440
CREATED:20240619T172651Z
LAST-MODIFIED:20240801T195658Z
UID:10006977-1722591000-1722594600@tebh.org
SUMMARY:Yoga: Gentle Practice
DESCRIPTION:RSVP at tebh.org/yoga. If you've previously attended yoga  at Temple Emanuel\, you can RSVP for additional classes at tebh.org/class.
URL:https://tebh.org/event/yoga-gentle-practice-71/
CATEGORIES:Temple Events
END:VEVENT
BEGIN:VEVENT
DTSTART;TZID=America/Los_Angeles:20240802T181500
DTEND;TZID=America/Los_Angeles:20240802T191500
DTSTAMP:20260424T072440
CREATED:20240716T201124Z
LAST-MODIFIED:20240802T205638Z
UID:10007060-1722622500-1722626100@tebh.org
SUMMARY:Courtyard Shabbat
DESCRIPTION:
URL:https://tebh.org/event/courtyard-shabbat-5/
CATEGORIES:Shabbat Services
END:VEVENT
BEGIN:VEVENT
DTSTART;TZID=America/Los_Angeles:20240803T100000
DTEND;TZID=America/Los_Angeles:20240803T113000
DTSTAMP:20260424T072440
CREATED:20240521T224928Z
LAST-MODIFIED:20240802T205638Z
UID:10006253-1722679200-1722684600@tebh.org
SUMMARY:Shabbat Morning @Emanuel
DESCRIPTION:Join your temple clergy for Shabbat Morning @Emanuel.
URL:https://tebh.org/event/shabbat-morning-emanuel-349/
CATEGORIES:Shabbat Services
END:VEVENT
BEGIN:VEVENT
DTSTART;TZID=America/Los_Angeles:20240803T120000
DTEND;TZID=America/Los_Angeles:20240803T123000
DTSTAMP:20260424T072440
CREATED:20240523T211144Z
LAST-MODIFIED:20240802T195656Z
UID:10006266-1722686400-1722688200@tebh.org
SUMMARY:Minyan Lunch
DESCRIPTION:
URL:https://tebh.org/event/minyan-lunch-76/
CATEGORIES:Temple Events
END:VEVENT
BEGIN:VEVENT
DTSTART;TZID=America/Los_Angeles:20240806T080000
DTEND;TZID=America/Los_Angeles:20240806T090000
DTSTAMP:20260424T072440
CREATED:20240625T175622Z
LAST-MODIFIED:20240805T195630Z
UID:10006999-1722931200-1722934800@tebh.org
SUMMARY:Yoga: Gentle Practice
DESCRIPTION:RSVP at tebh.org/yoga. If you've previously attended yoga  at Temple Emanuel\, you can RSVP for additional classes at tebh.org/class.
URL:https://tebh.org/event/yoga-gentle-practice-90/
CATEGORIES:Temple Events
END:VEVENT
BEGIN:VEVENT
DTSTART;TZID=America/Los_Angeles:20240806T093000
DTEND;TZID=America/Los_Angeles:20240806T103000
DTSTAMP:20260424T072440
CREATED:20240625T175622Z
LAST-MODIFIED:20240805T195630Z
UID:10007000-1722936600-1722940200@tebh.org
SUMMARY:Yoga: Gentle Practice
DESCRIPTION:
URL:https://tebh.org/event/yoga-gentle-practice-91/
CATEGORIES:Temple Events
END:VEVENT
BEGIN:VEVENT
DTSTART;TZID=America/Los_Angeles:20240808T123000
DTEND;TZID=America/Los_Angeles:20240808T133000
DTSTAMP:20260424T072440
CREATED:20240605T184631Z
LAST-MODIFIED:20240808T201118Z
UID:10006920-1723120200-1723123800@tebh.org
SUMMARY:Tune in Torah
DESCRIPTION:Explore the Torah every Thursday with Rabbi Jonathan Aaron via Zoom. https://us02web.zoom.us/j/81075361741?pwd=kkaZrPx7IOohPid6S9aJZ7bwiedfPS.1 \nGo to tebh.org/tunein for more information.
URL:https://tebh.org/event/tune-in-torah-130/
CATEGORIES:Temple Events
END:VEVENT
BEGIN:VEVENT
DTSTART;TZID=America/Los_Angeles:20240809T080000
DTEND;TZID=America/Los_Angeles:20240809T090000
DTSTAMP:20260424T072440
CREATED:20240619T172652Z
LAST-MODIFIED:20240808T201118Z
UID:10006978-1723190400-1723194000@tebh.org
SUMMARY:Yoga: Gentle Practice
DESCRIPTION:RSVP at tebh.org/yoga. If you've previously attended yoga  at Temple Emanuel\, you can RSVP for additional classes at tebh.org/class.
URL:https://tebh.org/event/yoga-gentle-practice-72/
CATEGORIES:Temple Events
END:VEVENT
BEGIN:VEVENT
DTSTART;TZID=America/Los_Angeles:20240809T093000
DTEND;TZID=America/Los_Angeles:20240809T103000
DTSTAMP:20260424T072440
CREATED:20240619T172652Z
LAST-MODIFIED:20240808T201118Z
UID:10006979-1723195800-1723199400@tebh.org
SUMMARY:Yoga: Gentle Practice
DESCRIPTION:RSVP at tebh.org/yoga. If you've previously attended yoga  at Temple Emanuel\, you can RSVP for additional classes at tebh.org/class.
URL:https://tebh.org/event/yoga-gentle-practice-73/
CATEGORIES:Temple Events
END:VEVENT
BEGIN:VEVENT
DTSTART;TZID=America/Los_Angeles:20240809T181500
DTEND;TZID=America/Los_Angeles:20240809T191500
DTSTAMP:20260424T072440
CREATED:20240719T202628Z
LAST-MODIFIED:20240809T211138Z
UID:10007066-1723227300-1723230900@tebh.org
SUMMARY:Simply Shabbat
DESCRIPTION:
URL:https://tebh.org/event/simply-shabbat-130/
CATEGORIES:Shabbat Services
END:VEVENT
BEGIN:VEVENT
DTSTART;TZID=America/Los_Angeles:20240810T100000
DTEND;TZID=America/Los_Angeles:20240810T113000
DTSTAMP:20260424T072440
CREATED:20240521T224928Z
LAST-MODIFIED:20240809T211138Z
UID:10006255-1723284000-1723289400@tebh.org
SUMMARY:Shabbat Morning @Emanuel
DESCRIPTION:Join your temple clergy for Shabbat Morning @Emanuel.
URL:https://tebh.org/event/shabbat-morning-emanuel-350/
CATEGORIES:Shabbat Services
END:VEVENT
BEGIN:VEVENT
DTSTART;TZID=America/Los_Angeles:20240810T120000
DTEND;TZID=America/Los_Angeles:20240810T123000
DTSTAMP:20260424T072440
CREATED:20240523T211144Z
LAST-MODIFIED:20240809T201156Z
UID:10006267-1723291200-1723293000@tebh.org
SUMMARY:Minyan Lunch
DESCRIPTION:
URL:https://tebh.org/event/minyan-lunch-77/
CATEGORIES:Temple Events
END:VEVENT
BEGIN:VEVENT
DTSTART;TZID=America/Los_Angeles:20240812T140000
DTEND;TZID=America/Los_Angeles:20240812T153000
DTSTAMP:20260424T072440
CREATED:20240806T212629Z
LAST-MODIFIED:20240812T212623Z
UID:10007069-1723471200-1723476600@tebh.org
SUMMARY:Campus Protests and Free Speech  The Constitution and Free Speech–what Does the First Amendment Protect?
DESCRIPTION:Join Victor Gold\, Professor of Law and Dean Emeritus of Loyola Law School\, for a discussion of what is and is not protected speech. This event is sponsored by ChaiVillageLA. All Temple members are welcome. Please register. \nhttps://chaivillagela.org/content.aspx?page_id=4002&club_id=599592&item_id=2350261
URL:https://tebh.org/event/campus-protests-and-free-speech-the-constitution-and-free-speech-what-does-the-first-amendment-protect/
CATEGORIES:ChaiVillage
END:VEVENT
BEGIN:VEVENT
DTSTART;TZID=America/Los_Angeles:20240812T190000
DTEND;TZID=America/Los_Angeles:20240812T203000
DTSTAMP:20260424T072440
CREATED:20240724T192623Z
LAST-MODIFIED:20240812T201242Z
UID:10007068-1723489200-1723494600@tebh.org
SUMMARY:Commemoration of Tishah B'av with Clergy
DESCRIPTION:RSVP at tebh.org/lifelonglearning
URL:https://tebh.org/event/commemoration-of-tishah-bav-with-clergy/
CATEGORIES:Temple Events
END:VEVENT
BEGIN:VEVENT
DTSTART;TZID=America/Los_Angeles:20240813T080000
DTEND;TZID=America/Los_Angeles:20240813T090000
DTSTAMP:20260424T072440
CREATED:20240625T175623Z
LAST-MODIFIED:20240812T201242Z
UID:10007001-1723536000-1723539600@tebh.org
SUMMARY:Yoga: Gentle Practice
DESCRIPTION:RSVP at tebh.org/yoga. If you've previously attended yoga  at Temple Emanuel\, you can RSVP for additional classes at tebh.org/class.
URL:https://tebh.org/event/yoga-gentle-practice-92/
CATEGORIES:Temple Events
END:VEVENT
BEGIN:VEVENT
DTSTART;TZID=America/Los_Angeles:20240813T093000
DTEND;TZID=America/Los_Angeles:20240813T103000
DTSTAMP:20260424T072440
CREATED:20240625T175623Z
LAST-MODIFIED:20240812T201242Z
UID:10007002-1723541400-1723545000@tebh.org
SUMMARY:Yoga: Gentle Practice
DESCRIPTION:
URL:https://tebh.org/event/yoga-gentle-practice-93/
CATEGORIES:Temple Events
END:VEVENT
BEGIN:VEVENT
DTSTART;TZID=America/Los_Angeles:20240815T123000
DTEND;TZID=America/Los_Angeles:20240815T133000
DTSTAMP:20260424T072440
CREATED:20240605T184631Z
LAST-MODIFIED:20240815T202638Z
UID:10006921-1723725000-1723728600@tebh.org
SUMMARY:Tune in Torah
DESCRIPTION:Explore the Torah every Thursday with Rabbi Jonathan Aaron via Zoom. https://us02web.zoom.us/j/81075361741?pwd=kkaZrPx7IOohPid6S9aJZ7bwiedfPS.1 \nGo to tebh.org/tunein for more information.
URL:https://tebh.org/event/tune-in-torah-131/
CATEGORIES:Temple Events
END:VEVENT
BEGIN:VEVENT
DTSTART;TZID=America/Los_Angeles:20240816T080000
DTEND;TZID=America/Los_Angeles:20240816T090000
DTSTAMP:20260424T072440
CREATED:20240619T172652Z
LAST-MODIFIED:20240815T202638Z
UID:10006980-1723795200-1723798800@tebh.org
SUMMARY:Yoga: Gentle Practice
DESCRIPTION:RSVP at tebh.org/yoga. If you've previously attended yoga  at Temple Emanuel\, you can RSVP for additional classes at tebh.org/class.
URL:https://tebh.org/event/yoga-gentle-practice-74/
CATEGORIES:Temple Events
END:VEVENT
BEGIN:VEVENT
DTSTART;TZID=America/Los_Angeles:20240816T093000
DTEND;TZID=America/Los_Angeles:20240816T103000
DTSTAMP:20260424T072440
CREATED:20240619T172652Z
LAST-MODIFIED:20240815T202638Z
UID:10006981-1723800600-1723804200@tebh.org
SUMMARY:Yoga: Gentle Practice
DESCRIPTION:RSVP at tebh.org/yoga. If you've previously attended yoga  at Temple Emanuel\, you can RSVP for additional classes at tebh.org/class.
URL:https://tebh.org/event/yoga-gentle-practice-75/
CATEGORIES:Temple Events
END:VEVENT
BEGIN:VEVENT
DTSTART;TZID=America/Los_Angeles:20240816T181500
DTEND;TZID=America/Los_Angeles:20240816T191500
DTSTAMP:20260424T072440
CREATED:20240716T201125Z
LAST-MODIFIED:20240816T212627Z
UID:10007062-1723832100-1723835700@tebh.org
SUMMARY:Courtyard Shabbat
DESCRIPTION:
URL:https://tebh.org/event/courtyard-shabbat-7/
CATEGORIES:Shabbat Services
END:VEVENT
BEGIN:VEVENT
DTSTART;TZID=America/Los_Angeles:20240817T100000
DTEND;TZID=America/Los_Angeles:20240817T113000
DTSTAMP:20260424T072440
CREATED:20240521T224929Z
LAST-MODIFIED:20240816T212627Z
UID:10006257-1723888800-1723894200@tebh.org
SUMMARY:Shabbat Morning @Emanuel
DESCRIPTION:Join your temple clergy for Shabbat Morning @Emanuel.
URL:https://tebh.org/event/shabbat-morning-emanuel-351/
CATEGORIES:Shabbat Services
END:VEVENT
BEGIN:VEVENT
DTSTART;TZID=America/Los_Angeles:20240817T120000
DTEND;TZID=America/Los_Angeles:20240817T123000
DTSTAMP:20260424T072440
CREATED:20240523T211144Z
LAST-MODIFIED:20240816T202632Z
UID:10006268-1723896000-1723897800@tebh.org
SUMMARY:Minyan Lunch
DESCRIPTION:
URL:https://tebh.org/event/minyan-lunch-78/
CATEGORIES:Temple Events
END:VEVENT
BEGIN:VEVENT
DTSTART;TZID=America/Los_Angeles:20240820T080000
DTEND;TZID=America/Los_Angeles:20240820T090000
DTSTAMP:20260424T072440
CREATED:20240625T175623Z
LAST-MODIFIED:20240819T202646Z
UID:10007003-1724140800-1724144400@tebh.org
SUMMARY:Yoga: Gentle Practice
DESCRIPTION:RSVP at tebh.org/yoga. If you've previously attended yoga  at Temple Emanuel\, you can RSVP for additional classes at tebh.org/class.
URL:https://tebh.org/event/yoga-gentle-practice-94/
CATEGORIES:Temple Events
END:VEVENT
BEGIN:VEVENT
DTSTART;TZID=America/Los_Angeles:20240820T093000
DTEND;TZID=America/Los_Angeles:20240820T103000
DTSTAMP:20260424T072440
CREATED:20240625T175623Z
LAST-MODIFIED:20240819T202646Z
UID:10007004-1724146200-1724149800@tebh.org
SUMMARY:Yoga: Gentle Practice
DESCRIPTION:
URL:https://tebh.org/event/yoga-gentle-practice-95/
CATEGORIES:Temple Events
END:VEVENT
BEGIN:VEVENT
DTSTART;TZID=America/Los_Angeles:20240821T143000
DTEND;TZID=America/Los_Angeles:20240821T163000
DTSTAMP:20260424T072440
CREATED:20240218T001837Z
LAST-MODIFIED:20240821T221201Z
UID:10005053-1724250600-1724257800@tebh.org
SUMMARY:Sages of All Ages
DESCRIPTION:Join our warm camaraderie as we share the wisdom of one another's lives. Make new friends and connections in our Sages for All Ages community and events. \nhttps://chaivillagela.org/content.aspx?page_id=4002&club_id=599592&item_id=2073869
URL:https://tebh.org/event/sages-of-all-ages-13/
CATEGORIES:ChaiVillage
END:VEVENT
BEGIN:VEVENT
DTSTART;TZID=America/Los_Angeles:20240822T123000
DTEND;TZID=America/Los_Angeles:20240822T133000
DTSTAMP:20260424T072440
CREATED:20240605T184631Z
LAST-MODIFIED:20240822T202637Z
UID:10006922-1724329800-1724333400@tebh.org
SUMMARY:Tune in Torah
DESCRIPTION:Explore the Torah every Thursday with Rabbi Jonathan Aaron via Zoom. https://us02web.zoom.us/j/81075361741?pwd=kkaZrPx7IOohPid6S9aJZ7bwiedfPS.1 \nGo to tebh.org/tunein for more information.
URL:https://tebh.org/event/tune-in-torah-132/
CATEGORIES:Temple Events
END:VEVENT
BEGIN:VEVENT
DTSTART;TZID=America/Los_Angeles:20240823T080000
DTEND;TZID=America/Los_Angeles:20240823T090000
DTSTAMP:20260424T072440
CREATED:20240619T172652Z
LAST-MODIFIED:20240822T202637Z
UID:10006982-1724400000-1724403600@tebh.org
SUMMARY:Yoga: Gentle Practice
DESCRIPTION:RSVP at tebh.org/yoga. If you've previously attended yoga  at Temple Emanuel\, you can RSVP for additional classes at tebh.org/class.
URL:https://tebh.org/event/yoga-gentle-practice-76/
CATEGORIES:Temple Events
END:VEVENT
BEGIN:VEVENT
DTSTART;TZID=America/Los_Angeles:20240823T093000
DTEND;TZID=America/Los_Angeles:20240823T103000
DTSTAMP:20260424T072440
CREATED:20240619T172653Z
LAST-MODIFIED:20240822T202637Z
UID:10006983-1724405400-1724409000@tebh.org
SUMMARY:Yoga: Gentle Practice
DESCRIPTION:RSVP at tebh.org/yoga. If you've previously attended yoga  at Temple Emanuel\, you can RSVP for additional classes at tebh.org/class.
URL:https://tebh.org/event/yoga-gentle-practice-77/
CATEGORIES:Temple Events
END:VEVENT
END:VCALENDAR