



BEGIN:VCALENDAR
VERSION:2.0
PRODID:-//Temple Emanuel Beverly Hills - ECPv6.15.12.2//NONSGML v1.0//EN
CALSCALE:GREGORIAN
METHOD:PUBLISH
X-WR-CALNAME:Temple Emanuel Beverly Hills
X-ORIGINAL-URL:https://tebh.org
X-WR-CALDESC:Events for Temple Emanuel Beverly Hills
REFRESH-INTERVAL;VALUE=DURATION:PT1H
X-Robots-Tag:noindex
X-PUBLISHED-TTL:PT1H
BEGIN:VTIMEZONE
TZID:America/Los_Angeles
BEGIN:DAYLIGHT
TZOFFSETFROM:-0800
TZOFFSETTO:-0700
TZNAME:PDT
DTSTART:20250309T100000
END:DAYLIGHT
BEGIN:STANDARD
TZOFFSETFROM:-0700
TZOFFSETTO:-0800
TZNAME:PST
DTSTART:20251102T090000
END:STANDARD
BEGIN:DAYLIGHT
TZOFFSETFROM:-0800
TZOFFSETTO:-0700
TZNAME:PDT
DTSTART:20260308T100000
END:DAYLIGHT
BEGIN:STANDARD
TZOFFSETFROM:-0700
TZOFFSETTO:-0800
TZNAME:PST
DTSTART:20261101T090000
END:STANDARD
BEGIN:DAYLIGHT
TZOFFSETFROM:-0800
TZOFFSETTO:-0700
TZNAME:PDT
DTSTART:20270314T100000
END:DAYLIGHT
BEGIN:STANDARD
TZOFFSETFROM:-0700
TZOFFSETTO:-0800
TZNAME:PST
DTSTART:20271107T090000
END:STANDARD
END:VTIMEZONE
BEGIN:VEVENT
DTSTART;TZID=America/Los_Angeles:20260424T080000
DTEND;TZID=America/Los_Angeles:20260424T090000
DTSTAMP:20260421T032339
CREATED:20260416T213237Z
LAST-MODIFIED:20260416T213237Z
UID:10015665-1777017600-1777021200@tebh.org
SUMMARY:Yoga: All Levels
DESCRIPTION:RSVP at tebh.org/yoga. If you’ve previously attended yoga  at Temple Emanuel\, you can RSVP for additional classes at tebh.org/class.
URL:https://tebh.org/event/yoga-all-levels-2/2026-04-24/
CATEGORIES:Adult Education,Sisterhood
END:VEVENT
BEGIN:VEVENT
DTSTART;TZID=America/Los_Angeles:20260501T080000
DTEND;TZID=America/Los_Angeles:20260501T090000
DTSTAMP:20260421T032339
CREATED:20260416T213237Z
LAST-MODIFIED:20260416T213237Z
UID:10015666-1777622400-1777626000@tebh.org
SUMMARY:Yoga: All Levels
DESCRIPTION:RSVP at tebh.org/yoga. If you’ve previously attended yoga  at Temple Emanuel\, you can RSVP for additional classes at tebh.org/class.
URL:https://tebh.org/event/yoga-all-levels-2/2026-05-01/
CATEGORIES:Adult Education,Sisterhood
END:VEVENT
BEGIN:VEVENT
DTSTART;TZID=America/Los_Angeles:20260508T080000
DTEND;TZID=America/Los_Angeles:20260508T090000
DTSTAMP:20260421T032339
CREATED:20260416T213237Z
LAST-MODIFIED:20260416T213237Z
UID:10015667-1778227200-1778230800@tebh.org
SUMMARY:Yoga: All Levels
DESCRIPTION:RSVP at tebh.org/yoga. If you’ve previously attended yoga  at Temple Emanuel\, you can RSVP for additional classes at tebh.org/class.
URL:https://tebh.org/event/yoga-all-levels-2/2026-05-08/
CATEGORIES:Adult Education,Sisterhood
END:VEVENT
BEGIN:VEVENT
DTSTART;TZID=America/Los_Angeles:20260515T080000
DTEND;TZID=America/Los_Angeles:20260515T090000
DTSTAMP:20260421T032339
CREATED:20260416T213237Z
LAST-MODIFIED:20260416T213237Z
UID:10015668-1778832000-1778835600@tebh.org
SUMMARY:Yoga: All Levels
DESCRIPTION:RSVP at tebh.org/yoga. If you’ve previously attended yoga  at Temple Emanuel\, you can RSVP for additional classes at tebh.org/class.
URL:https://tebh.org/event/yoga-all-levels-2/2026-05-15/
CATEGORIES:Adult Education,Sisterhood
END:VEVENT
BEGIN:VEVENT
DTSTART;TZID=America/Los_Angeles:20260522T080000
DTEND;TZID=America/Los_Angeles:20260522T090000
DTSTAMP:20260421T032339
CREATED:20260416T213237Z
LAST-MODIFIED:20260416T213237Z
UID:10015669-1779436800-1779440400@tebh.org
SUMMARY:Yoga: All Levels
DESCRIPTION:RSVP at tebh.org/yoga. If you’ve previously attended yoga  at Temple Emanuel\, you can RSVP for additional classes at tebh.org/class.
URL:https://tebh.org/event/yoga-all-levels-2/2026-05-22/
CATEGORIES:Adult Education,Sisterhood
END:VEVENT
BEGIN:VEVENT
DTSTART;TZID=America/Los_Angeles:20260529T080000
DTEND;TZID=America/Los_Angeles:20260529T090000
DTSTAMP:20260421T032339
CREATED:20260416T213237Z
LAST-MODIFIED:20260416T213237Z
UID:10015670-1780041600-1780045200@tebh.org
SUMMARY:Yoga: All Levels
DESCRIPTION:RSVP at tebh.org/yoga. If you’ve previously attended yoga  at Temple Emanuel\, you can RSVP for additional classes at tebh.org/class.
URL:https://tebh.org/event/yoga-all-levels-2/2026-05-29/
CATEGORIES:Adult Education,Sisterhood
END:VEVENT
BEGIN:VEVENT
DTSTART;TZID=America/Los_Angeles:20260605T080000
DTEND;TZID=America/Los_Angeles:20260605T090000
DTSTAMP:20260421T032339
CREATED:20260416T213237Z
LAST-MODIFIED:20260416T213237Z
UID:10015671-1780646400-1780650000@tebh.org
SUMMARY:Yoga: All Levels
DESCRIPTION:RSVP at tebh.org/yoga. If you’ve previously attended yoga  at Temple Emanuel\, you can RSVP for additional classes at tebh.org/class.
URL:https://tebh.org/event/yoga-all-levels-2/2026-06-05/
CATEGORIES:Adult Education,Sisterhood
END:VEVENT
BEGIN:VEVENT
DTSTART;TZID=America/Los_Angeles:20260612T080000
DTEND;TZID=America/Los_Angeles:20260612T090000
DTSTAMP:20260421T032339
CREATED:20260416T213237Z
LAST-MODIFIED:20260416T213237Z
UID:10015672-1781251200-1781254800@tebh.org
SUMMARY:Yoga: All Levels
DESCRIPTION:RSVP at tebh.org/yoga. If you’ve previously attended yoga  at Temple Emanuel\, you can RSVP for additional classes at tebh.org/class.
URL:https://tebh.org/event/yoga-all-levels-2/2026-06-12/
CATEGORIES:Adult Education,Sisterhood
END:VEVENT
BEGIN:VEVENT
DTSTART;TZID=America/Los_Angeles:20260619T080000
DTEND;TZID=America/Los_Angeles:20260619T090000
DTSTAMP:20260421T032339
CREATED:20260416T213237Z
LAST-MODIFIED:20260416T213237Z
UID:10015673-1781856000-1781859600@tebh.org
SUMMARY:Yoga: All Levels
DESCRIPTION:RSVP at tebh.org/yoga. If you’ve previously attended yoga  at Temple Emanuel\, you can RSVP for additional classes at tebh.org/class.
URL:https://tebh.org/event/yoga-all-levels-2/2026-06-19/
CATEGORIES:Adult Education,Sisterhood
END:VEVENT
BEGIN:VEVENT
DTSTART;TZID=America/Los_Angeles:20260626T080000
DTEND;TZID=America/Los_Angeles:20260626T090000
DTSTAMP:20260421T032339
CREATED:20260416T213237Z
LAST-MODIFIED:20260416T213237Z
UID:10015674-1782460800-1782464400@tebh.org
SUMMARY:Yoga: All Levels
DESCRIPTION:RSVP at tebh.org/yoga. If you’ve previously attended yoga  at Temple Emanuel\, you can RSVP for additional classes at tebh.org/class.
URL:https://tebh.org/event/yoga-all-levels-2/2026-06-26/
CATEGORIES:Adult Education,Sisterhood
END:VEVENT
BEGIN:VEVENT
DTSTART;TZID=America/Los_Angeles:20260703T080000
DTEND;TZID=America/Los_Angeles:20260703T090000
DTSTAMP:20260421T032339
CREATED:20260416T213237Z
LAST-MODIFIED:20260416T213237Z
UID:10015675-1783065600-1783069200@tebh.org
SUMMARY:Yoga: All Levels
DESCRIPTION:RSVP at tebh.org/yoga. If you’ve previously attended yoga  at Temple Emanuel\, you can RSVP for additional classes at tebh.org/class.
URL:https://tebh.org/event/yoga-all-levels-2/2026-07-03/
CATEGORIES:Adult Education,Sisterhood
END:VEVENT
BEGIN:VEVENT
DTSTART;TZID=America/Los_Angeles:20260710T080000
DTEND;TZID=America/Los_Angeles:20260710T090000
DTSTAMP:20260421T032339
CREATED:20260416T213237Z
LAST-MODIFIED:20260416T213237Z
UID:10015676-1783670400-1783674000@tebh.org
SUMMARY:Yoga: All Levels
DESCRIPTION:RSVP at tebh.org/yoga. If you’ve previously attended yoga  at Temple Emanuel\, you can RSVP for additional classes at tebh.org/class.
URL:https://tebh.org/event/yoga-all-levels-2/2026-07-10/
CATEGORIES:Adult Education,Sisterhood
END:VEVENT
BEGIN:VEVENT
DTSTART;TZID=America/Los_Angeles:20260717T080000
DTEND;TZID=America/Los_Angeles:20260717T090000
DTSTAMP:20260421T032339
CREATED:20260416T213237Z
LAST-MODIFIED:20260416T213237Z
UID:10015677-1784275200-1784278800@tebh.org
SUMMARY:Yoga: All Levels
DESCRIPTION:RSVP at tebh.org/yoga. If you’ve previously attended yoga  at Temple Emanuel\, you can RSVP for additional classes at tebh.org/class.
URL:https://tebh.org/event/yoga-all-levels-2/2026-07-17/
CATEGORIES:Adult Education,Sisterhood
END:VEVENT
BEGIN:VEVENT
DTSTART;TZID=America/Los_Angeles:20260724T080000
DTEND;TZID=America/Los_Angeles:20260724T090000
DTSTAMP:20260421T032339
CREATED:20260416T213237Z
LAST-MODIFIED:20260416T213237Z
UID:10015678-1784880000-1784883600@tebh.org
SUMMARY:Yoga: All Levels
DESCRIPTION:RSVP at tebh.org/yoga. If you’ve previously attended yoga  at Temple Emanuel\, you can RSVP for additional classes at tebh.org/class.
URL:https://tebh.org/event/yoga-all-levels-2/2026-07-24/
CATEGORIES:Adult Education,Sisterhood
END:VEVENT
BEGIN:VEVENT
DTSTART;TZID=America/Los_Angeles:20260731T080000
DTEND;TZID=America/Los_Angeles:20260731T090000
DTSTAMP:20260421T032339
CREATED:20260416T213237Z
LAST-MODIFIED:20260416T213237Z
UID:10015679-1785484800-1785488400@tebh.org
SUMMARY:Yoga: All Levels
DESCRIPTION:RSVP at tebh.org/yoga. If you’ve previously attended yoga  at Temple Emanuel\, you can RSVP for additional classes at tebh.org/class.
URL:https://tebh.org/event/yoga-all-levels-2/2026-07-31/
CATEGORIES:Adult Education,Sisterhood
END:VEVENT
BEGIN:VEVENT
DTSTART;TZID=America/Los_Angeles:20260807T080000
DTEND;TZID=America/Los_Angeles:20260807T090000
DTSTAMP:20260421T032339
CREATED:20260416T213237Z
LAST-MODIFIED:20260416T213237Z
UID:10015680-1786089600-1786093200@tebh.org
SUMMARY:Yoga: All Levels
DESCRIPTION:RSVP at tebh.org/yoga. If you’ve previously attended yoga  at Temple Emanuel\, you can RSVP for additional classes at tebh.org/class.
URL:https://tebh.org/event/yoga-all-levels-2/2026-08-07/
CATEGORIES:Adult Education,Sisterhood
END:VEVENT
BEGIN:VEVENT
DTSTART;TZID=America/Los_Angeles:20260814T080000
DTEND;TZID=America/Los_Angeles:20260814T090000
DTSTAMP:20260421T032339
CREATED:20260416T213237Z
LAST-MODIFIED:20260416T213237Z
UID:10015681-1786694400-1786698000@tebh.org
SUMMARY:Yoga: All Levels
DESCRIPTION:RSVP at tebh.org/yoga. If you’ve previously attended yoga  at Temple Emanuel\, you can RSVP for additional classes at tebh.org/class.
URL:https://tebh.org/event/yoga-all-levels-2/2026-08-14/
CATEGORIES:Adult Education,Sisterhood
END:VEVENT
BEGIN:VEVENT
DTSTART;TZID=America/Los_Angeles:20260821T080000
DTEND;TZID=America/Los_Angeles:20260821T090000
DTSTAMP:20260421T032339
CREATED:20260416T213237Z
LAST-MODIFIED:20260416T213237Z
UID:10015682-1787299200-1787302800@tebh.org
SUMMARY:Yoga: All Levels
DESCRIPTION:RSVP at tebh.org/yoga. If you’ve previously attended yoga  at Temple Emanuel\, you can RSVP for additional classes at tebh.org/class.
URL:https://tebh.org/event/yoga-all-levels-2/2026-08-21/
CATEGORIES:Adult Education,Sisterhood
END:VEVENT
BEGIN:VEVENT
DTSTART;TZID=America/Los_Angeles:20260828T080000
DTEND;TZID=America/Los_Angeles:20260828T090000
DTSTAMP:20260421T032339
CREATED:20260416T213237Z
LAST-MODIFIED:20260416T213237Z
UID:10015683-1787904000-1787907600@tebh.org
SUMMARY:Yoga: All Levels
DESCRIPTION:RSVP at tebh.org/yoga. If you’ve previously attended yoga  at Temple Emanuel\, you can RSVP for additional classes at tebh.org/class.
URL:https://tebh.org/event/yoga-all-levels-2/2026-08-28/
CATEGORIES:Adult Education,Sisterhood
END:VEVENT
BEGIN:VEVENT
DTSTART;TZID=America/Los_Angeles:20260904T080000
DTEND;TZID=America/Los_Angeles:20260904T090000
DTSTAMP:20260421T032339
CREATED:20260416T213237Z
LAST-MODIFIED:20260416T213237Z
UID:10015684-1788508800-1788512400@tebh.org
SUMMARY:Yoga: All Levels
DESCRIPTION:RSVP at tebh.org/yoga. If you’ve previously attended yoga  at Temple Emanuel\, you can RSVP for additional classes at tebh.org/class.
URL:https://tebh.org/event/yoga-all-levels-2/2026-09-04/
CATEGORIES:Adult Education,Sisterhood
END:VEVENT
BEGIN:VEVENT
DTSTART;TZID=America/Los_Angeles:20260911T080000
DTEND;TZID=America/Los_Angeles:20260911T090000
DTSTAMP:20260421T032339
CREATED:20260416T213237Z
LAST-MODIFIED:20260416T213237Z
UID:10015685-1789113600-1789117200@tebh.org
SUMMARY:Yoga: All Levels
DESCRIPTION:RSVP at tebh.org/yoga. If you’ve previously attended yoga  at Temple Emanuel\, you can RSVP for additional classes at tebh.org/class.
URL:https://tebh.org/event/yoga-all-levels-2/2026-09-11/
CATEGORIES:Adult Education,Sisterhood
END:VEVENT
BEGIN:VEVENT
DTSTART;TZID=America/Los_Angeles:20260918T080000
DTEND;TZID=America/Los_Angeles:20260918T090000
DTSTAMP:20260421T032339
CREATED:20260416T213237Z
LAST-MODIFIED:20260416T213237Z
UID:10015686-1789718400-1789722000@tebh.org
SUMMARY:Yoga: All Levels
DESCRIPTION:RSVP at tebh.org/yoga. If you’ve previously attended yoga  at Temple Emanuel\, you can RSVP for additional classes at tebh.org/class.
URL:https://tebh.org/event/yoga-all-levels-2/2026-09-18/
CATEGORIES:Adult Education,Sisterhood
END:VEVENT
BEGIN:VEVENT
DTSTART;TZID=America/Los_Angeles:20260925T080000
DTEND;TZID=America/Los_Angeles:20260925T090000
DTSTAMP:20260421T032339
CREATED:20260416T213237Z
LAST-MODIFIED:20260416T213237Z
UID:10015687-1790323200-1790326800@tebh.org
SUMMARY:Yoga: All Levels
DESCRIPTION:RSVP at tebh.org/yoga. If you’ve previously attended yoga  at Temple Emanuel\, you can RSVP for additional classes at tebh.org/class.
URL:https://tebh.org/event/yoga-all-levels-2/2026-09-25/
CATEGORIES:Adult Education,Sisterhood
END:VEVENT
BEGIN:VEVENT
DTSTART;TZID=America/Los_Angeles:20261002T080000
DTEND;TZID=America/Los_Angeles:20261002T090000
DTSTAMP:20260421T032339
CREATED:20260416T213237Z
LAST-MODIFIED:20260416T213237Z
UID:10015688-1790928000-1790931600@tebh.org
SUMMARY:Yoga: All Levels
DESCRIPTION:RSVP at tebh.org/yoga. If you’ve previously attended yoga  at Temple Emanuel\, you can RSVP for additional classes at tebh.org/class.
URL:https://tebh.org/event/yoga-all-levels-2/2026-10-02/
CATEGORIES:Adult Education,Sisterhood
END:VEVENT
BEGIN:VEVENT
DTSTART;TZID=America/Los_Angeles:20261009T080000
DTEND;TZID=America/Los_Angeles:20261009T090000
DTSTAMP:20260421T032339
CREATED:20260416T213237Z
LAST-MODIFIED:20260416T213237Z
UID:10015689-1791532800-1791536400@tebh.org
SUMMARY:Yoga: All Levels
DESCRIPTION:RSVP at tebh.org/yoga. If you’ve previously attended yoga  at Temple Emanuel\, you can RSVP for additional classes at tebh.org/class.
URL:https://tebh.org/event/yoga-all-levels-2/2026-10-09/
CATEGORIES:Adult Education,Sisterhood
END:VEVENT
BEGIN:VEVENT
DTSTART;TZID=America/Los_Angeles:20261016T080000
DTEND;TZID=America/Los_Angeles:20261016T090000
DTSTAMP:20260421T032339
CREATED:20260416T213237Z
LAST-MODIFIED:20260416T213237Z
UID:10015690-1792137600-1792141200@tebh.org
SUMMARY:Yoga: All Levels
DESCRIPTION:RSVP at tebh.org/yoga. If you’ve previously attended yoga  at Temple Emanuel\, you can RSVP for additional classes at tebh.org/class.
URL:https://tebh.org/event/yoga-all-levels-2/2026-10-16/
CATEGORIES:Adult Education,Sisterhood
END:VEVENT
BEGIN:VEVENT
DTSTART;TZID=America/Los_Angeles:20261023T080000
DTEND;TZID=America/Los_Angeles:20261023T090000
DTSTAMP:20260421T032339
CREATED:20260416T213237Z
LAST-MODIFIED:20260416T213237Z
UID:10015691-1792742400-1792746000@tebh.org
SUMMARY:Yoga: All Levels
DESCRIPTION:RSVP at tebh.org/yoga. If you’ve previously attended yoga  at Temple Emanuel\, you can RSVP for additional classes at tebh.org/class.
URL:https://tebh.org/event/yoga-all-levels-2/2026-10-23/
CATEGORIES:Adult Education,Sisterhood
END:VEVENT
BEGIN:VEVENT
DTSTART;TZID=America/Los_Angeles:20261030T080000
DTEND;TZID=America/Los_Angeles:20261030T090000
DTSTAMP:20260421T032339
CREATED:20260416T213237Z
LAST-MODIFIED:20260416T213237Z
UID:10015692-1793347200-1793350800@tebh.org
SUMMARY:Yoga: All Levels
DESCRIPTION:RSVP at tebh.org/yoga. If you’ve previously attended yoga  at Temple Emanuel\, you can RSVP for additional classes at tebh.org/class.
URL:https://tebh.org/event/yoga-all-levels-2/2026-10-30/
CATEGORIES:Adult Education,Sisterhood
END:VEVENT
BEGIN:VEVENT
DTSTART;TZID=America/Los_Angeles:20261106T080000
DTEND;TZID=America/Los_Angeles:20261106T090000
DTSTAMP:20260421T032339
CREATED:20260416T213237Z
LAST-MODIFIED:20260416T213237Z
UID:10015693-1793952000-1793955600@tebh.org
SUMMARY:Yoga: All Levels
DESCRIPTION:RSVP at tebh.org/yoga. If you’ve previously attended yoga  at Temple Emanuel\, you can RSVP for additional classes at tebh.org/class.
URL:https://tebh.org/event/yoga-all-levels-2/2026-11-06/
CATEGORIES:Adult Education,Sisterhood
END:VEVENT
BEGIN:VEVENT
DTSTART;TZID=America/Los_Angeles:20261113T080000
DTEND;TZID=America/Los_Angeles:20261113T090000
DTSTAMP:20260421T032339
CREATED:20260416T213237Z
LAST-MODIFIED:20260416T213237Z
UID:10015694-1794556800-1794560400@tebh.org
SUMMARY:Yoga: All Levels
DESCRIPTION:RSVP at tebh.org/yoga. If you’ve previously attended yoga  at Temple Emanuel\, you can RSVP for additional classes at tebh.org/class.
URL:https://tebh.org/event/yoga-all-levels-2/2026-11-13/
CATEGORIES:Adult Education,Sisterhood
END:VEVENT
END:VCALENDAR