



BEGIN:VCALENDAR
VERSION:2.0
PRODID:-//Temple Emanuel Beverly Hills - ECPv6.15.12.2//NONSGML v1.0//EN
CALSCALE:GREGORIAN
METHOD:PUBLISH
X-ORIGINAL-URL:https://tebh.org
X-WR-CALDESC:Events for Temple Emanuel Beverly Hills
REFRESH-INTERVAL;VALUE=DURATION:PT1H
X-Robots-Tag:noindex
X-PUBLISHED-TTL:PT1H
BEGIN:VTIMEZONE
TZID:America/Los_Angeles
BEGIN:DAYLIGHT
TZOFFSETFROM:-0800
TZOFFSETTO:-0700
TZNAME:PDT
DTSTART:20230312T100000
END:DAYLIGHT
BEGIN:STANDARD
TZOFFSETFROM:-0700
TZOFFSETTO:-0800
TZNAME:PST
DTSTART:20231105T090000
END:STANDARD
BEGIN:DAYLIGHT
TZOFFSETFROM:-0800
TZOFFSETTO:-0700
TZNAME:PDT
DTSTART:20240310T100000
END:DAYLIGHT
BEGIN:STANDARD
TZOFFSETFROM:-0700
TZOFFSETTO:-0800
TZNAME:PST
DTSTART:20241103T090000
END:STANDARD
BEGIN:DAYLIGHT
TZOFFSETFROM:-0800
TZOFFSETTO:-0700
TZNAME:PDT
DTSTART:20250309T100000
END:DAYLIGHT
BEGIN:STANDARD
TZOFFSETFROM:-0700
TZOFFSETTO:-0800
TZNAME:PST
DTSTART:20251102T090000
END:STANDARD
END:VTIMEZONE
BEGIN:VEVENT
DTSTART;TZID=America/Los_Angeles:20240623T093000
DTEND;TZID=America/Los_Angeles:20240623T110000
DTSTAMP:20260424T014521
CREATED:20240418T014859Z
LAST-MODIFIED:20240623T175729Z
UID:10006232-1719135000-1719140400@tebh.org
SUMMARY:Rashi
DESCRIPTION:Engage in an ongoing discussion of the Torah text as seen through the eyes of scholars across generations\, from Talmudic to modern times. Guided by respected teacher Dr. Chaim Plotzker\, learn how the ancient texts and interpretations are relevant to our modern lives. All questions are welcome\, and no previous experience is required. Contact kelley@tebh.org to register.
URL:https://tebh.org/event/rashi-108/
CATEGORIES:Temple Events
END:VEVENT
BEGIN:VEVENT
DTSTART;TZID=America/Los_Angeles:20240626T190000
DTEND;TZID=America/Los_Angeles:20240626T200000
DTSTAMP:20260424T014521
CREATED:20240528T214914Z
LAST-MODIFIED:20240626T181133Z
UID:10006275-1719428400-1719432000@tebh.org
SUMMARY:Our College Students and the Campus Climate
DESCRIPTION:USC Hillel’s Executive Director\, Dave Cohn\, will speak about the challenging climate on college campuses around the country. RSVP at tebh.org/lifelonglearning.
URL:https://tebh.org/event/our-college-students-and-the-campus-climate/
CATEGORIES:Temple Events
END:VEVENT
BEGIN:VEVENT
DTSTART;TZID=America/Los_Angeles:20240627T123000
DTEND;TZID=America/Los_Angeles:20240627T133000
DTSTAMP:20260424T014521
CREATED:20240605T184629Z
LAST-MODIFIED:20240627T181129Z
UID:10006915-1719491400-1719495000@tebh.org
SUMMARY:Tune in Torah
DESCRIPTION:Explore the Torah every Thursday with Rabbi Jonathan Aaron via Zoom. https://us02web.zoom.us/j/81075361741?pwd=kkaZrPx7IOohPid6S9aJZ7bwiedfPS.1 \nGo to tebh.org/tunein for more information.
URL:https://tebh.org/event/tune-in-torah-125/
CATEGORIES:Temple Events
END:VEVENT
BEGIN:VEVENT
DTSTART;TZID=America/Los_Angeles:20240628T181500
DTEND;TZID=America/Los_Angeles:20240628T194500
DTSTAMP:20260424T014521
CREATED:20240327T220348Z
LAST-MODIFIED:20240628T184129Z
UID:10006213-1719598500-1719603900@tebh.org
SUMMARY:Simply Shabbat
DESCRIPTION:
URL:https://tebh.org/event/simply-shabbat-116/
CATEGORIES:Shabbat Services
END:VEVENT
BEGIN:VEVENT
DTSTART;TZID=America/Los_Angeles:20240629T100000
DTEND;TZID=America/Los_Angeles:20240629T113000
DTSTAMP:20260424T014521
CREATED:20231129T193457Z
LAST-MODIFIED:20240628T184129Z
UID:10004970-1719655200-1719660600@tebh.org
SUMMARY:Shabbat Morning @Emanuel
DESCRIPTION:Join your temple clergy for Shabbat Morning @Emanuel.
URL:https://tebh.org/event/shabbat-morning-emanuel-292/
CATEGORIES:Shabbat Services
END:VEVENT
BEGIN:VEVENT
DTSTART;TZID=America/Los_Angeles:20240629T120000
DTEND;TZID=America/Los_Angeles:20240629T123000
DTSTAMP:20260424T014521
CREATED:20240523T211143Z
LAST-MODIFIED:20240629T181159Z
UID:10005135-1719662400-1719664200@tebh.org
SUMMARY:Minyan Lunch
DESCRIPTION:
URL:https://tebh.org/event/minyan-lunch-71/
CATEGORIES:Temple Events
END:VEVENT
END:VCALENDAR