



BEGIN:VCALENDAR
VERSION:2.0
PRODID:-//Temple Emanuel Beverly Hills - ECPv6.15.12.2//NONSGML v1.0//EN
CALSCALE:GREGORIAN
METHOD:PUBLISH
X-WR-CALNAME:Temple Emanuel Beverly Hills
X-ORIGINAL-URL:https://tebh.org
X-WR-CALDESC:Events for Temple Emanuel Beverly Hills
REFRESH-INTERVAL;VALUE=DURATION:PT1H
X-Robots-Tag:noindex
X-PUBLISHED-TTL:PT1H
BEGIN:VTIMEZONE
TZID:America/Los_Angeles
BEGIN:DAYLIGHT
TZOFFSETFROM:-0800
TZOFFSETTO:-0700
TZNAME:PDT
DTSTART:20230312T100000
END:DAYLIGHT
BEGIN:STANDARD
TZOFFSETFROM:-0700
TZOFFSETTO:-0800
TZNAME:PST
DTSTART:20231105T090000
END:STANDARD
BEGIN:DAYLIGHT
TZOFFSETFROM:-0800
TZOFFSETTO:-0700
TZNAME:PDT
DTSTART:20240310T100000
END:DAYLIGHT
BEGIN:STANDARD
TZOFFSETFROM:-0700
TZOFFSETTO:-0800
TZNAME:PST
DTSTART:20241103T090000
END:STANDARD
BEGIN:DAYLIGHT
TZOFFSETFROM:-0800
TZOFFSETTO:-0700
TZNAME:PDT
DTSTART:20250309T100000
END:DAYLIGHT
BEGIN:STANDARD
TZOFFSETFROM:-0700
TZOFFSETTO:-0800
TZNAME:PST
DTSTART:20251102T090000
END:STANDARD
END:VTIMEZONE
BEGIN:VEVENT
DTSTART;TZID=America/Los_Angeles:20240915T090000
DTEND;TZID=America/Los_Angeles:20240915T120000
DTSTAMP:20260423T230920
CREATED:20240712T175659Z
LAST-MODIFIED:20240914T222640Z
UID:10007053-1726390800-1726401600@tebh.org
SUMMARY:Religious School
DESCRIPTION:
URL:https://tebh.org/event/religious-school-99/
CATEGORIES:Religious School
END:VEVENT
BEGIN:VEVENT
DTSTART;TZID=America/Los_Angeles:20240915T093000
DTEND;TZID=America/Los_Angeles:20240915T110000
DTSTAMP:20260423T230920
CREATED:20240808T201121Z
LAST-MODIFIED:20240914T215647Z
UID:10007070-1726392600-1726398000@tebh.org
SUMMARY:Rashi
DESCRIPTION:Engage in an ongoing discussion of the Torah text as seen through the eyes of scholars across generations\, from Talmudic to modern times. Guided by respected teacher Dr. Chaim Plotzker\, learn how the ancient texts and interpretations are relevant to our modern lives. All questions are welcome\, and no previous experience is required. Contact kelley@tebh.org to register.
URL:https://tebh.org/event/rashi-113/
CATEGORIES:Temple Events
END:VEVENT
BEGIN:VEVENT
DTSTART;TZID=America/Los_Angeles:20240918T143000
DTEND;TZID=America/Los_Angeles:20240918T163000
DTSTAMP:20260423T230920
CREATED:20240218T001837Z
LAST-MODIFIED:20240917T234142Z
UID:10005054-1726669800-1726677000@tebh.org
SUMMARY:Sages of All Ages
DESCRIPTION:Join our warm camaraderie as we share the wisdom of one another's lives. Make new friends and connections in our Sages for All Ages community and events. \nhttps://chaivillagela.org/content.aspx?page_id=4002&club_id=599592&item_id=2073869
URL:https://tebh.org/event/sages-of-all-ages-14/
CATEGORIES:ChaiVillage
END:VEVENT
BEGIN:VEVENT
DTSTART;TZID=America/Los_Angeles:20240919T123000
DTEND;TZID=America/Los_Angeles:20240919T133000
DTSTAMP:20260423T230920
CREATED:20240605T184632Z
LAST-MODIFIED:20240918T222625Z
UID:10006926-1726749000-1726752600@tebh.org
SUMMARY:Tune in Torah
DESCRIPTION:Explore the Torah every Thursday with Rabbi Jonathan Aaron via Zoom. https://us02web.zoom.us/j/81075361741?pwd=kkaZrPx7IOohPid6S9aJZ7bwiedfPS.1 \nGo to tebh.org/tunein for more information.
URL:https://tebh.org/event/tune-in-torah-136/
CATEGORIES:Temple Events
END:VEVENT
BEGIN:VEVENT
DTSTART;TZID=America/Los_Angeles:20240920T193000
DTEND;TZID=America/Los_Angeles:20240920T210000
DTSTAMP:20260423T230920
CREATED:20240704T185650Z
LAST-MODIFIED:20240920T232723Z
UID:10007019-1726860600-1726866000@tebh.org
SUMMARY:LA Oneg
DESCRIPTION:
URL:https://tebh.org/event/la-oneg/
CATEGORIES:Shabbat Services
END:VEVENT
BEGIN:VEVENT
DTSTART;TZID=America/Los_Angeles:20240921T090000
DTEND;TZID=America/Los_Angeles:20240921T094500
DTSTAMP:20260423T230920
CREATED:20240521T224930Z
LAST-MODIFIED:20240920T232723Z
UID:10006262-1726909200-1726911900@tebh.org
SUMMARY:Shabbat Morning @Emanuel Torah Study
DESCRIPTION:
URL:https://tebh.org/event/shabbat-morning-emanuel-torah-study-22/
CATEGORIES:Shabbat Services
END:VEVENT
BEGIN:VEVENT
DTSTART;TZID=America/Los_Angeles:20240921T100000
DTEND;TZID=America/Los_Angeles:20240921T113000
DTSTAMP:20260423T230920
CREATED:20240521T224930Z
LAST-MODIFIED:20240920T232724Z
UID:10006263-1726912800-1726918200@tebh.org
SUMMARY:Julian Tabiban Bar Mitzvah and Shabbat Morning @Emanuel
DESCRIPTION:
URL:https://tebh.org/event/shabbat-morning-emanuel-and-julian-tabiban-bar-mitzvah/
CATEGORIES:Shabbat Services
END:VEVENT
BEGIN:VEVENT
DTSTART;TZID=America/Los_Angeles:20240921T120000
DTEND;TZID=America/Los_Angeles:20240921T123000
DTSTAMP:20260423T230920
CREATED:20240711T191148Z
LAST-MODIFIED:20240920T222630Z
UID:10007027-1726920000-1726921800@tebh.org
SUMMARY:Minyan lunch
DESCRIPTION:
URL:https://tebh.org/event/minyan-lunch-83/
CATEGORIES:Temple Events
END:VEVENT
END:VCALENDAR