



BEGIN:VCALENDAR
VERSION:2.0
PRODID:-//Temple Emanuel Beverly Hills - ECPv6.15.12.2//NONSGML v1.0//EN
CALSCALE:GREGORIAN
METHOD:PUBLISH
X-WR-CALNAME:Temple Emanuel Beverly Hills
X-ORIGINAL-URL:https://tebh.org
X-WR-CALDESC:Events for Temple Emanuel Beverly Hills
REFRESH-INTERVAL;VALUE=DURATION:PT1H
X-Robots-Tag:noindex
X-PUBLISHED-TTL:PT1H
BEGIN:VTIMEZONE
TZID:America/Los_Angeles
BEGIN:DAYLIGHT
TZOFFSETFROM:-0800
TZOFFSETTO:-0700
TZNAME:PDT
DTSTART:20230312T100000
END:DAYLIGHT
BEGIN:STANDARD
TZOFFSETFROM:-0700
TZOFFSETTO:-0800
TZNAME:PST
DTSTART:20231105T090000
END:STANDARD
BEGIN:DAYLIGHT
TZOFFSETFROM:-0800
TZOFFSETTO:-0700
TZNAME:PDT
DTSTART:20240310T100000
END:DAYLIGHT
BEGIN:STANDARD
TZOFFSETFROM:-0700
TZOFFSETTO:-0800
TZNAME:PST
DTSTART:20241103T090000
END:STANDARD
BEGIN:DAYLIGHT
TZOFFSETFROM:-0800
TZOFFSETTO:-0700
TZNAME:PDT
DTSTART:20250309T100000
END:DAYLIGHT
BEGIN:STANDARD
TZOFFSETFROM:-0700
TZOFFSETTO:-0800
TZNAME:PST
DTSTART:20251102T090000
END:STANDARD
END:VTIMEZONE
BEGIN:VEVENT
DTSTART;TZID=America/Los_Angeles:20240922T090000
DTEND;TZID=America/Los_Angeles:20240922T120000
DTSTAMP:20260423T214242
CREATED:20240712T175659Z
LAST-MODIFIED:20240921T224126Z
UID:10007054-1726995600-1727006400@tebh.org
SUMMARY:Religious School
DESCRIPTION:
URL:https://tebh.org/event/religious-school-100/
CATEGORIES:Religious School
END:VEVENT
BEGIN:VEVENT
DTSTART;TZID=America/Los_Angeles:20240922T093000
DTEND;TZID=America/Los_Angeles:20240922T110000
DTSTAMP:20260423T214242
CREATED:20240808T201121Z
LAST-MODIFIED:20240921T222631Z
UID:10007071-1726997400-1727002800@tebh.org
SUMMARY:Rashi
DESCRIPTION:Engage in an ongoing discussion of the Torah text as seen through the eyes of scholars across generations\, from Talmudic to modern times. Guided by respected teacher Dr. Chaim Plotzker\, learn how the ancient texts and interpretations are relevant to our modern lives. All questions are welcome\, and no previous experience is required. Contact kelley@tebh.org to register.
URL:https://tebh.org/event/rashi-114/
CATEGORIES:Temple Events
END:VEVENT
BEGIN:VEVENT
DTSTART;TZID=America/Los_Angeles:20240926T123000
DTEND;TZID=America/Los_Angeles:20240926T133000
DTSTAMP:20260423T214242
CREATED:20240605T184632Z
LAST-MODIFIED:20240925T231139Z
UID:10006927-1727353800-1727357400@tebh.org
SUMMARY:Tune in Torah
DESCRIPTION:Explore the Torah every Thursday with Rabbi Jonathan Aaron via Zoom. https://us02web.zoom.us/j/81075361741?pwd=kkaZrPx7IOohPid6S9aJZ7bwiedfPS.1 \nGo to tebh.org/tunein for more information.
URL:https://tebh.org/event/tune-in-torah-137/
CATEGORIES:Temple Events
END:VEVENT
BEGIN:VEVENT
DTSTART;TZID=America/Los_Angeles:20240927T181500
DTEND;TZID=America/Los_Angeles:20240927T194500
DTSTAMP:20260423T214242
CREATED:20240704T185651Z
LAST-MODIFIED:20240928T001127Z
UID:10007020-1727460900-1727466300@tebh.org
SUMMARY:Simply Shabbat
DESCRIPTION:Join us tonight as Dr. Cochav Elkayam-Levy\, Founder of the Civil Commission on October 7th Crimes by Hamas Against Women and Children.
URL:https://tebh.org/event/simply-shabbat-127/
CATEGORIES:Shabbat Services
END:VEVENT
BEGIN:VEVENT
DTSTART;TZID=America/Los_Angeles:20240928T100000
DTEND;TZID=America/Los_Angeles:20240928T113000
DTSTAMP:20260423T214242
CREATED:20240704T185651Z
LAST-MODIFIED:20240928T001127Z
UID:10007021-1727517600-1727523000@tebh.org
SUMMARY:Shabbat Morning @Emanuel
DESCRIPTION:Join your temple clergy for Shabbat Morning @Emanuel.
URL:https://tebh.org/event/shabbat-morning-emanuel-355/
CATEGORIES:Shabbat Services
END:VEVENT
BEGIN:VEVENT
DTSTART;TZID=America/Los_Angeles:20240928T120000
DTEND;TZID=America/Los_Angeles:20240928T123000
DTSTAMP:20260423T214242
CREATED:20240711T191148Z
LAST-MODIFIED:20240927T232635Z
UID:10007028-1727524800-1727526600@tebh.org
SUMMARY:Minyan lunch
DESCRIPTION:
URL:https://tebh.org/event/minyan-lunch-84/
CATEGORIES:Temple Events
END:VEVENT
BEGIN:VEVENT
DTSTART;TZID=America/Los_Angeles:20240928T190000
DTEND;TZID=America/Los_Angeles:20240928T210000
DTSTAMP:20260423T214242
CREATED:20240704T185651Z
LAST-MODIFIED:20240929T001209Z
UID:10007022-1727550000-1727557200@tebh.org
SUMMARY:A Community Selichot: Reflection and Renewal
DESCRIPTION:A collaboration between Temple Emanuel of Beverly Hills\, Stephen Wise\, and Wilshire Boulevard Temple.\nJoin us for a delicious Wine and Cheese Reception at 6:15 p.m.\nSelichot service including Meditations\, Music\, and Musings by your community clergy at 7 p.m.
URL:https://tebh.org/event/slichot-service/
LOCATION:Temple Emanuel
CATEGORIES:Shabbat Services
ATTACH;FMTTYPE=image/png:https://tebh.org/wp-content/uploads/2020/08/HHD-2024_Selichot-169.png
END:VEVENT
END:VCALENDAR